From mboxrd@z Thu Jan  1 00:00:00 1970
Return-Path: <test-report-bounces@dpdk.org>
Received: from mails.dpdk.org (mails.dpdk.org [217.70.189.124])
	by inbox.dpdk.org (Postfix) with ESMTP id 0AEFF43347
	for <public@inbox.dpdk.org>; Thu, 16 Nov 2023 18:05:58 +0100 (CET)
Received: from mails.dpdk.org (localhost [127.0.0.1])
	by mails.dpdk.org (Postfix) with ESMTP id 05FF040150;
	Thu, 16 Nov 2023 18:05:58 +0100 (CET)
Received: from mail-lf1-f98.google.com (mail-lf1-f98.google.com
 [209.85.167.98]) by mails.dpdk.org (Postfix) with ESMTP id D0C8440150
 for <test-report@dpdk.org>; Thu, 16 Nov 2023 18:05:56 +0100 (CET)
Received: by mail-lf1-f98.google.com with SMTP id
 2adb3069b0e04-50943ccbbaeso1493193e87.2
 for <test-report@dpdk.org>; Thu, 16 Nov 2023 09:05:56 -0800 (PST)
DKIM-Signature: v=1; a=rsa-sha256; c=relaxed/relaxed;
 d=iol.unh.edu; s=unh-iol; t=1700154356; x=1700759156; darn=dpdk.org;
 h=cc:to:from:subject:message-id:date:from:to:cc:subject:date
 :message-id:reply-to;
 bh=hJn53lYv/mqTLIF8P0WrKYgXCcQ/C40XymuFDfFR9Ec=;
 b=bnyezPh+3+szbBbwh3DEtRPsGL3cfpF9EvkGw5GwCGyJdUxfDk+ZWLgAQQIzEa//vw
 7+5stcmcB5XQO3yIVqR0AMunKMTWShEfAQZuVOR6+FgFO6/zJFEtas9PE7fFgNwUoP7z
 9+gbi74+NVCeyCK92KDmvTl66+oJj4BaAY/gY=
X-Google-DKIM-Signature: v=1; a=rsa-sha256; c=relaxed/relaxed;
 d=1e100.net; s=20230601; t=1700154356; x=1700759156;
 h=cc:to:from:subject:message-id:date:x-gm-message-state:from:to:cc
 :subject:date:message-id:reply-to;
 bh=hJn53lYv/mqTLIF8P0WrKYgXCcQ/C40XymuFDfFR9Ec=;
 b=YwoalqDCwUsV698FgJsFKO/fLZ7stpD2EAtSGXbTB19CZ0CJtJjdqAKp6hrKhq3f51
 Q7C1niDB4xiBL5abchVqmrayBEvRtjai1dwayv/54n2kQ3QLJro23dGJvVZKG8QWqkfg
 euJYDfgiJRyi53KoucfbYst1/3+2/9jcN6ORnqJ1VIfO2TTyRXiVhiJYJr72pPg2mNxD
 ddxcdDZs6NIgIFiGD+2FrenmxRfBxdQmGq1Xt76QcMmEQQ6nizsBFJEI1E1s5ENCf9pt
 8gjeGSu+S3hYOFzACVmFVhUwpIbcgGfe4O0x47J1PAJIbaarkLsX9AO1dWFSzHiYZHCa
 fypw==
X-Gm-Message-State: AOJu0YzRwOcwMVjmEGIlfbDh4Zp1EV95D4mEA/UHQ8NlESCpxH6A3oqE
 cIWSxyO0jhHPvCgvfN4lpKMVtZKzV1v2eQeLAGy8Cm5nxax715eLojJYoA==
X-Google-Smtp-Source: AGHT+IFLchtGlhep98ID2nBvPaecFH0jTbr7hb80JNyE5w2NBifdjE1TBbUS1sKzAQ4UOwY4Q3hCCob92qbQ
X-Received: by 2002:a05:6512:3441:b0:507:99fe:28f3 with SMTP id
 j1-20020a056512344100b0050799fe28f3mr10393066lfr.34.1700154356421; 
 Thu, 16 Nov 2023 09:05:56 -0800 (PST)
Received: from postal.iol.unh.edu (postal.iol.unh.edu. [132.177.123.84])
 by smtp-relay.gmail.com with ESMTPS id
 d2-20020a194f02000000b005031774a51csm36182lfb.143.2023.11.16.09.05.56
 (version=TLS1_2 cipher=ECDHE-ECDSA-AES128-GCM-SHA256 bits=128/128);
 Thu, 16 Nov 2023 09:05:56 -0800 (PST)
X-Relaying-Domain: iol.unh.edu
Date: Thu, 16 Nov 2023 09:05:56 -0800 (PST)
Message-ID: <65564bf4.190a0220.ea1ab.0717SMTPIN_ADDED_MISSING@mx.google.com>
Received: from [172.21.0.2] (unknown [172.18.0.240])
 by postal.iol.unh.edu (Postfix) with ESMTP id 3EC06605C318;
 Thu, 16 Nov 2023 12:05:55 -0500 (EST)
Subject: |SUCCESS| pw134427 [PATCH] net/txgbe: fix out of bound access
From: dpdklab@iol.unh.edu
To: Test Report <test-report@dpdk.org>
Cc: dpdk-test-reports@iol.unh.edu
Content-Type: text/plain
X-BeenThere: test-report@dpdk.org
X-Mailman-Version: 2.1.29
Precedence: list
List-Id: automatic DPDK test reports <test-report.dpdk.org>
List-Unsubscribe: <https://mails.dpdk.org/options/test-report>,
 <mailto:test-report-request@dpdk.org?subject=unsubscribe>
List-Archive: <http://mails.dpdk.org/archives/test-report/>
List-Post: <mailto:test-report@dpdk.org>
List-Help: <mailto:test-report-request@dpdk.org?subject=help>
List-Subscribe: <https://mails.dpdk.org/listinfo/test-report>,
 <mailto:test-report-request@dpdk.org?subject=subscribe>
Errors-To: test-report-bounces@dpdk.org

Test-Label: iol-compile-arm64-testing
Test-Status: SUCCESS
http://dpdk.org/patch/134427

_Testing PASS_

Submitter: Ferruh Yigit <ferruh.yigit@amd.com>
Date: Thursday, November 16 2023 14:07:18 
DPDK git baseline: Repo:dpdk
  Branch: master
  CommitID:92d7ce4afc4a558f27bbc8368823c625f4e0f9dc

134427 --> testing pass

Test environment and result as below:

+--------------------------------------+--------------------+
|             Environment              | dpdk_meson_compile |
+======================================+====================+
| Ubuntu 20.04 ARM SVE                 | PASS               |
+--------------------------------------+--------------------+
| Ubuntu 20.04 ARM GCC Cross Compile   | PASS               |
+--------------------------------------+--------------------+
| Ubuntu 20.04 (ARM)                   | PASS               |
+--------------------------------------+--------------------+
| Ubuntu 20.04 ARM Clang Cross Compile | PASS               |
+--------------------------------------+--------------------+
| Fedora 37 (ARM)                      | PASS               |
+--------------------------------------+--------------------+
| Debian 11 (Buster) (ARM)             | PASS               |
+--------------------------------------+--------------------+


Ubuntu 20.04 ARM SVE
	Kernel: 5.4.0-80-generic
	Compiler: gcc 10.3.0 (Ubuntu 10.3.0-1ubuntu1~20.04)

Ubuntu 20.04 ARM GCC Cross Compile
	Kernel: 5.4.0-72-generic
	Compiler: aarch64-linux-gnu-gcc (Ubuntu 9.3.0-17ubuntu1~20.04) 9.3.0

Ubuntu 20.04 (ARM)
	Kernel: Container Host Kernel
	Compiler: gcc 9.4.0

Ubuntu 20.04 ARM Clang Cross Compile
	Kernel: 5.4.0-72-generic
	Compiler: clang version 10.0.0-4ubuntu1

Fedora 37 (ARM)
	Kernel: Depends on container host
	Compiler: gcc 12.3.1

Debian 11 (Buster) (ARM)
	Kernel: Container Host Kernel
	Compiler: gcc 10.2.1

To view detailed results, visit:
https://lab.dpdk.org/results/dashboard/patchsets/28399/

UNH-IOL DPDK Community Lab

To manage your email subscriptions, visit: 
https://lab.dpdk.org/results/dashboard/preferences/subscriptions/