From mboxrd@z Thu Jan  1 00:00:00 1970
Return-Path: <test-report-bounces@dpdk.org>
Received: from mails.dpdk.org (mails.dpdk.org [217.70.189.124])
	by inbox.dpdk.org (Postfix) with ESMTP id A215F43347
	for <public@inbox.dpdk.org>; Thu, 16 Nov 2023 18:13:21 +0100 (CET)
Received: from mails.dpdk.org (localhost [127.0.0.1])
	by mails.dpdk.org (Postfix) with ESMTP id 9BF4540150;
	Thu, 16 Nov 2023 18:13:21 +0100 (CET)
Received: from mail-lf1-f99.google.com (mail-lf1-f99.google.com
 [209.85.167.99]) by mails.dpdk.org (Postfix) with ESMTP id 8683640150
 for <test-report@dpdk.org>; Thu, 16 Nov 2023 18:13:20 +0100 (CET)
Received: by mail-lf1-f99.google.com with SMTP id
 2adb3069b0e04-5099184f8a3so1556948e87.2
 for <test-report@dpdk.org>; Thu, 16 Nov 2023 09:13:20 -0800 (PST)
DKIM-Signature: v=1; a=rsa-sha256; c=relaxed/relaxed;
 d=iol.unh.edu; s=unh-iol; t=1700154800; x=1700759600; darn=dpdk.org;
 h=cc:to:from:subject:message-id:date:from:to:cc:subject:date
 :message-id:reply-to;
 bh=8B9TtpTdKeetorXK61T5ktz8lEV1vGaFt7nrC3rYJmY=;
 b=OQLqE5cWDyc5vzNkT0Dgi/JLgCuB8WIanV1XRPvMK79n90NfPZdSvw7DXclA0xm2E7
 ydiN9APj6H5+pz+KuWdeaxytO5Dn27uPdrgToLD34pv2OVP5rCdU19ENBBmU2v8LS17Y
 /l2wZ4yLqgUnZ/9cEr3jCbAoMn4HwQ7EV+yvY=
X-Google-DKIM-Signature: v=1; a=rsa-sha256; c=relaxed/relaxed;
 d=1e100.net; s=20230601; t=1700154800; x=1700759600;
 h=cc:to:from:subject:message-id:date:x-gm-message-state:from:to:cc
 :subject:date:message-id:reply-to;
 bh=8B9TtpTdKeetorXK61T5ktz8lEV1vGaFt7nrC3rYJmY=;
 b=nMj5JJY1AUMM3LKT3kH9D24p7l7jOYaJPH1C7eZHCd7a/NjlLRHLwmpjVPQdZL4/dZ
 FqlEbJdVuk4UHRL1OnJVtuPDXb7JRkiIiom1Tlah2lu6sadIpTJbt9GapCVq+JYbKrP5
 /59F9JdBAcujulv8Sc8JlbpZUuq0pJPSt/2o615VgLItLHEMmgsP18enbX/Y9tL+2RmZ
 n4YjOF5GufxApf1dPKND70KB4oOhaAZMrkgwACKwGMtE9koUyYOhhhCHRxe6+nPQW8Fg
 sBWq8TNgwi6VXYvT/VUuMGIxQaYrJ73kP39hW47vJ0MIEM96LnCqkm9fu6F1857J0yKG
 pMyw==
X-Gm-Message-State: AOJu0YyTCFpOrQXtRzviLZHD3W7b4DGED/udqja0VJ9mLKqzqJ9EcfiW
 aw5geRUu9BGa97mlMC9CKtVPwBinc7k8NAP6U+mDVg+87KzIEKzgAhOEe0W0wdinEBtYc6rFuQ=
 =
X-Google-Smtp-Source: AGHT+IEJejG+d0zquLGLgP3pxze2xyu/y/3QKPsJwNnQi6mZwlPs/OUoobXqTBNJx4p7XzMC8sHDVTZOXLmh
X-Received: by 2002:a05:6512:1143:b0:509:8e20:e7c6 with SMTP id
 m3-20020a056512114300b005098e20e7c6mr10930993lfg.32.1700154799899; 
 Thu, 16 Nov 2023 09:13:19 -0800 (PST)
Received: from postal.iol.unh.edu (postal.iol.unh.edu.
 [2606:4100:3880:1234::84]) by smtp-relay.gmail.com with ESMTPS id
 h4-20020a056512350400b005098ec1a691sm35449lfs.25.2023.11.16.09.13.19
 (version=TLS1_2 cipher=ECDHE-ECDSA-AES128-GCM-SHA256 bits=128/128);
 Thu, 16 Nov 2023 09:13:19 -0800 (PST)
X-Relaying-Domain: iol.unh.edu
Date: Thu, 16 Nov 2023 09:13:19 -0800 (PST)
Message-ID: <65564daf.050a0220.f3e6e.0613SMTPIN_ADDED_MISSING@mx.google.com>
Received: from [172.21.0.3] (unknown [172.18.0.240])
 by postal.iol.unh.edu (Postfix) with ESMTP id BA531605C318;
 Thu, 16 Nov 2023 12:13:18 -0500 (EST)
Subject: |SUCCESS| pw134427 [PATCH] net/txgbe: fix out of bound access
From: dpdklab@iol.unh.edu
To: Test Report <test-report@dpdk.org>
Cc: dpdk-test-reports@iol.unh.edu
Content-Type: text/plain
X-BeenThere: test-report@dpdk.org
X-Mailman-Version: 2.1.29
Precedence: list
List-Id: automatic DPDK test reports <test-report.dpdk.org>
List-Unsubscribe: <https://mails.dpdk.org/options/test-report>,
 <mailto:test-report-request@dpdk.org?subject=unsubscribe>
List-Archive: <http://mails.dpdk.org/archives/test-report/>
List-Post: <mailto:test-report@dpdk.org>
List-Help: <mailto:test-report-request@dpdk.org?subject=help>
List-Subscribe: <https://mails.dpdk.org/listinfo/test-report>,
 <mailto:test-report-request@dpdk.org?subject=subscribe>
Errors-To: test-report-bounces@dpdk.org

Test-Label: iol-unit-amd64-testing
Test-Status: SUCCESS
http://dpdk.org/patch/134427

_Testing PASS_

Submitter: Ferruh Yigit <ferruh.yigit@amd.com>
Date: Thursday, November 16 2023 14:07:18 
DPDK git baseline: Repo:dpdk
  Branch: master
  CommitID:92d7ce4afc4a558f27bbc8368823c625f4e0f9dc

134427 --> testing pass

Test environment and result as below:

+---------------------+----------------+
|     Environment     | dpdk_unit_test |
+=====================+================+
| Windows Server 2019 | PASS           |
+---------------------+----------------+
| CentOS Stream 9     | PASS           |
+---------------------+----------------+
| CentOS Stream 8     | PASS           |
+---------------------+----------------+
| Debian Buster       | PASS           |
+---------------------+----------------+
| Fedora 37           | PASS           |
+---------------------+----------------+
| Debian Bullseye     | PASS           |
+---------------------+----------------+
| Fedora 38           | PASS           |
+---------------------+----------------+


Windows Server 2019
	Kernel: 10.0
	Compiler: clang 14.0 and gcc 8.1.0 (MinGW)

CentOS Stream 9
	Kernel: 4.18.0-240.10.1.el8_3.x86_64
	Compiler: gcc 11.3.1 20220421

CentOS Stream 8
	Kernel: 4.18.0-240.10.1.el8_3.x86_64
	Compiler: gcc 8.4.1 20200928

Debian Buster
	Kernel: 5.4.0-122-generic
	Compiler: gcc 8.3.0-6

Fedora 37
	Kernel: Depends on container host system
	Compiler: gcc 12.3.1

Debian Bullseye
	Kernel: 5.4.0-122-generic
	Compiler: gcc 10.2.1-6

Fedora 38
	Kernel: Depends on container host
	Compiler: gcc 13.1.1

To view detailed results, visit:
https://lab.dpdk.org/results/dashboard/patchsets/28399/

UNH-IOL DPDK Community Lab

To manage your email subscriptions, visit: 
https://lab.dpdk.org/results/dashboard/preferences/subscriptions/