From mboxrd@z Thu Jan  1 00:00:00 1970
Return-Path: <test-report-bounces@dpdk.org>
Received: from mails.dpdk.org (mails.dpdk.org [217.70.189.124])
	by inbox.dpdk.org (Postfix) with ESMTP id 1116F43347
	for <public@inbox.dpdk.org>; Thu, 16 Nov 2023 19:39:54 +0100 (CET)
Received: from mails.dpdk.org (localhost [127.0.0.1])
	by mails.dpdk.org (Postfix) with ESMTP id 0C2DC402CB;
	Thu, 16 Nov 2023 19:39:54 +0100 (CET)
Received: from mail-wr1-f98.google.com (mail-wr1-f98.google.com
 [209.85.221.98]) by mails.dpdk.org (Postfix) with ESMTP id CA948402CB
 for <test-report@dpdk.org>; Thu, 16 Nov 2023 19:39:50 +0100 (CET)
Received: by mail-wr1-f98.google.com with SMTP id
 ffacd0b85a97d-32faea0fa1fso708556f8f.1
 for <test-report@dpdk.org>; Thu, 16 Nov 2023 10:39:50 -0800 (PST)
DKIM-Signature: v=1; a=rsa-sha256; c=relaxed/relaxed;
 d=iol.unh.edu; s=unh-iol; t=1700159990; x=1700764790; darn=dpdk.org;
 h=cc:to:from:subject:message-id:date:from:to:cc:subject:date
 :message-id:reply-to;
 bh=IsdG125wGwdgqfg3FEjUEWtZAqc3HI0i4BuTAut/v4o=;
 b=Z+kU1DFwFhdFAta4m47rXeP/j+ZlNAuzskFR6RVYtj75Xtnjv8SDfdgnxLLyrvg8I3
 ZbidPIeBHt/k4Wvv/zo0bWZpNHsT5TvQ68akp+zZWlPQLaqL7Teqs3EohOdxtN98gQ8d
 mogefnN1mlM0S6A5V96GDWXsgvyqKJ6eO/0tw=
X-Google-DKIM-Signature: v=1; a=rsa-sha256; c=relaxed/relaxed;
 d=1e100.net; s=20230601; t=1700159990; x=1700764790;
 h=cc:to:from:subject:message-id:date:x-gm-message-state:from:to:cc
 :subject:date:message-id:reply-to;
 bh=IsdG125wGwdgqfg3FEjUEWtZAqc3HI0i4BuTAut/v4o=;
 b=GxVq8vmXIfGpW2zyvMFzDJGwTXTevIpEHUe2MXxh8TXkFa+v0JPzNJ6Z4c0EMsNolV
 SEotW0GIQWaEO5RgDKldaqHL+NAoamBhMXTgQq7HkyBBTdVEOn4l1+wB/b482u3DAktr
 WfubWrJ/NmkTwOlF4Y6mDz0yEtvk+qzpsqb9q3ITYCochmWxmUKll0RnrhEiNhsFNjlj
 b6UdEiDgrGy0ktNW0jpVWE4Ljf0LPGaGY3/rq1ZRigQItYE5RFZphULoZGmReJQOjszY
 QY3vy6RMcyLsheV5JYgAGexcJN2jWcXeXH6/GzoYGed1GjoqsMPEYkwAj+OxE6+rznCe
 XWdw==
X-Gm-Message-State: AOJu0YyK/znrY6QAwVjoWcEiLLZ2AEgyjOP1Q1K7kIJh1eK4Qsf5Qk9d
 UojB1Orzk5OJm4f/1J4DMO58cA3AxD/sLFWem1hGORx7Yu+QJrb9Xdh0KVCh8bdV4zOHyPmu3A=
 =
X-Google-Smtp-Source: AGHT+IGVt9BD69T38XuRytlqyJPmPykr9QT7GpfjOiK6LwDnC5TBZlxx1qJnevTWE5Q5pkjos6z32RE7+oNb
X-Received: by 2002:a05:6000:2c5:b0:32f:87e8:707d with SMTP id
 o5-20020a05600002c500b0032f87e8707dmr2334846wry.5.1700159990435; 
 Thu, 16 Nov 2023 10:39:50 -0800 (PST)
Received: from postal.iol.unh.edu (postal.iol.unh.edu.
 [2606:4100:3880:1234::84]) by smtp-relay.gmail.com with ESMTPS id
 l8-20020a05600012c800b0032330d02410sm11031wrx.89.2023.11.16.10.39.50
 (version=TLS1_2 cipher=ECDHE-ECDSA-AES128-GCM-SHA256 bits=128/128);
 Thu, 16 Nov 2023 10:39:50 -0800 (PST)
X-Relaying-Domain: iol.unh.edu
Date: Thu, 16 Nov 2023 10:39:50 -0800 (PST)
Message-ID: <655661f6.050a0220.920d3.00f5SMTPIN_ADDED_MISSING@mx.google.com>
Received: from [172.17.0.4] (unknown [172.18.0.215])
 by postal.iol.unh.edu (Postfix) with ESMTP id 89411605C318;
 Thu, 16 Nov 2023 13:39:49 -0500 (EST)
Subject: |SUCCESS| pw134429 [PATCH] maintainers: update for ISA-L PMD driver
From: dpdklab@iol.unh.edu
To: Test Report <test-report@dpdk.org>
Cc: dpdk-test-reports@iol.unh.edu
Content-Type: text/plain
X-BeenThere: test-report@dpdk.org
X-Mailman-Version: 2.1.29
Precedence: list
List-Id: automatic DPDK test reports <test-report.dpdk.org>
List-Unsubscribe: <https://mails.dpdk.org/options/test-report>,
 <mailto:test-report-request@dpdk.org?subject=unsubscribe>
List-Archive: <http://mails.dpdk.org/archives/test-report/>
List-Post: <mailto:test-report@dpdk.org>
List-Help: <mailto:test-report-request@dpdk.org?subject=help>
List-Subscribe: <https://mails.dpdk.org/listinfo/test-report>,
 <mailto:test-report-request@dpdk.org?subject=subscribe>
Errors-To: test-report-bounces@dpdk.org

Test-Label: iol-compile-amd64-testing
Test-Status: SUCCESS
http://dpdk.org/patch/134429

_Testing PASS_

Submitter: Pablo de Lara <pablo.de.lara.guarch@intel.com>
Date: Thursday, November 16 2023 16:44:56 
DPDK git baseline: Repo:dpdk
  Branch: master
  CommitID:92d7ce4afc4a558f27bbc8368823c625f4e0f9dc

134429 --> testing pass

Test environment and result as below:

+---------------------+--------------------+----------------------+
|     Environment     | dpdk_meson_compile | dpdk_mingw64_compile |
+=====================+====================+======================+
| Debian Buster       | PASS               | SKIPPED              |
+---------------------+--------------------+----------------------+
| CentOS Stream 9     | PASS               | SKIPPED              |
+---------------------+--------------------+----------------------+
| Fedora 37           | PASS               | SKIPPED              |
+---------------------+--------------------+----------------------+
| FreeBSD 13          | PASS               | SKIPPED              |
+---------------------+--------------------+----------------------+
| CentOS Stream 8     | PASS               | SKIPPED              |
+---------------------+--------------------+----------------------+
| Debian Bullseye     | PASS               | SKIPPED              |
+---------------------+--------------------+----------------------+
| Fedora 38           | PASS               | SKIPPED              |
+---------------------+--------------------+----------------------+
| Ubuntu 20.04        | PASS               | SKIPPED              |
+---------------------+--------------------+----------------------+
| Ubuntu 22.04        | PASS               | SKIPPED              |
+---------------------+--------------------+----------------------+
| RHEL8               | PASS               | SKIPPED              |
+---------------------+--------------------+----------------------+
| openSUSE Leap 15    | PASS               | SKIPPED              |
+---------------------+--------------------+----------------------+
| Windows Server 2019 | PASS               | PASS                 |
+---------------------+--------------------+----------------------+


Debian Buster
	Kernel: 5.4.0-122-generic
	Compiler: gcc 8.3.0-6

CentOS Stream 9
	Kernel: 4.18.0-240.10.1.el8_3.x86_64
	Compiler: gcc 11.3.1 20220421

Fedora 37
	Kernel: Depends on container host system
	Compiler: gcc 12.3.1

FreeBSD 13
	Kernel: 13.0
	Compiler: clang 11.0.1

CentOS Stream 8
	Kernel: 4.18.0-240.10.1.el8_3.x86_64
	Compiler: gcc 8.4.1 20200928

Debian Bullseye
	Kernel: 5.4.0-122-generic
	Compiler: gcc 10.2.1-6

Fedora 38
	Kernel: Depends on container host
	Compiler: gcc 13.1.1

Ubuntu 20.04
	Kernel: 5.4.0-153-generic
	Compiler: gcc 9.4.0-1ubuntu1~20.04.1

Ubuntu 22.04
	Kernel: 4.18.0-240.10.1.el8_3.x86_64
	Compiler: gcc 11.3.0

RHEL8
	Kernel: 4.18.0-240.10.1.el8_3.x86_64
	Compiler: gcc 8.3.1 20191121 (Red Hat 8.3.1-5)

openSUSE Leap 15
	Kernel: 4.18.0-240.10.1.el8_3.x86_64
	Compiler: gcc 7.5.0

Windows Server 2019
	Kernel: 10.0
	Compiler: clang 14.0 and gcc 8.1.0 (MinGW)

To view detailed results, visit:
https://lab.dpdk.org/results/dashboard/patchsets/28401/

UNH-IOL DPDK Community Lab

To manage your email subscriptions, visit: 
https://lab.dpdk.org/results/dashboard/preferences/subscriptions/