From mboxrd@z Thu Jan  1 00:00:00 1970
Return-Path: <test-report-bounces@dpdk.org>
Received: from mails.dpdk.org (mails.dpdk.org [217.70.189.124])
	by inbox.dpdk.org (Postfix) with ESMTP id BAFA543347
	for <public@inbox.dpdk.org>; Thu, 16 Nov 2023 19:50:01 +0100 (CET)
Received: from mails.dpdk.org (localhost [127.0.0.1])
	by mails.dpdk.org (Postfix) with ESMTP id B5BC0402CB;
	Thu, 16 Nov 2023 19:50:01 +0100 (CET)
Received: from mail-ej1-f99.google.com (mail-ej1-f99.google.com
 [209.85.218.99]) by mails.dpdk.org (Postfix) with ESMTP id 09CDE402CB
 for <test-report@dpdk.org>; Thu, 16 Nov 2023 19:49:53 +0100 (CET)
Received: by mail-ej1-f99.google.com with SMTP id
 a640c23a62f3a-9c2a0725825so169470066b.2
 for <test-report@dpdk.org>; Thu, 16 Nov 2023 10:49:53 -0800 (PST)
DKIM-Signature: v=1; a=rsa-sha256; c=relaxed/relaxed;
 d=iol.unh.edu; s=unh-iol; t=1700160593; x=1700765393; darn=dpdk.org;
 h=cc:to:from:subject:message-id:date:from:to:cc:subject:date
 :message-id:reply-to;
 bh=tNQlfHzLXYBfDFK4tB3ZmEaLrOEbLrJxRCOOOSk0gHg=;
 b=csWNu8GpiyKhNOcTPnyhuW42ITT/pOAjVfxBVpD22WsPN6/G20Kwh1vFA1F4E84paL
 Jo5Tj6/NU9l3tIryrutmYvmHTp/h3ICjMpjn5U5onZlPX/9+2JHCDxIxHnmAR5JOzPBQ
 2mzhgSEmNL+JxaGvad+FTho8zdGfWHI6ZvSdY=
X-Google-DKIM-Signature: v=1; a=rsa-sha256; c=relaxed/relaxed;
 d=1e100.net; s=20230601; t=1700160593; x=1700765393;
 h=cc:to:from:subject:message-id:date:x-gm-message-state:from:to:cc
 :subject:date:message-id:reply-to;
 bh=tNQlfHzLXYBfDFK4tB3ZmEaLrOEbLrJxRCOOOSk0gHg=;
 b=CyXSo5GpNyFn2dt8IWhcI5RIv5BGIusKKmc7ny2k7eLbg/QTntUK/Cc4VIXwzHoJvH
 H/WAFIErmM6y/iE71MVn0fMC7LU7jxumi84wXz8DLQ/8cSwFE4+eivxJx30SxsRY7gAv
 8EMreP3Xc6qNrGXeFwm/3qVMBa447QRDkX1fqGw6NTPZRPmq3tOUX84vywtOQQ2J6pNz
 gonZMy8427vKhR2Dj4NaI+wa/p81LKGGYWFZVfFKXvUqIqvz/gpS5t13k0nTFJ9TFYZ/
 MHKCluDSYIVZYIeITv+0u57Acx61FmFR4/RHLBb16eu7Lmh4UkQoIblV9jU4XohgiLnt
 0SuA==
X-Gm-Message-State: AOJu0YxI14X8EvpXhy8Qd8YzLEK3XriFdKGBh42Z/rTX8tQAp5ry/ynm
 Lsd3L7DpHLPgDwsoM9KwNqXxHrIchbJCRVubGbVaEKpyLLTd5kLGdOG/eD58RuuPxjtyQtMjHQ=
 =
X-Google-Smtp-Source: AGHT+IGcl5vKcZmGx+9i//hmMg+pm+q0GIFJ9iCQIvzBf5kudWNEZPVN/UQNi+tUQ6uHZoJjsUeC1NYRHRen
X-Received: by 2002:a17:906:fc07:b0:9c7:5db4:c943 with SMTP id
 ov7-20020a170906fc0700b009c75db4c943mr2749725ejb.40.1700160592875; 
 Thu, 16 Nov 2023 10:49:52 -0800 (PST)
Received: from postal.iol.unh.edu (postal.iol.unh.edu.
 [2606:4100:3880:1234::84]) by smtp-relay.gmail.com with ESMTPS id
 hb6-20020a170906b88600b009ddb5984d94sm3965306ejb.86.2023.11.16.10.49.52
 (version=TLS1_2 cipher=ECDHE-ECDSA-AES128-GCM-SHA256 bits=128/128);
 Thu, 16 Nov 2023 10:49:52 -0800 (PST)
X-Relaying-Domain: iol.unh.edu
Date: Thu, 16 Nov 2023 10:49:52 -0800 (PST)
Message-ID: <65566450.170a0220.31262.3590SMTPIN_ADDED_MISSING@mx.google.com>
Received: from [172.17.0.2] (unknown [172.18.0.213])
 by postal.iol.unh.edu (Postfix) with ESMTP id 154B8605C318;
 Thu, 16 Nov 2023 13:49:52 -0500 (EST)
Subject: |SUCCESS| pw134429 [PATCH] maintainers: update for ISA-L PMD driver
From: dpdklab@iol.unh.edu
To: Test Report <test-report@dpdk.org>
Cc: Pablo de Lara <pablo.de.lara.guarch@intel.com>,
 dpdk-test-reports@iol.unh.edu
Content-Type: text/plain
X-BeenThere: test-report@dpdk.org
X-Mailman-Version: 2.1.29
Precedence: list
List-Id: automatic DPDK test reports <test-report.dpdk.org>
List-Unsubscribe: <https://mails.dpdk.org/options/test-report>,
 <mailto:test-report-request@dpdk.org?subject=unsubscribe>
List-Archive: <http://mails.dpdk.org/archives/test-report/>
List-Post: <mailto:test-report@dpdk.org>
List-Help: <mailto:test-report-request@dpdk.org?subject=help>
List-Subscribe: <https://mails.dpdk.org/listinfo/test-report>,
 <mailto:test-report-request@dpdk.org?subject=subscribe>
Errors-To: test-report-bounces@dpdk.org

Test-Label: iol-unit-arm64-testing
Test-Status: SUCCESS
http://dpdk.org/patch/134429

_Testing PASS_

Submitter: Pablo de Lara <pablo.de.lara.guarch@intel.com>
Date: Thursday, November 16 2023 16:44:56 
DPDK git baseline: Repo:dpdk
  Branch: master
  CommitID:92d7ce4afc4a558f27bbc8368823c625f4e0f9dc

134429 --> testing pass

Test environment and result as below:

+--------------------------+----------------+---------------------------+------------------------------+
|       Environment        | dpdk_unit_test | cryptodev_sw_zuc_autotest | cryptodev_sw_snow3g_autotest |
+==========================+================+===========================+==============================+
| CentOS Stream 9 (ARM)    | PASS           | SKIPPED                   | SKIPPED                      |
+--------------------------+----------------+---------------------------+------------------------------+
| Debian 11 (Buster) (ARM) | PASS           | SKIPPED                   | SKIPPED                      |
+--------------------------+----------------+---------------------------+------------------------------+
| Fedora 38 (ARM)          | PASS           | SKIPPED                   | SKIPPED                      |
+--------------------------+----------------+---------------------------+------------------------------+
| Fedora 37 (ARM)          | PASS           | SKIPPED                   | SKIPPED                      |
+--------------------------+----------------+---------------------------+------------------------------+
| Ubuntu 20.04 (ARM)       | PASS           | SKIPPED                   | SKIPPED                      |
+--------------------------+----------------+---------------------------+------------------------------+
| Debian 11 (arm)          | SKIPPED        | PASS                      | PASS                         |
+--------------------------+----------------+---------------------------+------------------------------+


CentOS Stream 9 (ARM)
	Kernel: Container Host Kernel
	Compiler: gcc 11.3.1

Debian 11 (Buster) (ARM)
	Kernel: Container Host Kernel
	Compiler: gcc 10.2.1

Fedora 38 (ARM)
	Kernel: Depends on container host
	Compiler: gcc 13.1.1

Fedora 37 (ARM)
	Kernel: Depends on container host
	Compiler: gcc 12.3.1

Ubuntu 20.04 (ARM)
	Kernel: Container Host Kernel
	Compiler: gcc 9.4.0

Debian 11 (arm)
	Kernel: Container Host Kernel
	Compiler: gcc 10.2.1

To view detailed results, visit:
https://lab.dpdk.org/results/dashboard/patchsets/28401/

UNH-IOL DPDK Community Lab

To manage your email subscriptions, visit: 
https://lab.dpdk.org/results/dashboard/preferences/subscriptions/