From mboxrd@z Thu Jan  1 00:00:00 1970
Return-Path: <test-report-bounces@dpdk.org>
Received: from mails.dpdk.org (mails.dpdk.org [217.70.189.124])
	by inbox.dpdk.org (Postfix) with ESMTP id 5157743352
	for <public@inbox.dpdk.org>; Fri, 17 Nov 2023 12:01:26 +0100 (CET)
Received: from mails.dpdk.org (localhost [127.0.0.1])
	by mails.dpdk.org (Postfix) with ESMTP id 4BC5940648;
	Fri, 17 Nov 2023 12:01:26 +0100 (CET)
Received: from mail-pl1-f228.google.com (mail-pl1-f228.google.com
 [209.85.214.228])
 by mails.dpdk.org (Postfix) with ESMTP id 9FF7040648
 for <test-report@dpdk.org>; Fri, 17 Nov 2023 12:01:24 +0100 (CET)
Received: by mail-pl1-f228.google.com with SMTP id
 d9443c01a7336-1cc5916d578so16649495ad.2
 for <test-report@dpdk.org>; Fri, 17 Nov 2023 03:01:24 -0800 (PST)
DKIM-Signature: v=1; a=rsa-sha256; c=relaxed/relaxed;
 d=iol.unh.edu; s=unh-iol; t=1700218884; x=1700823684; darn=dpdk.org;
 h=cc:to:from:subject:message-id:date:from:to:cc:subject:date
 :message-id:reply-to;
 bh=utjnOrBSCSEAo2eRGxh2gOdzs+PbWBaIU7NwecqcgUA=;
 b=I+bGKl153d7giz9JcL1ddQAokGfyCX1bgIypJILIGnzRCo/Eb1BVYtv6wDywpI2a/d
 V6d3cQBMaz4S37Qfc4XbkTbk2KHfU91Fo0Y1cooZl9O7v8jhJbVGLq1gm0xFw1Ulwrg5
 Fuk+lXoJ1lkV89vLFRxOQiFnnABTvwQZTJbbk=
X-Google-DKIM-Signature: v=1; a=rsa-sha256; c=relaxed/relaxed;
 d=1e100.net; s=20230601; t=1700218884; x=1700823684;
 h=cc:to:from:subject:message-id:date:x-gm-message-state:from:to:cc
 :subject:date:message-id:reply-to;
 bh=utjnOrBSCSEAo2eRGxh2gOdzs+PbWBaIU7NwecqcgUA=;
 b=CsVTvzyHG4Z1u0Dl91T5/wK/fhYU7sufrFoyupP511mUIanncYkh+cVFk3IK4X2KbT
 ZRxkViHHP3nLhZkSX7FDCJ2adojD12fuDxmB8XvkIzag/BR4IP7C4E9BN0BVFcBLji+G
 PLUJy9pxWhJYepf9aXZabccLA5wSauY/zPAloVo0wIfcN0a9gFd8Meqhp3jWSwYdwgD3
 TpRD+Ua1MDDMUbWnwsP2bX7gynw78ByvLV53XIt4wHzUclZSRRf4CabJYg6QmZiP2RtE
 3oQOJi4/xIVFgb6ypDDav414FaxiN81Ez4LNC7maDCwPsk8PXE2iMg/75PRju16INu3k
 SuDQ==
X-Gm-Message-State: AOJu0Yzmb2Ilg7PscSQtJIb4cc8ZpJVYkJDz+pKhYZr8o5InEcXsjg/N
 ABVphjN6katxrKg64q3bVbaYJK6kNbnZwRIqpl6D7JloIArCZ/APzBw6Og==
X-Google-Smtp-Source: AGHT+IGgzvNtgn5ruImGNadaZsOelwt3V1QyOOCr2Uu+ARg/AjdL9O/g8G3YMU0TwFg7gsAVI9rWEggf53oF
X-Received: by 2002:a17:903:4288:b0:1cc:4559:ff with SMTP id
 ju8-20020a170903428800b001cc455900ffmr10024202plb.13.1700218883845; 
 Fri, 17 Nov 2023 03:01:23 -0800 (PST)
Received: from postal.iol.unh.edu (postal.iol.unh.edu. [132.177.123.84])
 by smtp-relay.gmail.com with ESMTPS id
 w12-20020a170902d3cc00b001c73701bd0bsm53797plb.132.2023.11.17.03.01.23
 (version=TLS1_2 cipher=ECDHE-ECDSA-AES128-GCM-SHA256 bits=128/128);
 Fri, 17 Nov 2023 03:01:23 -0800 (PST)
X-Relaying-Domain: iol.unh.edu
Date: Fri, 17 Nov 2023 03:01:23 -0800 (PST)
Message-ID: <65574803.170a0220.7089c.22a7SMTPIN_ADDED_MISSING@mx.google.com>
Received: from [172.21.0.3] (unknown [172.18.0.240])
 by postal.iol.unh.edu (Postfix) with ESMTP id CE0C7605C234;
 Fri, 17 Nov 2023 06:01:22 -0500 (EST)
Subject: |SUCCESS| pw134445 [PATCH] [v2] net/txgbe: fix out of bound access
From: dpdklab@iol.unh.edu
To: Test Report <test-report@dpdk.org>
Cc: dpdk-test-reports@iol.unh.edu
Content-Type: text/plain
X-BeenThere: test-report@dpdk.org
X-Mailman-Version: 2.1.29
Precedence: list
List-Id: automatic DPDK test reports <test-report.dpdk.org>
List-Unsubscribe: <https://mails.dpdk.org/options/test-report>,
 <mailto:test-report-request@dpdk.org?subject=unsubscribe>
List-Archive: <http://mails.dpdk.org/archives/test-report/>
List-Post: <mailto:test-report@dpdk.org>
List-Help: <mailto:test-report-request@dpdk.org?subject=help>
List-Subscribe: <https://mails.dpdk.org/listinfo/test-report>,
 <mailto:test-report-request@dpdk.org?subject=subscribe>
Errors-To: test-report-bounces@dpdk.org

Test-Label: iol-compile-amd64-testing
Test-Status: SUCCESS
http://dpdk.org/patch/134445

_Testing PASS_

Submitter: Ferruh Yigit <ferruh.yigit@amd.com>
Date: Friday, November 17 2023 10:12:04 
DPDK git baseline: Repo:dpdk
  Branch: master
  CommitID:6d7129a6e93b7cb52efff009b29ef1a0f2cb76b4

134445 --> testing pass

Test environment and result as below:

+---------------------+--------------------+----------------------+
|     Environment     | dpdk_meson_compile | dpdk_mingw64_compile |
+=====================+====================+======================+
| Windows Server 2022 | PASS               | SKIPPED              |
+---------------------+--------------------+----------------------+
| FreeBSD 13          | PASS               | SKIPPED              |
+---------------------+--------------------+----------------------+
| RHEL8               | PASS               | SKIPPED              |
+---------------------+--------------------+----------------------+
| Windows Server 2019 | PASS               | PASS                 |
+---------------------+--------------------+----------------------+
| CentOS Stream 8     | PASS               | SKIPPED              |
+---------------------+--------------------+----------------------+
| Alpine              | PASS               | SKIPPED              |
+---------------------+--------------------+----------------------+
| Debian Buster       | PASS               | SKIPPED              |
+---------------------+--------------------+----------------------+
| Debian Bullseye     | PASS               | SKIPPED              |
+---------------------+--------------------+----------------------+
| openSUSE Leap 15    | PASS               | SKIPPED              |
+---------------------+--------------------+----------------------+
| Fedora 38           | PASS               | SKIPPED              |
+---------------------+--------------------+----------------------+
| CentOS Stream 9     | PASS               | SKIPPED              |
+---------------------+--------------------+----------------------+
| Ubuntu 22.04        | PASS               | SKIPPED              |
+---------------------+--------------------+----------------------+
| Ubuntu 20.04        | PASS               | SKIPPED              |
+---------------------+--------------------+----------------------+
| Fedora 37           | PASS               | SKIPPED              |
+---------------------+--------------------+----------------------+


Windows Server 2022
	Kernel: OS Build 20348.2031
	Compiler: MSVC VS-Preview

FreeBSD 13
	Kernel: 13.0
	Compiler: clang 11.0.1

RHEL8
	Kernel: 4.18.0-240.10.1.el8_3.x86_64
	Compiler: gcc 8.3.1 20191121 (Red Hat 8.3.1-5)

Windows Server 2019
	Kernel: 10.0
	Compiler: clang 14.0 and gcc 8.1.0 (MinGW)

CentOS Stream 8
	Kernel: 4.18.0-240.10.1.el8_3.x86_64
	Compiler: gcc 8.4.1 20200928

Alpine
	Kernel: 5.4.0-73-generic
	Compiler: gcc (Alpine 10.3.1_git20210424) 10.3.1 20210424

Debian Buster
	Kernel: 5.4.0-122-generic
	Compiler: gcc 8.3.0-6

Debian Bullseye
	Kernel: 5.4.0-122-generic
	Compiler: gcc 10.2.1-6

openSUSE Leap 15
	Kernel: 4.18.0-240.10.1.el8_3.x86_64
	Compiler: gcc 7.5.0

Fedora 38
	Kernel: Depends on container host
	Compiler: gcc 13.1.1

CentOS Stream 9
	Kernel: 4.18.0-240.10.1.el8_3.x86_64
	Compiler: gcc 11.3.1 20220421

Ubuntu 22.04
	Kernel: 4.18.0-240.10.1.el8_3.x86_64
	Compiler: gcc 11.3.0

Ubuntu 20.04
	Kernel: 5.4.0-153-generic
	Compiler: gcc 9.4.0-1ubuntu1~20.04.1

Fedora 37
	Kernel: Depends on container host system
	Compiler: gcc 12.3.1

To view detailed results, visit:
https://lab.dpdk.org/results/dashboard/patchsets/28406/

UNH-IOL DPDK Community Lab

To manage your email subscriptions, visit: 
https://lab.dpdk.org/results/dashboard/preferences/subscriptions/