From mboxrd@z Thu Jan  1 00:00:00 1970
Return-Path: <test-report-bounces@dpdk.org>
Received: from mails.dpdk.org (mails.dpdk.org [217.70.189.124])
	by inbox.dpdk.org (Postfix) with ESMTP id D042343352
	for <public@inbox.dpdk.org>; Fri, 17 Nov 2023 12:05:47 +0100 (CET)
Received: from mails.dpdk.org (localhost [127.0.0.1])
	by mails.dpdk.org (Postfix) with ESMTP id CB92640648;
	Fri, 17 Nov 2023 12:05:47 +0100 (CET)
Received: from mail-pj1-f100.google.com (mail-pj1-f100.google.com
 [209.85.216.100])
 by mails.dpdk.org (Postfix) with ESMTP id 2C4CF40648
 for <test-report@dpdk.org>; Fri, 17 Nov 2023 12:05:42 +0100 (CET)
Received: by mail-pj1-f100.google.com with SMTP id
 98e67ed59e1d1-28037d046b0so1395327a91.3
 for <test-report@dpdk.org>; Fri, 17 Nov 2023 03:05:42 -0800 (PST)
DKIM-Signature: v=1; a=rsa-sha256; c=relaxed/relaxed;
 d=iol.unh.edu; s=unh-iol; t=1700219141; x=1700823941; darn=dpdk.org;
 h=cc:to:from:subject:message-id:date:from:to:cc:subject:date
 :message-id:reply-to;
 bh=Jf9zlW2deiV59Iq+D6gIbStaC9Ui6i+QnKK+SDiAjpU=;
 b=dL6xw+Aad+dXkLYOdG9C3tB3pULfdN7Z+21sT0ckhmvsHTJPoK7pW3cBxWR06LXSbd
 KxG0PE51ndjfQwoPIP/RzV8DxEd50sIE6J55rezZViazDRfyCJw2SPZ8h5p23M7jxBgC
 oVCw09fbxPj+sBsRE7OZ+hZTFG01LRvtDS3UM=
X-Google-DKIM-Signature: v=1; a=rsa-sha256; c=relaxed/relaxed;
 d=1e100.net; s=20230601; t=1700219141; x=1700823941;
 h=cc:to:from:subject:message-id:date:x-gm-message-state:from:to:cc
 :subject:date:message-id:reply-to;
 bh=Jf9zlW2deiV59Iq+D6gIbStaC9Ui6i+QnKK+SDiAjpU=;
 b=gov71nYD1HEyiJHwn+onEX87kx6ljwvLTz5fuUnC7K33lSlUa88lJF7TUjxlf/H/Gz
 0lkkLgXiIMnp5bal6W8fDzhSBdc3zVYtuIaXb2xY7OJsuMFVhUPCi3AJghpOlTbJxlPR
 mU0pRpy7Z5Gcn49wZFeUKPvxNYbxIU7lFk53S2nT3UmmJSBlKPpaiWmH14LiurCsXqaj
 ZyffR6zyk9sdkqoCj9Ok8QLMqEpYJGU5dHugV6oSV6yQFOWYUc4O2eBZYM2D6BKlW9H2
 oSN15jJBvFhxA6SQxkEppenGaBrfUaeUbao07lTCM0jfE7xBltMeQ0J35Ds6u3D0Yl+u
 hr0w==
X-Gm-Message-State: AOJu0Yx3V2xaTsv/g2iC+5vJZBvjw9h/yAXR/TvcVuFwImtjcu8p0T7k
 LEaFwf/b47MSgwXPcDELhHp7owSvN1ahiN8Z0ZpZ9jwnl0+SKPbQ/xWG9Iy4deWp76lHSzFFaQ=
 =
X-Google-Smtp-Source: AGHT+IGBz30GWnbOmEop3R6CTs5o37S4Rd6Ktdn/PeYaezPkObBHmqnO8nu/gV6TL3bBRd/K2qBWS6LFxTMD
X-Received: by 2002:a17:90a:404f:b0:283:1da8:3636 with SMTP id
 k15-20020a17090a404f00b002831da83636mr18186877pjg.23.1700219141406; 
 Fri, 17 Nov 2023 03:05:41 -0800 (PST)
Received: from postal.iol.unh.edu (postal.iol.unh.edu.
 [2606:4100:3880:1234::84]) by smtp-relay.gmail.com with ESMTPS id
 oc13-20020a17090b1c0d00b002749ff16821sm327569pjb.14.2023.11.17.03.05.41
 (version=TLS1_2 cipher=ECDHE-ECDSA-AES128-GCM-SHA256 bits=128/128);
 Fri, 17 Nov 2023 03:05:41 -0800 (PST)
X-Relaying-Domain: iol.unh.edu
Date: Fri, 17 Nov 2023 03:05:41 -0800 (PST)
Message-ID: <65574905.170a0220.2b7f6.d46bSMTPIN_ADDED_MISSING@mx.google.com>
Received: from [172.21.0.2] (unknown [172.18.0.240])
 by postal.iol.unh.edu (Postfix) with ESMTP id 7004D605C234;
 Fri, 17 Nov 2023 06:05:40 -0500 (EST)
Subject: |SUCCESS| pw134445 [PATCH] [v2] net/txgbe: fix out of bound access
From: dpdklab@iol.unh.edu
To: Test Report <test-report@dpdk.org>
Cc: dpdk-test-reports@iol.unh.edu
Content-Type: text/plain
X-BeenThere: test-report@dpdk.org
X-Mailman-Version: 2.1.29
Precedence: list
List-Id: automatic DPDK test reports <test-report.dpdk.org>
List-Unsubscribe: <https://mails.dpdk.org/options/test-report>,
 <mailto:test-report-request@dpdk.org?subject=unsubscribe>
List-Archive: <http://mails.dpdk.org/archives/test-report/>
List-Post: <mailto:test-report@dpdk.org>
List-Help: <mailto:test-report-request@dpdk.org?subject=help>
List-Subscribe: <https://mails.dpdk.org/listinfo/test-report>,
 <mailto:test-report-request@dpdk.org?subject=subscribe>
Errors-To: test-report-bounces@dpdk.org

Test-Label: iol-unit-amd64-testing
Test-Status: SUCCESS
http://dpdk.org/patch/134445

_Testing PASS_

Submitter: Ferruh Yigit <ferruh.yigit@amd.com>
Date: Friday, November 17 2023 10:12:04 
DPDK git baseline: Repo:dpdk
  Branch: master
  CommitID:6d7129a6e93b7cb52efff009b29ef1a0f2cb76b4

134445 --> testing pass

Test environment and result as below:

+---------------------+----------------+
|     Environment     | dpdk_unit_test |
+=====================+================+
| Debian Bullseye     | PASS           |
+---------------------+----------------+
| Windows Server 2019 | PASS           |
+---------------------+----------------+
| CentOS Stream 9     | PASS           |
+---------------------+----------------+
| CentOS Stream 8     | PASS           |
+---------------------+----------------+


Debian Bullseye
	Kernel: 5.4.0-122-generic
	Compiler: gcc 10.2.1-6

Windows Server 2019
	Kernel: 10.0
	Compiler: clang 14.0 and gcc 8.1.0 (MinGW)

CentOS Stream 9
	Kernel: 4.18.0-240.10.1.el8_3.x86_64
	Compiler: gcc 11.3.1 20220421

CentOS Stream 8
	Kernel: 4.18.0-240.10.1.el8_3.x86_64
	Compiler: gcc 8.4.1 20200928

To view detailed results, visit:
https://lab.dpdk.org/results/dashboard/patchsets/28406/

UNH-IOL DPDK Community Lab

To manage your email subscriptions, visit: 
https://lab.dpdk.org/results/dashboard/preferences/subscriptions/