From mboxrd@z Thu Jan  1 00:00:00 1970
Return-Path: <test-report-bounces@dpdk.org>
Received: from mails.dpdk.org (mails.dpdk.org [217.70.189.124])
	by inbox.dpdk.org (Postfix) with ESMTP id 4715043352
	for <public@inbox.dpdk.org>; Fri, 17 Nov 2023 13:07:18 +0100 (CET)
Received: from mails.dpdk.org (localhost [127.0.0.1])
	by mails.dpdk.org (Postfix) with ESMTP id 1C1AC40648;
	Fri, 17 Nov 2023 13:07:18 +0100 (CET)
Received: from mail-oo1-f98.google.com (mail-oo1-f98.google.com
 [209.85.161.98]) by mails.dpdk.org (Postfix) with ESMTP id F1D0740648
 for <test-report@dpdk.org>; Fri, 17 Nov 2023 13:07:16 +0100 (CET)
Received: by mail-oo1-f98.google.com with SMTP id
 006d021491bc7-58a03280aa7so959301eaf.2
 for <test-report@dpdk.org>; Fri, 17 Nov 2023 04:07:16 -0800 (PST)
DKIM-Signature: v=1; a=rsa-sha256; c=relaxed/relaxed;
 d=iol.unh.edu; s=unh-iol; t=1700222836; x=1700827636; darn=dpdk.org;
 h=cc:to:from:subject:message-id:date:from:to:cc:subject:date
 :message-id:reply-to;
 bh=Vp2891PUWvVwjiku8kS0T/lkIgusMYr9TV5m6aB9gXg=;
 b=dcKzA+Jf04J52TlDWhCw3WrxNqTCmvtIi8qfU+fJZLTITFbTKJkK1AROgOaLjt35Vr
 78C7VY0wyjnQagHinKFaYqbeP8zmt2AFMZokeiqUjC0K5sLpHd4j1GsWFt++euynUleF
 zhSrmePVYFkgGUjpTFyxF5gLXEsxt5vS/52NY=
X-Google-DKIM-Signature: v=1; a=rsa-sha256; c=relaxed/relaxed;
 d=1e100.net; s=20230601; t=1700222836; x=1700827636;
 h=cc:to:from:subject:message-id:date:x-gm-message-state:from:to:cc
 :subject:date:message-id:reply-to;
 bh=Vp2891PUWvVwjiku8kS0T/lkIgusMYr9TV5m6aB9gXg=;
 b=pPlDqgnpuRq6DB087efmBXlgrL1eaBMFQ8WMJrL4Yl3JM/T/XONap2YBA50RpSW8vS
 Wmm7f2+GmwFJ59gpHnGcQTqPR8wk90XzLU7Y93RQGyTNiDtvk9Y2CPRtJAdT/mnu2lgI
 ASw02IQHGGL7/MoztVyG4olOJPXBMP1bp7GK1Mb+RNlHBe0Lr9KPXzX8bBuEm++q6vrP
 JCg/cKDAb5lc5ZpCa0EEJXLwueU6ka71m5fk0Iyhe4nM4IFbSD6muJrZIYSyKPpTkpQy
 nLhQUsSeccDgTKG+SG1g+ZTPf/vUG5WNYKRWWbaQyJFloQnfftTjXynnalXfdLzXcwCv
 yNmA==
X-Gm-Message-State: AOJu0YwwPPB7eGsRde17TvVBHtFKJ8wR5u7nKP29PJIfYbRy8o6nu64Z
 M0EuQTCchkWq63Vbe/9riqBbKWuWyed3P7LzUjDm63C09SDzhvsTv/bgMdtW5ryDa8czri/g7A=
 =
X-Google-Smtp-Source: AGHT+IGe9uBCZCzOU8GIoV6ePZJapRPpP799ePtpNx7S+3BA9mG6SWWTSpDd87x/xjjMAipqTwHLRSC7okIh
X-Received: by 2002:a4a:9181:0:b0:589:d6c7:8573 with SMTP id
 d1-20020a4a9181000000b00589d6c78573mr18131834ooh.3.1700222836155; 
 Fri, 17 Nov 2023 04:07:16 -0800 (PST)
Received: from postal.iol.unh.edu (postal.iol.unh.edu.
 [2606:4100:3880:1234::84]) by smtp-relay.gmail.com with ESMTPS id
 y17-20020a4a6251000000b00583822f6a25sm107007oog.25.2023.11.17.04.07.16
 (version=TLS1_2 cipher=ECDHE-ECDSA-AES128-GCM-SHA256 bits=128/128);
 Fri, 17 Nov 2023 04:07:16 -0800 (PST)
X-Relaying-Domain: iol.unh.edu
Date: Fri, 17 Nov 2023 04:07:16 -0800 (PST)
Message-ID: <65575774.4a0a0220.8d3cf.4dc7SMTPIN_ADDED_MISSING@mx.google.com>
Received: from [172.21.0.2] (unknown [172.18.0.240])
 by postal.iol.unh.edu (Postfix) with ESMTP id 4D0C3605C234;
 Fri, 17 Nov 2023 07:07:15 -0500 (EST)
Subject: |SUCCESS| pw134445 [PATCH] [v2] net/txgbe: fix out of bound access
From: dpdklab@iol.unh.edu
To: Test Report <test-report@dpdk.org>
Cc: dpdk-test-reports@iol.unh.edu
Content-Type: text/plain
X-BeenThere: test-report@dpdk.org
X-Mailman-Version: 2.1.29
Precedence: list
List-Id: automatic DPDK test reports <test-report.dpdk.org>
List-Unsubscribe: <https://mails.dpdk.org/options/test-report>,
 <mailto:test-report-request@dpdk.org?subject=unsubscribe>
List-Archive: <http://mails.dpdk.org/archives/test-report/>
List-Post: <mailto:test-report@dpdk.org>
List-Help: <mailto:test-report-request@dpdk.org?subject=help>
List-Subscribe: <https://mails.dpdk.org/listinfo/test-report>,
 <mailto:test-report-request@dpdk.org?subject=subscribe>
Errors-To: test-report-bounces@dpdk.org

Test-Label: iol-compile-arm64-testing
Test-Status: SUCCESS
http://dpdk.org/patch/134445

_Testing PASS_

Submitter: Ferruh Yigit <ferruh.yigit@amd.com>
Date: Friday, November 17 2023 10:12:04 
DPDK git baseline: Repo:dpdk
  Branch: master
  CommitID:6d7129a6e93b7cb52efff009b29ef1a0f2cb76b4

134445 --> testing pass

Test environment and result as below:

+----------------------------------------+--------------------+
|              Environment               | dpdk_meson_compile |
+========================================+====================+
| Ubuntu 20.04 ARM SVE                   | PASS               |
+----------------------------------------+--------------------+
| Debian 11 (Buster) (ARM)               | PASS               |
+----------------------------------------+--------------------+
| CentOS Stream 9 (ARM)                  | PASS               |
+----------------------------------------+--------------------+
| Ubuntu 20.04 (ARM)                     | PASS               |
+----------------------------------------+--------------------+
| Fedora 38 (ARM)                        | PASS               |
+----------------------------------------+--------------------+
| Fedora 37 (ARM)                        | PASS               |
+----------------------------------------+--------------------+
| Ubuntu 20.04 aarch32 GCC Cross Compile | PASS               |
+----------------------------------------+--------------------+
| Ubuntu 20.04 ARM Clang Cross Compile   | PASS               |
+----------------------------------------+--------------------+
| Ubuntu 20.04 ARM GCC Cross Compile     | PASS               |
+----------------------------------------+--------------------+
| Fedora 38 (ARM Clang)                  | PASS               |
+----------------------------------------+--------------------+


Ubuntu 20.04 ARM SVE
	Kernel: 5.4.0-80-generic
	Compiler: gcc 10.3.0 (Ubuntu 10.3.0-1ubuntu1~20.04)

Debian 11 (Buster) (ARM)
	Kernel: Container Host Kernel
	Compiler: gcc 10.2.1

CentOS Stream 9 (ARM)
	Kernel: Container Host Kernel
	Compiler: gcc 11.3.1

Ubuntu 20.04 (ARM)
	Kernel: Container Host Kernel
	Compiler: gcc 9.4.0

Fedora 38 (ARM)
	Kernel: Depends on container host
	Compiler: gcc 13.1.1

Fedora 37 (ARM)
	Kernel: Depends on container host
	Compiler: gcc 12.3.1

Ubuntu 20.04 aarch32 GCC Cross Compile
	Kernel: 5.4.0-72-generic
	Compiler: gcc 9.3.0

Ubuntu 20.04 ARM Clang Cross Compile
	Kernel: 5.4.0-72-generic
	Compiler: clang version 10.0.0-4ubuntu1

Ubuntu 20.04 ARM GCC Cross Compile
	Kernel: 5.4.0-72-generic
	Compiler: aarch64-linux-gnu-gcc (Ubuntu 9.3.0-17ubuntu1~20.04) 9.3.0

Fedora 38 (ARM Clang)
	Kernel: Depends on container host
	Compiler: clang 16.0.3

To view detailed results, visit:
https://lab.dpdk.org/results/dashboard/patchsets/28406/

UNH-IOL DPDK Community Lab

To manage your email subscriptions, visit: 
https://lab.dpdk.org/results/dashboard/preferences/subscriptions/