From mboxrd@z Thu Jan  1 00:00:00 1970
Return-Path: <test-report-bounces@dpdk.org>
Received: from mails.dpdk.org (mails.dpdk.org [217.70.189.124])
	by inbox.dpdk.org (Postfix) with ESMTP id 5040043391
	for <public@inbox.dpdk.org>; Tue, 21 Nov 2023 18:29:58 +0100 (CET)
Received: from mails.dpdk.org (localhost [127.0.0.1])
	by mails.dpdk.org (Postfix) with ESMTP id 49B5440DCD;
	Tue, 21 Nov 2023 18:29:58 +0100 (CET)
Received: from mail-lf1-f98.google.com (mail-lf1-f98.google.com
 [209.85.167.98]) by mails.dpdk.org (Postfix) with ESMTP id A901540DCD
 for <test-report@dpdk.org>; Tue, 21 Nov 2023 18:29:57 +0100 (CET)
Received: by mail-lf1-f98.google.com with SMTP id
 2adb3069b0e04-507a98517f3so7670901e87.0
 for <test-report@dpdk.org>; Tue, 21 Nov 2023 09:29:57 -0800 (PST)
DKIM-Signature: v=1; a=rsa-sha256; c=relaxed/relaxed;
 d=iol.unh.edu; s=unh-iol; t=1700587797; x=1701192597; darn=dpdk.org;
 h=cc:to:from:subject:message-id:date:from:to:cc:subject:date
 :message-id:reply-to;
 bh=YP5lT9ZjThUu4ytiDAsvth61VMlSmqjXM1frli/5ZXE=;
 b=UtEWGNqqysnlAhYXsTLD7+MTDnkVRR6MKvwNKnwEeaIR+6Q2UqX1X1srwklr34EqKn
 VohXVH6SYyF1yzQKpRWw7Z4Hnji9isjyA4dcKC3BjI7YvxdB/8XIj8/rQDl1TC30aRkA
 /kMRyqv2XaE54WdorL8Z1bu81tXSb0o27vKBg=
X-Google-DKIM-Signature: v=1; a=rsa-sha256; c=relaxed/relaxed;
 d=1e100.net; s=20230601; t=1700587797; x=1701192597;
 h=cc:to:from:subject:message-id:date:x-gm-message-state:from:to:cc
 :subject:date:message-id:reply-to;
 bh=YP5lT9ZjThUu4ytiDAsvth61VMlSmqjXM1frli/5ZXE=;
 b=AGX6+cKk8d2Byt0HNe3nwuDU0zsMsIUmqek3BrSFCTeUSLdm5Z7b5D6BZ3/N7L2ukW
 xmO2NhV66vRU31youiiRNVtzoEB/Ck0IDgGzP7uy4G9m9Jjei8gDHcHky87GFKpXntul
 xNQkfJtRS7rerVwM+0vjGIh7ivuvlgiPJ/FgXzl6a5YyaqeeCpDWIqadz0pKXoJlKPL/
 487aob8vAfDyvpEoxAD7IDS1GnZUEvn71cDg3KaNVdDNltrsrdEIiF8Jm7heBtd5jkTy
 z8F2cUNtUsGJ9CUJ5P31OaUYNknn6SYI9STkPZSoRchXERqfXcI9MHTcs4NzglLJUBAm
 bNZg==
X-Gm-Message-State: AOJu0YzsIfXPom0iyvKflNetNu4y54JeerZaRsQzmHQt1yEhtwDZ9/bY
 7oxZ3auvOoZ8jUctARGDeQB9YWx9RvC4rarfdxyY8RYhNdmkfrZ+aNB/3w==
X-Google-Smtp-Source: AGHT+IFC2yu3oe/4cTg2Lnew3k5raooRhqDB54CDFJcMeiWlJ1OC/9EsGYr/1qpCXQKJ9Ydv0voONPnjFVnQ
X-Received: by 2002:ac2:54a4:0:b0:507:9a49:2d3d with SMTP id
 w4-20020ac254a4000000b005079a492d3dmr7861263lfk.31.1700587797191; 
 Tue, 21 Nov 2023 09:29:57 -0800 (PST)
Received: from postal.iol.unh.edu (postal.iol.unh.edu. [132.177.123.84])
 by smtp-relay.gmail.com with ESMTPS id
 m13-20020a056512114d00b0050ab7c52896sm226030lfg.133.2023.11.21.09.29.57
 (version=TLS1_2 cipher=ECDHE-ECDSA-AES128-GCM-SHA256 bits=128/128);
 Tue, 21 Nov 2023 09:29:57 -0800 (PST)
X-Relaying-Domain: iol.unh.edu
Date: Tue, 21 Nov 2023 09:29:57 -0800 (PST)
Message-ID: <655ce915.050a0220.20542.110eSMTPIN_ADDED_MISSING@mx.google.com>
Received: from [172.21.0.2] (unknown [172.18.0.240])
 by postal.iol.unh.edu (Postfix) with ESMTP id 32F4E605C311;
 Tue, 21 Nov 2023 12:29:56 -0500 (EST)
Subject: |SUCCESS| pw134518 [PATCH] build: riscv is not a valid -march value
From: dpdklab@iol.unh.edu
To: Test Report <test-report@dpdk.org>
Cc: dpdk-test-reports@iol.unh.edu
Content-Type: text/plain
X-BeenThere: test-report@dpdk.org
X-Mailman-Version: 2.1.29
Precedence: list
List-Id: automatic DPDK test reports <test-report.dpdk.org>
List-Unsubscribe: <https://mails.dpdk.org/options/test-report>,
 <mailto:test-report-request@dpdk.org?subject=unsubscribe>
List-Archive: <http://mails.dpdk.org/archives/test-report/>
List-Post: <mailto:test-report@dpdk.org>
List-Help: <mailto:test-report-request@dpdk.org?subject=help>
List-Subscribe: <https://mails.dpdk.org/listinfo/test-report>,
 <mailto:test-report-request@dpdk.org?subject=subscribe>
Errors-To: test-report-bounces@dpdk.org

Test-Label: iol-compile-amd64-testing
Test-Status: SUCCESS
http://dpdk.org/patch/134518

_Testing PASS_

Submitter: Christian Ehrhardt <christian.ehrhardt@canonical.com>
Date: Tuesday, November 21 2023 16:49:03 
DPDK git baseline: Repo:dpdk
  Branch: master
  CommitID:517b4b26b508a6464d07c456c04eb48d6c7f03ea

134518 --> testing pass

Test environment and result as below:

+---------------------+--------------------+----------------------+
|     Environment     | dpdk_meson_compile | dpdk_mingw64_compile |
+=====================+====================+======================+
| Windows Server 2022 | PASS               | SKIPPED              |
+---------------------+--------------------+----------------------+
| FreeBSD 13          | PASS               | SKIPPED              |
+---------------------+--------------------+----------------------+
| Windows Server 2019 | PASS               | PASS                 |
+---------------------+--------------------+----------------------+
| openSUSE Leap 15    | PASS               | SKIPPED              |
+---------------------+--------------------+----------------------+
| CentOS Stream 8     | PASS               | SKIPPED              |
+---------------------+--------------------+----------------------+
| CentOS Stream 9     | PASS               | SKIPPED              |
+---------------------+--------------------+----------------------+


Windows Server 2022
	Kernel: OS Build 20348.2031
	Compiler: MSVC VS-Preview

FreeBSD 13
	Kernel: 13.0
	Compiler: clang 11.0.1

Windows Server 2019
	Kernel: 10.0
	Compiler: clang 14.0 and gcc 8.1.0 (MinGW)

openSUSE Leap 15
	Kernel: 4.18.0-240.10.1.el8_3.x86_64
	Compiler: gcc 7.5.0

CentOS Stream 8
	Kernel: 4.18.0-240.10.1.el8_3.x86_64
	Compiler: gcc 8.4.1 20200928

CentOS Stream 9
	Kernel: 4.18.0-240.10.1.el8_3.x86_64
	Compiler: gcc 11.3.1 20220421

To view detailed results, visit:
https://lab.dpdk.org/results/dashboard/patchsets/28430/

UNH-IOL DPDK Community Lab

To manage your email subscriptions, visit: 
https://lab.dpdk.org/results/dashboard/preferences/subscriptions/