From mboxrd@z Thu Jan  1 00:00:00 1970
Return-Path: <test-report-bounces@dpdk.org>
Received: from mails.dpdk.org (mails.dpdk.org [217.70.189.124])
	by inbox.dpdk.org (Postfix) with ESMTP id 11B9343391
	for <public@inbox.dpdk.org>; Tue, 21 Nov 2023 18:42:41 +0100 (CET)
Received: from mails.dpdk.org (localhost [127.0.0.1])
	by mails.dpdk.org (Postfix) with ESMTP id 0C71440DCD;
	Tue, 21 Nov 2023 18:42:41 +0100 (CET)
Received: from mail-ej1-f98.google.com (mail-ej1-f98.google.com
 [209.85.218.98]) by mails.dpdk.org (Postfix) with ESMTP id E0A5040DCD
 for <test-report@dpdk.org>; Tue, 21 Nov 2023 18:42:39 +0100 (CET)
Received: by mail-ej1-f98.google.com with SMTP id
 a640c23a62f3a-a0029289b1bso279559066b.1
 for <test-report@dpdk.org>; Tue, 21 Nov 2023 09:42:39 -0800 (PST)
DKIM-Signature: v=1; a=rsa-sha256; c=relaxed/relaxed;
 d=iol.unh.edu; s=unh-iol; t=1700588559; x=1701193359; darn=dpdk.org;
 h=cc:to:from:subject:message-id:date:from:to:cc:subject:date
 :message-id:reply-to;
 bh=3CfDJdlmiciib0RxQ6VS6GbMM4WkQ3ZQtpVvqFWslfI=;
 b=DCvye6wVAyjQf9NlXVgpNQyAfgf4cG33Hu1+lLv9J8jSx6bvbP5/2lEs6y3LIQJDdG
 MFGy8nBsjnsK2zhAp66U/RS48+sSp1cBcid0N90sELvGsP8ttkVaxu6EuNDeJYjhtKCX
 p7UE+oB8Ib7BpmX+QsjYY8Aj9MFQh8yln7YpA=
X-Google-DKIM-Signature: v=1; a=rsa-sha256; c=relaxed/relaxed;
 d=1e100.net; s=20230601; t=1700588559; x=1701193359;
 h=cc:to:from:subject:message-id:date:x-gm-message-state:from:to:cc
 :subject:date:message-id:reply-to;
 bh=3CfDJdlmiciib0RxQ6VS6GbMM4WkQ3ZQtpVvqFWslfI=;
 b=BEZcHtsQ5YWt3uOY+vYlV6cM2POHB0GixV5JjcPtdVP1blshdqlDUzx/WblxV4weK+
 oXm3n0/5LgKUDmeXo/No7wO6HYBXxQdSI2+OTSYUBuHlsjIBBIKKigpMFNCI4SbV7IkS
 mBiV4LUmD7L6Tsyn6xRhONPnsZugH+i3BXA+dRjW514+0rbXTftR7Y5WSBq9HkmzZ+o6
 bt8wV1k4mav1ya6Bc3rTGxYJ1aRiny2blNmTjAUBGsncvQmWc8hYc2R7UKcYtcwdhjK3
 pbu/u7OdYy3jRPAnwcdZHoIPQZG7ONUD2SBNhn2W0wCkyMDx8caGjGNx/NBi2jAtxDwJ
 cw0A==
X-Gm-Message-State: AOJu0Yx+/4erpOzoSa5JG0fiNW4uvJ9yxfJTPjuSxVhhAQ5QmwBtt0qR
 hSgnDAOdaGIlyWildNwhB6bvGVnpN731VKmwOjxdiN9qFx9RvV3oef+Min5RUPb3T7xDG66tXA=
 =
X-Google-Smtp-Source: AGHT+IEKDPvcRYlLAh+HjRLTq4Zlzops5lKkP7DTNL4PdbSTDnIVmXNNysB00Qk/5H/UvO04PqfU/fvscHMk
X-Received: by 2002:a17:906:20da:b0:9e4:7b7:267d with SMTP id
 c26-20020a17090620da00b009e407b7267dmr8347025ejc.52.1700588559459; 
 Tue, 21 Nov 2023 09:42:39 -0800 (PST)
Received: from postal.iol.unh.edu (postal.iol.unh.edu.
 [2606:4100:3880:1234::84]) by smtp-relay.gmail.com with ESMTPS id
 jx9-20020a170906ca4900b009fd0a76f58fsm724577ejb.139.2023.11.21.09.42.39
 (version=TLS1_2 cipher=ECDHE-ECDSA-AES128-GCM-SHA256 bits=128/128);
 Tue, 21 Nov 2023 09:42:39 -0800 (PST)
X-Relaying-Domain: iol.unh.edu
Date: Tue, 21 Nov 2023 09:42:39 -0800 (PST)
Message-ID: <655cec0f.170a0220.36fbe.9e52SMTPIN_ADDED_MISSING@mx.google.com>
Received: from [172.21.0.2] (unknown [172.18.0.240])
 by postal.iol.unh.edu (Postfix) with ESMTP id A3D96605C311;
 Tue, 21 Nov 2023 12:42:38 -0500 (EST)
Subject: |SUCCESS| pw134518 [PATCH] build: riscv is not a valid -march value
From: dpdklab@iol.unh.edu
To: Test Report <test-report@dpdk.org>
Cc: dpdk-test-reports@iol.unh.edu
Content-Type: text/plain
X-BeenThere: test-report@dpdk.org
X-Mailman-Version: 2.1.29
Precedence: list
List-Id: automatic DPDK test reports <test-report.dpdk.org>
List-Unsubscribe: <https://mails.dpdk.org/options/test-report>,
 <mailto:test-report-request@dpdk.org?subject=unsubscribe>
List-Archive: <http://mails.dpdk.org/archives/test-report/>
List-Post: <mailto:test-report@dpdk.org>
List-Help: <mailto:test-report-request@dpdk.org?subject=help>
List-Subscribe: <https://mails.dpdk.org/listinfo/test-report>,
 <mailto:test-report-request@dpdk.org?subject=subscribe>
Errors-To: test-report-bounces@dpdk.org

Test-Label: iol-compile-arm64-testing
Test-Status: SUCCESS
http://dpdk.org/patch/134518

_Testing PASS_

Submitter: Christian Ehrhardt <christian.ehrhardt@canonical.com>
Date: Tuesday, November 21 2023 16:49:03 
DPDK git baseline: Repo:dpdk
  Branch: master
  CommitID:517b4b26b508a6464d07c456c04eb48d6c7f03ea

134518 --> testing pass

Test environment and result as below:

+----------------------------------------+--------------------+
|              Environment               | dpdk_meson_compile |
+========================================+====================+
| Ubuntu 20.04 ARM SVE                   | PASS               |
+----------------------------------------+--------------------+
| Ubuntu 20.04 (ARM)                     | PASS               |
+----------------------------------------+--------------------+
| Ubuntu 20.04 aarch32 GCC Cross Compile | PASS               |
+----------------------------------------+--------------------+
| Fedora 37 (ARM)                        | PASS               |
+----------------------------------------+--------------------+
| Debian 11 (Buster) (ARM)               | PASS               |
+----------------------------------------+--------------------+


Ubuntu 20.04 ARM SVE
	Kernel: 5.4.0-80-generic
	Compiler: gcc 10.3.0 (Ubuntu 10.3.0-1ubuntu1~20.04)

Ubuntu 20.04 (ARM)
	Kernel: Container Host Kernel
	Compiler: gcc 9.4.0

Ubuntu 20.04 aarch32 GCC Cross Compile
	Kernel: 5.4.0-72-generic
	Compiler: gcc 9.3.0

Fedora 37 (ARM)
	Kernel: Depends on container host
	Compiler: gcc 12.3.1

Debian 11 (Buster) (ARM)
	Kernel: Container Host Kernel
	Compiler: gcc 10.2.1

To view detailed results, visit:
https://lab.dpdk.org/results/dashboard/patchsets/28430/

UNH-IOL DPDK Community Lab

To manage your email subscriptions, visit: 
https://lab.dpdk.org/results/dashboard/preferences/subscriptions/