From mboxrd@z Thu Jan  1 00:00:00 1970
Return-Path: <test-report-bounces@dpdk.org>
Received: from mails.dpdk.org (mails.dpdk.org [217.70.189.124])
	by inbox.dpdk.org (Postfix) with ESMTP id 8C57543391
	for <public@inbox.dpdk.org>; Tue, 21 Nov 2023 18:59:27 +0100 (CET)
Received: from mails.dpdk.org (localhost [127.0.0.1])
	by mails.dpdk.org (Postfix) with ESMTP id 7BA1A40633;
	Tue, 21 Nov 2023 18:59:27 +0100 (CET)
Received: from mail-wm1-f98.google.com (mail-wm1-f98.google.com
 [209.85.128.98]) by mails.dpdk.org (Postfix) with ESMTP id C1C5D40633
 for <test-report@dpdk.org>; Tue, 21 Nov 2023 18:59:26 +0100 (CET)
Received: by mail-wm1-f98.google.com with SMTP id
 5b1f17b1804b1-40b2ddab817so2210475e9.3
 for <test-report@dpdk.org>; Tue, 21 Nov 2023 09:59:26 -0800 (PST)
DKIM-Signature: v=1; a=rsa-sha256; c=relaxed/relaxed;
 d=iol.unh.edu; s=unh-iol; t=1700589566; x=1701194366; darn=dpdk.org;
 h=cc:to:from:subject:message-id:date:from:to:cc:subject:date
 :message-id:reply-to;
 bh=x8meb146+d25b6sxF8+e0FMS1U2/zyD1NUOH6+f0FCA=;
 b=EoRvlObAiU24KE5e/8OFOH+rtKF3oA3wRm/USkz4EWwdEV6/VoeBERTQLJPX9nS5Fx
 9bE3fxlOnD3uRVI8OWV19x/a9Fum9ebv2A6TqJR8bf2Oyrvb+49LAackIG45wBJaD3UH
 rezhj5p23Tv3ZgSwPF0R46dOMHEAdmW41Ccqw=
X-Google-DKIM-Signature: v=1; a=rsa-sha256; c=relaxed/relaxed;
 d=1e100.net; s=20230601; t=1700589566; x=1701194366;
 h=cc:to:from:subject:message-id:date:x-gm-message-state:from:to:cc
 :subject:date:message-id:reply-to;
 bh=x8meb146+d25b6sxF8+e0FMS1U2/zyD1NUOH6+f0FCA=;
 b=mcLFG5uKwjx2OMbsWcfwZByyvlMZBGEVwY70shPfyj9eQXI34czuw3CQHBW9nwGBdc
 1VcOMOVC+VqDws8Dr6Nq+SEXVpjcchPQ2jpQjowFzufyNq83X7+jheP9Roo1501wBR3+
 GVr/ouM+U2pHF2MGg49b7bYUzWmlxghvdcWMTnvgDODAO88E0TnC9/5KUAmg5xVNOnzZ
 9Q/T40M0aCMUEglB6DLjaHBoGMDhVqeAmIIv9Ptl7ou5pa8bQ4GVrvVhE39GDMoQCZbi
 NZjTEf7zLVmCa8CAf5CxOyhQVOzNSHnPvSFQDJQNsE4rWNzlGDYzUL5ahQZ+e6YHz9oi
 dajg==
X-Gm-Message-State: AOJu0Yx4PZRW0gjK5jJp2zukKg2WW3fGIo05E1JS6PaGBDCWwKLxtMDF
 t20N+BPjgKr/AQJOmWbca8QwNHRcRACm1n+kixys+AYPO7q3HyJiv+okJg==
X-Google-Smtp-Source: AGHT+IFL+6XPXUuJPwm/h72RMbs/msS+JgXbbObp2k3nUu6MSEZer/oatlRZHtydp0UEhsHHS+vP9R6efmU8
X-Received: by 2002:a05:600c:3b97:b0:408:3707:b199 with SMTP id
 n23-20020a05600c3b9700b004083707b199mr80046wms.3.1700589566387; 
 Tue, 21 Nov 2023 09:59:26 -0800 (PST)
Received: from postal.iol.unh.edu (postal.iol.unh.edu. [132.177.123.84])
 by smtp-relay.gmail.com with ESMTPS id
 o15-20020a5d648f000000b00332c39fb07bsm639047wri.105.2023.11.21.09.59.26
 (version=TLS1_2 cipher=ECDHE-ECDSA-AES128-GCM-SHA256 bits=128/128);
 Tue, 21 Nov 2023 09:59:26 -0800 (PST)
X-Relaying-Domain: iol.unh.edu
Date: Tue, 21 Nov 2023 09:59:26 -0800 (PST)
Message-ID: <655ceffe.5d0a0220.8a92e.7744SMTPIN_ADDED_MISSING@mx.google.com>
Received: from [172.21.0.2] (unknown [172.18.0.240])
 by postal.iol.unh.edu (Postfix) with ESMTP id 6A503605C311;
 Tue, 21 Nov 2023 12:59:25 -0500 (EST)
Subject: |SUCCESS| pw134518 [PATCH] build: riscv is not a valid -march value
From: dpdklab@iol.unh.edu
To: Test Report <test-report@dpdk.org>
Cc: dpdk-test-reports@iol.unh.edu
Content-Type: text/plain
X-BeenThere: test-report@dpdk.org
X-Mailman-Version: 2.1.29
Precedence: list
List-Id: automatic DPDK test reports <test-report.dpdk.org>
List-Unsubscribe: <https://mails.dpdk.org/options/test-report>,
 <mailto:test-report-request@dpdk.org?subject=unsubscribe>
List-Archive: <http://mails.dpdk.org/archives/test-report/>
List-Post: <mailto:test-report@dpdk.org>
List-Help: <mailto:test-report-request@dpdk.org?subject=help>
List-Subscribe: <https://mails.dpdk.org/listinfo/test-report>,
 <mailto:test-report-request@dpdk.org?subject=subscribe>
Errors-To: test-report-bounces@dpdk.org

Test-Label: iol-unit-amd64-testing
Test-Status: SUCCESS
http://dpdk.org/patch/134518

_Testing PASS_

Submitter: Christian Ehrhardt <christian.ehrhardt@canonical.com>
Date: Tuesday, November 21 2023 16:49:03 
DPDK git baseline: Repo:dpdk
  Branch: master
  CommitID:517b4b26b508a6464d07c456c04eb48d6c7f03ea

134518 --> testing pass

Test environment and result as below:

+---------------------+----------------+
|     Environment     | dpdk_unit_test |
+=====================+================+
| CentOS Stream 9     | PASS           |
+---------------------+----------------+
| Debian Buster       | PASS           |
+---------------------+----------------+
| Windows Server 2019 | PASS           |
+---------------------+----------------+
| CentOS Stream 8     | PASS           |
+---------------------+----------------+
| Debian Bullseye     | PASS           |
+---------------------+----------------+
| openSUSE Leap 15    | PASS           |
+---------------------+----------------+
| Fedora 37           | PASS           |
+---------------------+----------------+
| Fedora 38           | PASS           |
+---------------------+----------------+
| Ubuntu 20.04        | PASS           |
+---------------------+----------------+


CentOS Stream 9
	Kernel: 4.18.0-240.10.1.el8_3.x86_64
	Compiler: gcc 11.3.1 20220421

Debian Buster
	Kernel: 5.4.0-122-generic
	Compiler: gcc 8.3.0-6

Windows Server 2019
	Kernel: 10.0
	Compiler: clang 14.0 and gcc 8.1.0 (MinGW)

CentOS Stream 8
	Kernel: 4.18.0-240.10.1.el8_3.x86_64
	Compiler: gcc 8.4.1 20200928

Debian Bullseye
	Kernel: 5.4.0-122-generic
	Compiler: gcc 10.2.1-6

openSUSE Leap 15
	Kernel: 4.18.0-240.10.1.el8_3.x86_64
	Compiler: gcc 7.5.0

Fedora 37
	Kernel: Depends on container host system
	Compiler: gcc 12.3.1

Fedora 38
	Kernel: Depends on container host
	Compiler: gcc 13.1.1

Ubuntu 20.04
	Kernel: 5.4.0-153-generic
	Compiler: gcc 9.4.0-1ubuntu1~20.04.1

To view detailed results, visit:
https://lab.dpdk.org/results/dashboard/patchsets/28430/

UNH-IOL DPDK Community Lab

To manage your email subscriptions, visit: 
https://lab.dpdk.org/results/dashboard/preferences/subscriptions/