From mboxrd@z Thu Jan  1 00:00:00 1970
Return-Path: <test-report-bounces@dpdk.org>
Received: from mails.dpdk.org (mails.dpdk.org [217.70.189.124])
	by inbox.dpdk.org (Postfix) with ESMTP id 70A5243391
	for <public@inbox.dpdk.org>; Tue, 21 Nov 2023 19:16:52 +0100 (CET)
Received: from mails.dpdk.org (localhost [127.0.0.1])
	by mails.dpdk.org (Postfix) with ESMTP id 69FB640633;
	Tue, 21 Nov 2023 19:16:52 +0100 (CET)
Received: from mail-lf1-f100.google.com (mail-lf1-f100.google.com
 [209.85.167.100])
 by mails.dpdk.org (Postfix) with ESMTP id 4191F40633
 for <test-report@dpdk.org>; Tue, 21 Nov 2023 19:16:51 +0100 (CET)
Received: by mail-lf1-f100.google.com with SMTP id
 2adb3069b0e04-507a55302e0so8496499e87.0
 for <test-report@dpdk.org>; Tue, 21 Nov 2023 10:16:51 -0800 (PST)
DKIM-Signature: v=1; a=rsa-sha256; c=relaxed/relaxed;
 d=iol.unh.edu; s=unh-iol; t=1700590611; x=1701195411; darn=dpdk.org;
 h=cc:to:from:subject:message-id:date:from:to:cc:subject:date
 :message-id:reply-to;
 bh=UVooqEOWozsOZDp+dMs11jzDl21cgxSx+ieS65kFJOg=;
 b=dftFcL/fScZXvATtqfAq1GePrcW+W/g5S4N4dfpq3HmPchDqJ8rTSXsY1xrehKJl8W
 m2W2C4V/QlXyRexMdEUC3Zu6Jg3vIfMDM/XMN0U3aTVNc1S92viHAGfYuPg4dFcGZE/8
 N6g0bxcWUaOTzjoZ/iXTm58qkbH00BGnGJXq8=
X-Google-DKIM-Signature: v=1; a=rsa-sha256; c=relaxed/relaxed;
 d=1e100.net; s=20230601; t=1700590611; x=1701195411;
 h=cc:to:from:subject:message-id:date:x-gm-message-state:from:to:cc
 :subject:date:message-id:reply-to;
 bh=UVooqEOWozsOZDp+dMs11jzDl21cgxSx+ieS65kFJOg=;
 b=xGebyXdffP0NzZwFa5dg8Dzk7NRx7/0uu/5pSkVtAdRZMM/JcBNV1U5l+gFzSNjYh9
 M8a21EGPrdliQfxVNP9+6xVREZfzlBGQ1GZ8QoLSC0YPAI731eqkicQrBVkaNZtAOhMS
 JHRREbsQw+P8xhc2XJjGtf/uTm8GSvWKsBRerx6LxXIdzww3OuYApD3BGDL0WGxE3FFf
 xTebEoSXpszlEbooCkBTMD/sgYlEduOcNPz/FDXUy0RlXDXTZZS//6lUyXiUIeJ05Ymb
 kwv4obhPvzkuJNsGtK/CZmcsngd2Iei1EC06/zxrGGR+eZtTdlRUnCc/jRt/ywAbPibn
 T+KA==
X-Gm-Message-State: AOJu0YySnl4YBtROl/Z72IzKVVKdKff5aC2sDVqgH6pSEbtuZIZEqXe6
 Y3Tg4NCDq4SiOYD1lYCW12LvO8eqKHgTGSEp6WENARX9KsUxsi56Nh4lCrIOXSk/bbh8vU+9pA=
 =
X-Google-Smtp-Source: AGHT+IGEkuLGjeBwx42n4OWDcYxGjbeb4VU3p2CRb25xmm9qjx9NQDeO39jb3HghlE5lOUoIjtDubg0/kieE
X-Received: by 2002:a05:6512:3f26:b0:509:8a47:3672 with SMTP id
 y38-20020a0565123f2600b005098a473672mr31724lfa.34.1700590610665; 
 Tue, 21 Nov 2023 10:16:50 -0800 (PST)
Received: from postal.iol.unh.edu (postal.iol.unh.edu.
 [2606:4100:3880:1234::84]) by smtp-relay.gmail.com with ESMTPS id
 e9-20020a170906374900b009b95641fa47sm1124850ejc.105.2023.11.21.10.16.50
 (version=TLS1_2 cipher=ECDHE-ECDSA-AES128-GCM-SHA256 bits=128/128);
 Tue, 21 Nov 2023 10:16:50 -0800 (PST)
X-Relaying-Domain: iol.unh.edu
Date: Tue, 21 Nov 2023 10:16:50 -0800 (PST)
Message-ID: <655cf412.170a0220.ef6c2.fef0SMTPIN_ADDED_MISSING@mx.google.com>
Received: from [172.21.0.2] (unknown [172.18.0.240])
 by postal.iol.unh.edu (Postfix) with ESMTP id CD420605C311;
 Tue, 21 Nov 2023 13:16:49 -0500 (EST)
Subject: |SUCCESS| pw134518 [PATCH] build: riscv is not a valid -march value
From: dpdklab@iol.unh.edu
To: Test Report <test-report@dpdk.org>
Cc: dpdk-test-reports@iol.unh.edu
Content-Type: text/plain
X-BeenThere: test-report@dpdk.org
X-Mailman-Version: 2.1.29
Precedence: list
List-Id: automatic DPDK test reports <test-report.dpdk.org>
List-Unsubscribe: <https://mails.dpdk.org/options/test-report>,
 <mailto:test-report-request@dpdk.org?subject=unsubscribe>
List-Archive: <http://mails.dpdk.org/archives/test-report/>
List-Post: <mailto:test-report@dpdk.org>
List-Help: <mailto:test-report-request@dpdk.org?subject=help>
List-Subscribe: <https://mails.dpdk.org/listinfo/test-report>,
 <mailto:test-report-request@dpdk.org?subject=subscribe>
Errors-To: test-report-bounces@dpdk.org

Test-Label: iol-compile-arm64-testing
Test-Status: SUCCESS
http://dpdk.org/patch/134518

_Testing PASS_

Submitter: Christian Ehrhardt <christian.ehrhardt@canonical.com>
Date: Tuesday, November 21 2023 16:49:03 
DPDK git baseline: Repo:dpdk
  Branch: master
  CommitID:517b4b26b508a6464d07c456c04eb48d6c7f03ea

134518 --> testing pass

Test environment and result as below:

+----------------------------------------+--------------------+
|              Environment               | dpdk_meson_compile |
+========================================+====================+
| Ubuntu 20.04 ARM SVE                   | PASS               |
+----------------------------------------+--------------------+
| Ubuntu 20.04 (ARM)                     | PASS               |
+----------------------------------------+--------------------+
| Ubuntu 20.04 aarch32 GCC Cross Compile | PASS               |
+----------------------------------------+--------------------+
| Fedora 37 (ARM)                        | PASS               |
+----------------------------------------+--------------------+
| Debian 11 (Buster) (ARM)               | PASS               |
+----------------------------------------+--------------------+
| Ubuntu 20.04 ARM Clang Cross Compile   | PASS               |
+----------------------------------------+--------------------+
| Fedora 38 (ARM)                        | PASS               |
+----------------------------------------+--------------------+


Ubuntu 20.04 ARM SVE
	Kernel: 5.4.0-80-generic
	Compiler: gcc 10.3.0 (Ubuntu 10.3.0-1ubuntu1~20.04)

Ubuntu 20.04 (ARM)
	Kernel: Container Host Kernel
	Compiler: gcc 9.4.0

Ubuntu 20.04 aarch32 GCC Cross Compile
	Kernel: 5.4.0-72-generic
	Compiler: gcc 9.3.0

Fedora 37 (ARM)
	Kernel: Depends on container host
	Compiler: gcc 12.3.1

Debian 11 (Buster) (ARM)
	Kernel: Container Host Kernel
	Compiler: gcc 10.2.1

Ubuntu 20.04 ARM Clang Cross Compile
	Kernel: 5.4.0-72-generic
	Compiler: clang version 10.0.0-4ubuntu1

Fedora 38 (ARM)
	Kernel: Depends on container host
	Compiler: gcc 13.1.1

To view detailed results, visit:
https://lab.dpdk.org/results/dashboard/patchsets/28430/

UNH-IOL DPDK Community Lab

To manage your email subscriptions, visit: 
https://lab.dpdk.org/results/dashboard/preferences/subscriptions/