From mboxrd@z Thu Jan  1 00:00:00 1970
Return-Path: <test-report-bounces@dpdk.org>
Received: from mails.dpdk.org (mails.dpdk.org [217.70.189.124])
	by inbox.dpdk.org (Postfix) with ESMTP id 17F2F4339B
	for <public@inbox.dpdk.org>; Wed, 22 Nov 2023 10:08:25 +0100 (CET)
Received: from mails.dpdk.org (localhost [127.0.0.1])
	by mails.dpdk.org (Postfix) with ESMTP id 12CBE402EC;
	Wed, 22 Nov 2023 10:08:25 +0100 (CET)
Received: from mail-il1-f226.google.com (mail-il1-f226.google.com
 [209.85.166.226])
 by mails.dpdk.org (Postfix) with ESMTP id 7B6DF4028C
 for <test-report@dpdk.org>; Wed, 22 Nov 2023 10:08:23 +0100 (CET)
Received: by mail-il1-f226.google.com with SMTP id
 e9e14a558f8ab-3574f99d236so23214985ab.2
 for <test-report@dpdk.org>; Wed, 22 Nov 2023 01:08:23 -0800 (PST)
DKIM-Signature: v=1; a=rsa-sha256; c=relaxed/relaxed;
 d=iol.unh.edu; s=unh-iol; t=1700644103; x=1701248903; darn=dpdk.org;
 h=cc:to:from:subject:message-id:date:from:to:cc:subject:date
 :message-id:reply-to;
 bh=uDHVSwWMzOf7yORoxPOwVMDhATEnFa9/tGy/OFuzu44=;
 b=MUp910lakZRRcW+lEczRAzmlU7/2ue3U/UqzqiNZnXbEF/fQxvuWP0oseureE/b5w+
 UqZVppolri9V8bVmbDAT9r7jL9umfnJdTmMDZsORW4GZMY1xylLW4MV+nbgyzMzwcC6o
 HPIRe8kzyMsxotwGOFxDk7W7RDHY6Lqc+3vUI=
X-Google-DKIM-Signature: v=1; a=rsa-sha256; c=relaxed/relaxed;
 d=1e100.net; s=20230601; t=1700644103; x=1701248903;
 h=cc:to:from:subject:message-id:date:x-gm-message-state:from:to:cc
 :subject:date:message-id:reply-to;
 bh=uDHVSwWMzOf7yORoxPOwVMDhATEnFa9/tGy/OFuzu44=;
 b=mHi2H9mxYA7SYHebGGWEdqtnuljPPCZLpA8UkeBTz5ADjcCdPLZjmAyfKlDsuVHu3G
 KvAmTXowMoFqikT91EtvshgVt5jnjgwkvXJK6SUDDwY3IYLdbnBreEF1Lnc/ZP4M9naU
 zbQiQAVFNIyy488h3Q+6PQglF7ZABAhnrnKy9u11vDlIqFqlLpr/Cf20ffonEH7reosm
 /i0s6F5UMhZ7CNxVWIitdFdaqWWQoSMkthqfDel3GcVvMZZxrBz0iQS5QtDDPnc1tmuo
 s/DbWoCB5UkmJMHmQD62PMQuP7luInMkhenLhqcgtH4UEqc9jWiwOYuuYHTDwkG7ZPCB
 YiVg==
X-Gm-Message-State: AOJu0YwTv3REW0QXy1xSmuuFaFc8B0YcbOAATWBv9Ca7Kaf1wYbfaA+I
 kUo7eI48BrmlGraowdGXyFFmxtMGotK1+wkJrovLF/1DUJ3W7WSHQ/v6uQ==
X-Google-Smtp-Source: AGHT+IFW1t5GicckC8TjT7ncQaDeKzMxo+IyRSkzRWK4clazO7lmzMDESilDBccybMXtWw1KBNuRMOqRqgD4
X-Received: by 2002:a05:6e02:1d83:b0:359:673a:acb with SMTP id
 h3-20020a056e021d8300b00359673a0acbmr1988308ila.12.1700644102843; 
 Wed, 22 Nov 2023 01:08:22 -0800 (PST)
Received: from postal.iol.unh.edu (postal.iol.unh.edu. [132.177.123.84])
 by smtp-relay.gmail.com with ESMTPS id
 s17-20020a92d911000000b00357ac3ccf07sm745162iln.55.2023.11.22.01.08.22
 (version=TLS1_2 cipher=ECDHE-ECDSA-AES128-GCM-SHA256 bits=128/128);
 Wed, 22 Nov 2023 01:08:22 -0800 (PST)
X-Relaying-Domain: iol.unh.edu
Date: Wed, 22 Nov 2023 01:08:22 -0800 (PST)
Message-ID: <655dc506.920a0220.5f2a.c5edSMTPIN_ADDED_MISSING@mx.google.com>
Received: from [172.21.0.2] (unknown [172.18.0.240])
 by postal.iol.unh.edu (Postfix) with ESMTP id 06CF26051823;
 Wed, 22 Nov 2023 04:08:22 -0500 (EST)
Subject: |SUCCESS| pw134523 [PATCH] examples/ipsec-secgw: fix cmp_sa_key bug
From: dpdklab@iol.unh.edu
To: Test Report <test-report@dpdk.org>
Cc: dpdk-test-reports@iol.unh.edu
Content-Type: text/plain
X-BeenThere: test-report@dpdk.org
X-Mailman-Version: 2.1.29
Precedence: list
List-Id: automatic DPDK test reports <test-report.dpdk.org>
List-Unsubscribe: <https://mails.dpdk.org/options/test-report>,
 <mailto:test-report-request@dpdk.org?subject=unsubscribe>
List-Archive: <http://mails.dpdk.org/archives/test-report/>
List-Post: <mailto:test-report@dpdk.org>
List-Help: <mailto:test-report-request@dpdk.org?subject=help>
List-Subscribe: <https://mails.dpdk.org/listinfo/test-report>,
 <mailto:test-report-request@dpdk.org?subject=subscribe>
Errors-To: test-report-bounces@dpdk.org

Test-Label: iol-compile-amd64-testing
Test-Status: SUCCESS
http://dpdk.org/patch/134523

_Testing PASS_

Submitter: supeng2087 <supeng2087@aliyun.com>
Date: Wednesday, November 22 2023 07:58:40 
DPDK git baseline: Repo:dpdk
  Branch: master
  CommitID:baaa446dd47ec05a93bb1843fc49791c8fa21697

134523 --> testing pass

Test environment and result as below:

+---------------------+--------------------+----------------------+
|     Environment     | dpdk_meson_compile | dpdk_mingw64_compile |
+=====================+====================+======================+
| CentOS Stream 9     | PASS               | SKIPPED              |
+---------------------+--------------------+----------------------+
| Debian Buster       | PASS               | SKIPPED              |
+---------------------+--------------------+----------------------+
| CentOS Stream 8     | PASS               | SKIPPED              |
+---------------------+--------------------+----------------------+
| FreeBSD 13          | PASS               | SKIPPED              |
+---------------------+--------------------+----------------------+
| Windows Server 2022 | PASS               | SKIPPED              |
+---------------------+--------------------+----------------------+
| Ubuntu 20.04        | PASS               | SKIPPED              |
+---------------------+--------------------+----------------------+
| Windows Server 2019 | PASS               | PASS                 |
+---------------------+--------------------+----------------------+
| RHEL8               | PASS               | SKIPPED              |
+---------------------+--------------------+----------------------+
| openSUSE Leap 15    | PASS               | SKIPPED              |
+---------------------+--------------------+----------------------+
| Fedora 38           | PASS               | SKIPPED              |
+---------------------+--------------------+----------------------+


CentOS Stream 9
	Kernel: 4.18.0-240.10.1.el8_3.x86_64
	Compiler: gcc 11.3.1 20220421

Debian Buster
	Kernel: 5.4.0-122-generic
	Compiler: gcc 8.3.0-6

CentOS Stream 8
	Kernel: 4.18.0-240.10.1.el8_3.x86_64
	Compiler: gcc 8.4.1 20200928

FreeBSD 13
	Kernel: 13.0
	Compiler: clang 11.0.1

Windows Server 2022
	Kernel: OS Build 20348.2031
	Compiler: MSVC VS-Preview

Ubuntu 20.04
	Kernel: 5.4.0-153-generic
	Compiler: gcc 9.4.0-1ubuntu1~20.04.1

Windows Server 2019
	Kernel: 10.0
	Compiler: clang 14.0 and gcc 8.1.0 (MinGW)

RHEL8
	Kernel: 4.18.0-240.10.1.el8_3.x86_64
	Compiler: gcc 8.3.1 20191121 (Red Hat 8.3.1-5)

openSUSE Leap 15
	Kernel: 4.18.0-240.10.1.el8_3.x86_64
	Compiler: gcc 7.5.0

Fedora 38
	Kernel: Depends on container host
	Compiler: gcc 13.1.1

To view detailed results, visit:
https://lab.dpdk.org/results/dashboard/patchsets/28435/

UNH-IOL DPDK Community Lab

To manage your email subscriptions, visit: 
https://lab.dpdk.org/results/dashboard/preferences/subscriptions/