From mboxrd@z Thu Jan  1 00:00:00 1970
Return-Path: <test-report-bounces@dpdk.org>
Received: from mails.dpdk.org (mails.dpdk.org [217.70.189.124])
	by inbox.dpdk.org (Postfix) with ESMTP id 2B4864339B
	for <public@inbox.dpdk.org>; Wed, 22 Nov 2023 10:08:44 +0100 (CET)
Received: from mails.dpdk.org (localhost [127.0.0.1])
	by mails.dpdk.org (Postfix) with ESMTP id 260E9402EC;
	Wed, 22 Nov 2023 10:08:44 +0100 (CET)
Received: from mail-vk1-f227.google.com (mail-vk1-f227.google.com
 [209.85.221.227])
 by mails.dpdk.org (Postfix) with ESMTP id 2B1354028C
 for <test-report@dpdk.org>; Wed, 22 Nov 2023 10:08:43 +0100 (CET)
Received: by mail-vk1-f227.google.com with SMTP id
 71dfb90a1353d-4ac28cab4efso2018755e0c.0
 for <test-report@dpdk.org>; Wed, 22 Nov 2023 01:08:43 -0800 (PST)
DKIM-Signature: v=1; a=rsa-sha256; c=relaxed/relaxed;
 d=iol.unh.edu; s=unh-iol; t=1700644122; x=1701248922; darn=dpdk.org;
 h=cc:to:from:subject:message-id:date:from:to:cc:subject:date
 :message-id:reply-to;
 bh=uDHVSwWMzOf7yORoxPOwVMDhATEnFa9/tGy/OFuzu44=;
 b=U/uAqBq1RyquQvIF63fUEPPnHfTeLcusbgnDkwZpUEuABy1sV7l2viiL7NXYYZhVHR
 DqB5IL2ud9vI2kwt9K3dsTfi9Otw85Ju8Mdjwf5z/ByJGQXJpJndfaQg3VcfZkkSPddJ
 QNxqK7eHt2cFnjkhobAnJIz+cO/wA+zAzhkH0=
X-Google-DKIM-Signature: v=1; a=rsa-sha256; c=relaxed/relaxed;
 d=1e100.net; s=20230601; t=1700644122; x=1701248922;
 h=cc:to:from:subject:message-id:date:x-gm-message-state:from:to:cc
 :subject:date:message-id:reply-to;
 bh=uDHVSwWMzOf7yORoxPOwVMDhATEnFa9/tGy/OFuzu44=;
 b=gD0b7lntx4rncLiJJhsXx0DNKq9Mdn88T8iI/MsZ6DSuMKbekDKmlGFm0UW4wYR5cq
 ELL4QhxXHXDjQWPpJr3R65KZyxaN5/1sNNKTlh+JiH1PEtok9a669T2jTBgoQ2A0de4A
 GyMuEClDUbS/mBZNR5a63YeS7Ba1iOe4Lx6QF6Evz5Wd5ashcxBWjKB2YRPt7WKqWZjS
 JKcyMI6VHHcbdhjBU4XsJuGNz8EiP0nsVWV4K0VLdKyZ1D2DWWngEt9BsOGYEg3ZQruL
 xgw8GQQukviUTc/UyAQAbMuyi5YC3LCqlCa655UfutT+WkXX/cs5bMvutuRYEzKdn2KS
 gU8w==
X-Gm-Message-State: AOJu0YyZvOAvM9I+Lxh/xoeUn0vT5xl4qx1qhWeC1wv+ypd1QxvLLIV/
 K/TPFpO3VBBOBBUAkK3oQoRdzna40hl5mLVXi3Ue5yBJFj4ySLAw4jGuIscIFf7NykxAQLgSsQ=
 =
X-Google-Smtp-Source: AGHT+IEgEo0JTPvMjbKl70apP1qmCRWDiuZilZ8RBII6Vqud0/BazUlceWiRZHG9pEP7JIl8FVJ47Tas8YEm
X-Received: by 2002:a1f:eb82:0:b0:4ab:f1af:d837 with SMTP id
 j124-20020a1feb82000000b004abf1afd837mr1917628vkh.13.1700644122452; 
 Wed, 22 Nov 2023 01:08:42 -0800 (PST)
Received: from postal.iol.unh.edu (postal.iol.unh.edu.
 [2606:4100:3880:1234::84]) by smtp-relay.gmail.com with ESMTPS id
 cz30-20020a056130119e00b007c1a451e9b9sm783214uab.1.2023.11.22.01.08.42
 (version=TLS1_2 cipher=ECDHE-ECDSA-AES128-GCM-SHA256 bits=128/128);
 Wed, 22 Nov 2023 01:08:42 -0800 (PST)
X-Relaying-Domain: iol.unh.edu
Date: Wed, 22 Nov 2023 01:08:42 -0800 (PST)
Message-ID: <655dc51a.050a0220.27016.cf5fSMTPIN_ADDED_MISSING@mx.google.com>
Received: from [172.21.0.2] (unknown [172.18.0.240])
 by postal.iol.unh.edu (Postfix) with ESMTP id D59D86051823;
 Wed, 22 Nov 2023 04:08:41 -0500 (EST)
Subject: |SUCCESS| pw134523 [PATCH] examples/ipsec-secgw: fix cmp_sa_key bug
From: dpdklab@iol.unh.edu
To: Test Report <test-report@dpdk.org>
Cc: dpdk-test-reports@iol.unh.edu
Content-Type: text/plain
X-BeenThere: test-report@dpdk.org
X-Mailman-Version: 2.1.29
Precedence: list
List-Id: automatic DPDK test reports <test-report.dpdk.org>
List-Unsubscribe: <https://mails.dpdk.org/options/test-report>,
 <mailto:test-report-request@dpdk.org?subject=unsubscribe>
List-Archive: <http://mails.dpdk.org/archives/test-report/>
List-Post: <mailto:test-report@dpdk.org>
List-Help: <mailto:test-report-request@dpdk.org?subject=help>
List-Subscribe: <https://mails.dpdk.org/listinfo/test-report>,
 <mailto:test-report-request@dpdk.org?subject=subscribe>
Errors-To: test-report-bounces@dpdk.org

Test-Label: iol-compile-amd64-testing
Test-Status: SUCCESS
http://dpdk.org/patch/134523

_Testing PASS_

Submitter: supeng2087 <supeng2087@aliyun.com>
Date: Wednesday, November 22 2023 07:58:40 
DPDK git baseline: Repo:dpdk
  Branch: master
  CommitID:baaa446dd47ec05a93bb1843fc49791c8fa21697

134523 --> testing pass

Test environment and result as below:

+---------------------+--------------------+----------------------+
|     Environment     | dpdk_meson_compile | dpdk_mingw64_compile |
+=====================+====================+======================+
| CentOS Stream 9     | PASS               | SKIPPED              |
+---------------------+--------------------+----------------------+
| Debian Buster       | PASS               | SKIPPED              |
+---------------------+--------------------+----------------------+
| CentOS Stream 8     | PASS               | SKIPPED              |
+---------------------+--------------------+----------------------+
| FreeBSD 13          | PASS               | SKIPPED              |
+---------------------+--------------------+----------------------+
| Windows Server 2022 | PASS               | SKIPPED              |
+---------------------+--------------------+----------------------+
| Ubuntu 20.04        | PASS               | SKIPPED              |
+---------------------+--------------------+----------------------+
| Windows Server 2019 | PASS               | PASS                 |
+---------------------+--------------------+----------------------+
| RHEL8               | PASS               | SKIPPED              |
+---------------------+--------------------+----------------------+
| openSUSE Leap 15    | PASS               | SKIPPED              |
+---------------------+--------------------+----------------------+
| Fedora 38           | PASS               | SKIPPED              |
+---------------------+--------------------+----------------------+


CentOS Stream 9
	Kernel: 4.18.0-240.10.1.el8_3.x86_64
	Compiler: gcc 11.3.1 20220421

Debian Buster
	Kernel: 5.4.0-122-generic
	Compiler: gcc 8.3.0-6

CentOS Stream 8
	Kernel: 4.18.0-240.10.1.el8_3.x86_64
	Compiler: gcc 8.4.1 20200928

FreeBSD 13
	Kernel: 13.0
	Compiler: clang 11.0.1

Windows Server 2022
	Kernel: OS Build 20348.2031
	Compiler: MSVC VS-Preview

Ubuntu 20.04
	Kernel: 5.4.0-153-generic
	Compiler: gcc 9.4.0-1ubuntu1~20.04.1

Windows Server 2019
	Kernel: 10.0
	Compiler: clang 14.0 and gcc 8.1.0 (MinGW)

RHEL8
	Kernel: 4.18.0-240.10.1.el8_3.x86_64
	Compiler: gcc 8.3.1 20191121 (Red Hat 8.3.1-5)

openSUSE Leap 15
	Kernel: 4.18.0-240.10.1.el8_3.x86_64
	Compiler: gcc 7.5.0

Fedora 38
	Kernel: Depends on container host
	Compiler: gcc 13.1.1

To view detailed results, visit:
https://lab.dpdk.org/results/dashboard/patchsets/28435/

UNH-IOL DPDK Community Lab

To manage your email subscriptions, visit: 
https://lab.dpdk.org/results/dashboard/preferences/subscriptions/