From mboxrd@z Thu Jan  1 00:00:00 1970
Return-Path: <test-report-bounces@dpdk.org>
Received: from mails.dpdk.org (mails.dpdk.org [217.70.189.124])
	by inbox.dpdk.org (Postfix) with ESMTP id 235F84339B
	for <public@inbox.dpdk.org>; Wed, 22 Nov 2023 10:18:01 +0100 (CET)
Received: from mails.dpdk.org (localhost [127.0.0.1])
	by mails.dpdk.org (Postfix) with ESMTP id 1B4E5402EC;
	Wed, 22 Nov 2023 10:18:01 +0100 (CET)
Received: from mail-yb1-f227.google.com (mail-yb1-f227.google.com
 [209.85.219.227])
 by mails.dpdk.org (Postfix) with ESMTP id 005104028C
 for <test-report@dpdk.org>; Wed, 22 Nov 2023 10:17:57 +0100 (CET)
Received: by mail-yb1-f227.google.com with SMTP id
 3f1490d57ef6-dafe04717baso6010562276.1
 for <test-report@dpdk.org>; Wed, 22 Nov 2023 01:17:57 -0800 (PST)
DKIM-Signature: v=1; a=rsa-sha256; c=relaxed/relaxed;
 d=iol.unh.edu; s=unh-iol; t=1700644677; x=1701249477; darn=dpdk.org;
 h=cc:to:from:subject:message-id:date:from:to:cc:subject:date
 :message-id:reply-to;
 bh=xEqF1QdQA5+oWe0gNRE2yNY2lSEwrlPeabIb2o52wyE=;
 b=Jg1OfJKantMD1Jc9wqfFKZYcCuM/jNJ6y5gKgfcHhN1E2zmEkuZV5tBIxdjP+v9wTi
 rJGUcRETy2F2yykZxygU/nZijkSQ/3x+HCm9y01KGYRlH1FT8MU2yBaCwp4XpsYuRQ/w
 dsMWdV4rWBVd5tgdM3StxvaRb4KwZFTcxsoms=
X-Google-DKIM-Signature: v=1; a=rsa-sha256; c=relaxed/relaxed;
 d=1e100.net; s=20230601; t=1700644677; x=1701249477;
 h=cc:to:from:subject:message-id:date:x-gm-message-state:from:to:cc
 :subject:date:message-id:reply-to;
 bh=xEqF1QdQA5+oWe0gNRE2yNY2lSEwrlPeabIb2o52wyE=;
 b=Hitq4QbljNDk53U7Juw/xCiuHmacJHP4QCvJWt2UjZpKX2RTMGVuIXg5MmzmDWI5IW
 1SmQ3A+rOf8A4eYnQ7JYblsJgcDsGSx3gN21teS+9DsBGQhnJ7/5oTUoPK/4/TuvIn77
 mWLewYGOI5wxFEnsOIhZdaBQZR/cuKZxDoamniEkpOUWlUE2iNK19+DwbgLTdrxQXvD/
 EAMwjaJE5Qf/9/n1du6en0wTTkNoPs8IDX9+EJffYDAn0UWBp5PVZsMkIGDUkPPF8YSJ
 bBxtUivE3poa4Or2mMbw2Co4OgdKY0IMFJpZuzYYtW5sKd0iD2cfXTmMsqmCG54tzOgx
 9mog==
X-Gm-Message-State: AOJu0YzR6lMXryFrpUlNJIZ5WArZioXc/vwcdvlC/TzPxg/wRpoQQXRV
 LbbiueaiLZzrviBulcChFR2kQElAXVfEM7Z0hvnZkVvXYG+ksR1I95MPRROwB3B+sZggkoD4Og=
 =
X-Google-Smtp-Source: AGHT+IEfuXT6Qp4eVtV0QuevwK0iP4524ISPJgpPKoks6WsTEk5UPZ3M2B4ANYbp7hOLQOdEj/G7TJKF9nbC
X-Received: by 2002:a25:e20b:0:b0:d9a:51d7:2d1c with SMTP id
 h11-20020a25e20b000000b00d9a51d72d1cmr1265087ybe.45.1700644677408; 
 Wed, 22 Nov 2023 01:17:57 -0800 (PST)
Received: from postal.iol.unh.edu (postal.iol.unh.edu.
 [2606:4100:3880:1234::84]) by smtp-relay.gmail.com with ESMTPS id
 y123-20020a25c881000000b00d9ada19029dsm538745ybf.34.2023.11.22.01.17.57
 (version=TLS1_2 cipher=ECDHE-ECDSA-AES128-GCM-SHA256 bits=128/128);
 Wed, 22 Nov 2023 01:17:57 -0800 (PST)
X-Relaying-Domain: iol.unh.edu
Date: Wed, 22 Nov 2023 01:17:57 -0800 (PST)
Message-ID: <655dc745.250a0220.43333.29dbSMTPIN_ADDED_MISSING@mx.google.com>
Received: from [172.21.0.4] (unknown [172.18.0.240])
 by postal.iol.unh.edu (Postfix) with ESMTP id F3C7A6051823;
 Wed, 22 Nov 2023 04:17:56 -0500 (EST)
Subject: |SUCCESS| pw134523 [PATCH] examples/ipsec-secgw: fix cmp_sa_key bug
From: dpdklab@iol.unh.edu
To: Test Report <test-report@dpdk.org>
Cc: dpdk-test-reports@iol.unh.edu
Content-Type: text/plain
X-BeenThere: test-report@dpdk.org
X-Mailman-Version: 2.1.29
Precedence: list
List-Id: automatic DPDK test reports <test-report.dpdk.org>
List-Unsubscribe: <https://mails.dpdk.org/options/test-report>,
 <mailto:test-report-request@dpdk.org?subject=unsubscribe>
List-Archive: <http://mails.dpdk.org/archives/test-report/>
List-Post: <mailto:test-report@dpdk.org>
List-Help: <mailto:test-report-request@dpdk.org?subject=help>
List-Subscribe: <https://mails.dpdk.org/listinfo/test-report>,
 <mailto:test-report-request@dpdk.org?subject=subscribe>
Errors-To: test-report-bounces@dpdk.org

Test-Label: iol-unit-arm64-testing
Test-Status: SUCCESS
http://dpdk.org/patch/134523

_Testing PASS_

Submitter: supeng2087 <supeng2087@aliyun.com>
Date: Wednesday, November 22 2023 07:58:40 
DPDK git baseline: Repo:dpdk
  Branch: master
  CommitID:baaa446dd47ec05a93bb1843fc49791c8fa21697

134523 --> testing pass

Test environment and result as below:

+--------------------------+---------------------------+------------------------------+--------------+----------------+
|       Environment        | cryptodev_sw_zuc_autotest | cryptodev_sw_snow3g_autotest | lpm_autotest | dpdk_unit_test |
+==========================+===========================+==============================+==============+================+
| Debian 11 (arm)          | PASS                      | PASS                         | SKIPPED      | SKIPPED        |
+--------------------------+---------------------------+------------------------------+--------------+----------------+
| Ubuntu 20.04 ARM SVE     | SKIPPED                   | SKIPPED                      | PASS         | SKIPPED        |
+--------------------------+---------------------------+------------------------------+--------------+----------------+
| Debian 11 (Buster) (ARM) | SKIPPED                   | SKIPPED                      | SKIPPED      | PASS           |
+--------------------------+---------------------------+------------------------------+--------------+----------------+
| Fedora 38 (ARM)          | SKIPPED                   | SKIPPED                      | SKIPPED      | PASS           |
+--------------------------+---------------------------+------------------------------+--------------+----------------+
| CentOS Stream 9 (ARM)    | SKIPPED                   | SKIPPED                      | SKIPPED      | PASS           |
+--------------------------+---------------------------+------------------------------+--------------+----------------+


Debian 11 (arm)
	Kernel: Container Host Kernel
	Compiler: gcc 10.2.1

Ubuntu 20.04 ARM SVE
	Kernel: 5.4.0-80-generic
	Compiler: gcc 10.3.0 (Ubuntu 10.3.0-1ubuntu1~20.04)

Debian 11 (Buster) (ARM)
	Kernel: Container Host Kernel
	Compiler: gcc 10.2.1

Fedora 38 (ARM)
	Kernel: Depends on container host
	Compiler: gcc 13.1.1

CentOS Stream 9 (ARM)
	Kernel: Container Host Kernel
	Compiler: gcc 11.3.1

To view detailed results, visit:
https://lab.dpdk.org/results/dashboard/patchsets/28435/

UNH-IOL DPDK Community Lab

To manage your email subscriptions, visit: 
https://lab.dpdk.org/results/dashboard/preferences/subscriptions/