From mboxrd@z Thu Jan  1 00:00:00 1970
Return-Path: <test-report-bounces@dpdk.org>
Received: from mails.dpdk.org (mails.dpdk.org [217.70.189.124])
	by inbox.dpdk.org (Postfix) with ESMTP id 4EB6A4339B
	for <public@inbox.dpdk.org>; Wed, 22 Nov 2023 10:21:11 +0100 (CET)
Received: from mails.dpdk.org (localhost [127.0.0.1])
	by mails.dpdk.org (Postfix) with ESMTP id 4A22B402EC;
	Wed, 22 Nov 2023 10:21:11 +0100 (CET)
Received: from mail-ot1-f97.google.com (mail-ot1-f97.google.com
 [209.85.210.97]) by mails.dpdk.org (Postfix) with ESMTP id 1BBD74028C
 for <test-report@dpdk.org>; Wed, 22 Nov 2023 10:21:09 +0100 (CET)
Received: by mail-ot1-f97.google.com with SMTP id
 46e09a7af769-6d7eca548ccso304905a34.3
 for <test-report@dpdk.org>; Wed, 22 Nov 2023 01:21:09 -0800 (PST)
DKIM-Signature: v=1; a=rsa-sha256; c=relaxed/relaxed;
 d=iol.unh.edu; s=unh-iol; t=1700644868; x=1701249668; darn=dpdk.org;
 h=cc:to:from:subject:message-id:date:from:to:cc:subject:date
 :message-id:reply-to;
 bh=mGs8qS75FvncR6hpfUv132iSZx0k4PrzIsA1Z7E8j4o=;
 b=ODPEb3Hw96Sc063gBGfH0m1eIXa6wE2t5uLaOVqyqBgwa0qy78Ivh7P/uHuwfh6yuK
 DUzDig2lF51uC8LAfB443CpUKDd6PQPHTtjPYc/kdEYR4sJmJICpaxiWyiycBh2I0w4e
 Bxo11hky7Kl8o9g7o4cCE572AVqTjGdWBCb40=
X-Google-DKIM-Signature: v=1; a=rsa-sha256; c=relaxed/relaxed;
 d=1e100.net; s=20230601; t=1700644868; x=1701249668;
 h=cc:to:from:subject:message-id:date:x-gm-message-state:from:to:cc
 :subject:date:message-id:reply-to;
 bh=mGs8qS75FvncR6hpfUv132iSZx0k4PrzIsA1Z7E8j4o=;
 b=HNIPtFC582lEb5n22ghGYC1XyQie4HgbDIUtld12U/5L9Y87LzFM18OENjgqy7CI62
 4SVuYzXmlCoYxaSWFeoMgxRdKCYvuCqR33GsgkSL/ZiqXQNsvyM+GqUyTbRrqIPO/2Lk
 Xp2b0RYPQcxUewbhraDaqlkEWKZx0bI7ctJUatZRW34nXOWQ4RqSNOSlA/IRiLgLM9Hg
 mXPYl4VXBPDi9c8y2HNjdE6KoG8kXyGje6P5tIVfE3Mumay3Z20y+Kdfl5lf7CCaeuBQ
 nQ0c2mCbBd9ywGYGJE8hs7/LUAPYFwKcUIkLmqxmiNHnyj62hSJ4HJkGYCVCl9potIFj
 JeWg==
X-Gm-Message-State: AOJu0YzATGGDDY5Ny9EbLMYHzBn5Jo6dGJNP3upjUgajnJw3l3EajJow
 s8WSOp5JcI5rlpmi5B9yR04Q/wBe9MTcFsNkZnXCWKyecAF+9n06vXUWIyRtk/vMFjnfgd8l0A=
 =
X-Google-Smtp-Source: AGHT+IEIiIOGoyeBP/w58DN0F9odsGcETgXIOjseU7d+JwH1p8ajU7NXIYrtPqyDuzH9Tl/DA+iTILfW5OMn
X-Received: by 2002:a05:6871:4583:b0:1f0:15f4:41df with SMTP id
 nl3-20020a056871458300b001f015f441dfmr2552560oab.37.1700644868499; 
 Wed, 22 Nov 2023 01:21:08 -0800 (PST)
Received: from postal.iol.unh.edu (postal.iol.unh.edu.
 [2606:4100:3880:1234::84]) by smtp-relay.gmail.com with ESMTPS id
 pw1-20020a0568713b0100b001dcf66a0513sm682003oac.27.2023.11.22.01.21.08
 (version=TLS1_2 cipher=ECDHE-ECDSA-AES128-GCM-SHA256 bits=128/128);
 Wed, 22 Nov 2023 01:21:08 -0800 (PST)
X-Relaying-Domain: iol.unh.edu
Date: Wed, 22 Nov 2023 01:21:08 -0800 (PST)
Message-ID: <655dc804.050a0220.c7204.90aeSMTPIN_ADDED_MISSING@mx.google.com>
Received: from [172.21.0.2] (unknown [172.18.0.240])
 by postal.iol.unh.edu (Postfix) with ESMTP id 243956051823;
 Wed, 22 Nov 2023 04:21:08 -0500 (EST)
Subject: |SUCCESS| pw134523 [PATCH] examples/ipsec-secgw: fix cmp_sa_key bug
From: dpdklab@iol.unh.edu
To: Test Report <test-report@dpdk.org>
Cc: dpdk-test-reports@iol.unh.edu
Content-Type: text/plain
X-BeenThere: test-report@dpdk.org
X-Mailman-Version: 2.1.29
Precedence: list
List-Id: automatic DPDK test reports <test-report.dpdk.org>
List-Unsubscribe: <https://mails.dpdk.org/options/test-report>,
 <mailto:test-report-request@dpdk.org?subject=unsubscribe>
List-Archive: <http://mails.dpdk.org/archives/test-report/>
List-Post: <mailto:test-report@dpdk.org>
List-Help: <mailto:test-report-request@dpdk.org?subject=help>
List-Subscribe: <https://mails.dpdk.org/listinfo/test-report>,
 <mailto:test-report-request@dpdk.org?subject=subscribe>
Errors-To: test-report-bounces@dpdk.org

Test-Label: iol-unit-arm64-testing
Test-Status: SUCCESS
http://dpdk.org/patch/134523

_Testing PASS_

Submitter: supeng2087 <supeng2087@aliyun.com>
Date: Wednesday, November 22 2023 07:58:40 
DPDK git baseline: Repo:dpdk
  Branch: master
  CommitID:baaa446dd47ec05a93bb1843fc49791c8fa21697

134523 --> testing pass

Test environment and result as below:

+--------------------------+---------------------------+------------------------------+--------------+----------------+
|       Environment        | cryptodev_sw_zuc_autotest | cryptodev_sw_snow3g_autotest | lpm_autotest | dpdk_unit_test |
+==========================+===========================+==============================+==============+================+
| Debian 11 (arm)          | PASS                      | PASS                         | SKIPPED      | SKIPPED        |
+--------------------------+---------------------------+------------------------------+--------------+----------------+
| Ubuntu 20.04 ARM SVE     | SKIPPED                   | SKIPPED                      | PASS         | SKIPPED        |
+--------------------------+---------------------------+------------------------------+--------------+----------------+
| Debian 11 (Buster) (ARM) | SKIPPED                   | SKIPPED                      | SKIPPED      | PASS           |
+--------------------------+---------------------------+------------------------------+--------------+----------------+
| Fedora 38 (ARM)          | SKIPPED                   | SKIPPED                      | SKIPPED      | PASS           |
+--------------------------+---------------------------+------------------------------+--------------+----------------+
| CentOS Stream 9 (ARM)    | SKIPPED                   | SKIPPED                      | SKIPPED      | PASS           |
+--------------------------+---------------------------+------------------------------+--------------+----------------+
| Ubuntu 20.04 (ARM)       | SKIPPED                   | SKIPPED                      | SKIPPED      | PASS           |
+--------------------------+---------------------------+------------------------------+--------------+----------------+
| Fedora 37 (ARM)          | SKIPPED                   | SKIPPED                      | SKIPPED      | PASS           |
+--------------------------+---------------------------+------------------------------+--------------+----------------+


Debian 11 (arm)
	Kernel: Container Host Kernel
	Compiler: gcc 10.2.1

Ubuntu 20.04 ARM SVE
	Kernel: 5.4.0-80-generic
	Compiler: gcc 10.3.0 (Ubuntu 10.3.0-1ubuntu1~20.04)

Debian 11 (Buster) (ARM)
	Kernel: Container Host Kernel
	Compiler: gcc 10.2.1

Fedora 38 (ARM)
	Kernel: Depends on container host
	Compiler: gcc 13.1.1

CentOS Stream 9 (ARM)
	Kernel: Container Host Kernel
	Compiler: gcc 11.3.1

Ubuntu 20.04 (ARM)
	Kernel: Container Host Kernel
	Compiler: gcc 9.4.0

Fedora 37 (ARM)
	Kernel: Depends on container host
	Compiler: gcc 12.3.1

To view detailed results, visit:
https://lab.dpdk.org/results/dashboard/patchsets/28435/

UNH-IOL DPDK Community Lab

To manage your email subscriptions, visit: 
https://lab.dpdk.org/results/dashboard/preferences/subscriptions/