From mboxrd@z Thu Jan  1 00:00:00 1970
Return-Path: <test-report-bounces@dpdk.org>
Received: from mails.dpdk.org (mails.dpdk.org [217.70.189.124])
	by inbox.dpdk.org (Postfix) with ESMTP id 6EA904339B
	for <public@inbox.dpdk.org>; Wed, 22 Nov 2023 10:21:37 +0100 (CET)
Received: from mails.dpdk.org (localhost [127.0.0.1])
	by mails.dpdk.org (Postfix) with ESMTP id 6A887402EC;
	Wed, 22 Nov 2023 10:21:37 +0100 (CET)
Received: from mail-oa1-f98.google.com (mail-oa1-f98.google.com
 [209.85.160.98]) by mails.dpdk.org (Postfix) with ESMTP id C75014028C
 for <test-report@dpdk.org>; Wed, 22 Nov 2023 10:21:33 +0100 (CET)
Received: by mail-oa1-f98.google.com with SMTP id
 586e51a60fabf-1f0f160e293so3884636fac.0
 for <test-report@dpdk.org>; Wed, 22 Nov 2023 01:21:33 -0800 (PST)
DKIM-Signature: v=1; a=rsa-sha256; c=relaxed/relaxed;
 d=iol.unh.edu; s=unh-iol; t=1700644893; x=1701249693; darn=dpdk.org;
 h=cc:to:from:subject:message-id:date:from:to:cc:subject:date
 :message-id:reply-to;
 bh=mGs8qS75FvncR6hpfUv132iSZx0k4PrzIsA1Z7E8j4o=;
 b=Fx5m2Dgd2sQUu9T7nLXekxW/hvPPjTrPlLFAUPb4G3RrvaZlpYqaXrgqOVWbpWicdv
 TBDPZRwXoGxNe4hW3ojoq5vgD1Oa5CGU9meiuoFEEFBTISv9c7CsTuJcFnRplGCyQ2jp
 yM9IWgyou/34Oj2H8i6naa7fyqx/1gUVw6DiA=
X-Google-DKIM-Signature: v=1; a=rsa-sha256; c=relaxed/relaxed;
 d=1e100.net; s=20230601; t=1700644893; x=1701249693;
 h=cc:to:from:subject:message-id:date:x-gm-message-state:from:to:cc
 :subject:date:message-id:reply-to;
 bh=mGs8qS75FvncR6hpfUv132iSZx0k4PrzIsA1Z7E8j4o=;
 b=Ak3PdkW7zv0ZT6AKXTP7xNVznDHOEUkCmK/0c1sNh8cGh2SImq6qqg8oiP5SI7wOhR
 RbgT1T+Czi6LGKRfhYNQ3lpu1rziAgQcWg3ylOVLwSm5gM9aXc+iggnICAqslNScEuQV
 YQe64zpgFB1j9v/WsKpHtShcFmGS2rCNYeCIm9m1r1axAjb5ca1Svx3NUPnW9r/f3IIU
 tJvyMkuoY/0pCd60GXxlBni6VwnMjHjLi4ZZ+TkD1f8HvS/sQnM+tsJl+loYoPnTkroO
 cM/D7V5QCjEJIhJ6ZbIKcv4ksdYPSSK/0+w/UVwBRdLiWcqOedBbvg5zkoKpDwM7ah2e
 HLxw==
X-Gm-Message-State: AOJu0YySzBkdpjqhN3mqJD8UkLl8VeVX7NmQH0urxF+iPIUqsx6mUy6s
 0/irte4aNG5io9N3P8+mVvFIFu90xW4W+6Xzbs5wW0eQazTqxFhKBTkfXA==
X-Google-Smtp-Source: AGHT+IGiJgY8arYG5o5QeRwlQWb7RQSQi5gAV1T93fnVgwqjvBLoG+63wabI4ajFoKxsCT9C1Mmn2AcHIlXV
X-Received: by 2002:a05:6871:4387:b0:1c8:39a6:779e with SMTP id
 lv7-20020a056871438700b001c839a6779emr2464144oab.19.1700644893227; 
 Wed, 22 Nov 2023 01:21:33 -0800 (PST)
Received: from postal.iol.unh.edu (postal.iol.unh.edu. [132.177.123.84])
 by smtp-relay.gmail.com with ESMTPS id
 dy51-20020a056870c7b300b001f93d0b3c9fsm458802oab.15.2023.11.22.01.21.33
 (version=TLS1_2 cipher=ECDHE-ECDSA-AES128-GCM-SHA256 bits=128/128);
 Wed, 22 Nov 2023 01:21:33 -0800 (PST)
X-Relaying-Domain: iol.unh.edu
Date: Wed, 22 Nov 2023 01:21:33 -0800 (PST)
Message-ID: <655dc81d.050a0220.43b9d.e980SMTPIN_ADDED_MISSING@mx.google.com>
Received: from [172.21.0.3] (unknown [172.18.0.240])
 by postal.iol.unh.edu (Postfix) with ESMTP id D49286051823;
 Wed, 22 Nov 2023 04:21:32 -0500 (EST)
Subject: |SUCCESS| pw134523 [PATCH] examples/ipsec-secgw: fix cmp_sa_key bug
From: dpdklab@iol.unh.edu
To: Test Report <test-report@dpdk.org>
Cc: dpdk-test-reports@iol.unh.edu
Content-Type: text/plain
X-BeenThere: test-report@dpdk.org
X-Mailman-Version: 2.1.29
Precedence: list
List-Id: automatic DPDK test reports <test-report.dpdk.org>
List-Unsubscribe: <https://mails.dpdk.org/options/test-report>,
 <mailto:test-report-request@dpdk.org?subject=unsubscribe>
List-Archive: <http://mails.dpdk.org/archives/test-report/>
List-Post: <mailto:test-report@dpdk.org>
List-Help: <mailto:test-report-request@dpdk.org?subject=help>
List-Subscribe: <https://mails.dpdk.org/listinfo/test-report>,
 <mailto:test-report-request@dpdk.org?subject=subscribe>
Errors-To: test-report-bounces@dpdk.org

Test-Label: iol-unit-arm64-testing
Test-Status: SUCCESS
http://dpdk.org/patch/134523

_Testing PASS_

Submitter: supeng2087 <supeng2087@aliyun.com>
Date: Wednesday, November 22 2023 07:58:40 
DPDK git baseline: Repo:dpdk
  Branch: master
  CommitID:baaa446dd47ec05a93bb1843fc49791c8fa21697

134523 --> testing pass

Test environment and result as below:

+--------------------------+---------------------------+------------------------------+--------------+----------------+
|       Environment        | cryptodev_sw_zuc_autotest | cryptodev_sw_snow3g_autotest | lpm_autotest | dpdk_unit_test |
+==========================+===========================+==============================+==============+================+
| Debian 11 (arm)          | PASS                      | PASS                         | SKIPPED      | SKIPPED        |
+--------------------------+---------------------------+------------------------------+--------------+----------------+
| Ubuntu 20.04 ARM SVE     | SKIPPED                   | SKIPPED                      | PASS         | SKIPPED        |
+--------------------------+---------------------------+------------------------------+--------------+----------------+
| Debian 11 (Buster) (ARM) | SKIPPED                   | SKIPPED                      | SKIPPED      | PASS           |
+--------------------------+---------------------------+------------------------------+--------------+----------------+
| Fedora 38 (ARM)          | SKIPPED                   | SKIPPED                      | SKIPPED      | PASS           |
+--------------------------+---------------------------+------------------------------+--------------+----------------+
| CentOS Stream 9 (ARM)    | SKIPPED                   | SKIPPED                      | SKIPPED      | PASS           |
+--------------------------+---------------------------+------------------------------+--------------+----------------+
| Ubuntu 20.04 (ARM)       | SKIPPED                   | SKIPPED                      | SKIPPED      | PASS           |
+--------------------------+---------------------------+------------------------------+--------------+----------------+
| Fedora 37 (ARM)          | SKIPPED                   | SKIPPED                      | SKIPPED      | PASS           |
+--------------------------+---------------------------+------------------------------+--------------+----------------+


Debian 11 (arm)
	Kernel: Container Host Kernel
	Compiler: gcc 10.2.1

Ubuntu 20.04 ARM SVE
	Kernel: 5.4.0-80-generic
	Compiler: gcc 10.3.0 (Ubuntu 10.3.0-1ubuntu1~20.04)

Debian 11 (Buster) (ARM)
	Kernel: Container Host Kernel
	Compiler: gcc 10.2.1

Fedora 38 (ARM)
	Kernel: Depends on container host
	Compiler: gcc 13.1.1

CentOS Stream 9 (ARM)
	Kernel: Container Host Kernel
	Compiler: gcc 11.3.1

Ubuntu 20.04 (ARM)
	Kernel: Container Host Kernel
	Compiler: gcc 9.4.0

Fedora 37 (ARM)
	Kernel: Depends on container host
	Compiler: gcc 12.3.1

To view detailed results, visit:
https://lab.dpdk.org/results/dashboard/patchsets/28435/

UNH-IOL DPDK Community Lab

To manage your email subscriptions, visit: 
https://lab.dpdk.org/results/dashboard/preferences/subscriptions/