From mboxrd@z Thu Jan  1 00:00:00 1970
Return-Path: <test-report-bounces@dpdk.org>
Received: from mails.dpdk.org (mails.dpdk.org [217.70.189.124])
	by inbox.dpdk.org (Postfix) with ESMTP id 3CB53433AB
	for <public@inbox.dpdk.org>; Thu, 23 Nov 2023 15:07:13 +0100 (CET)
Received: from mails.dpdk.org (localhost [127.0.0.1])
	by mails.dpdk.org (Postfix) with ESMTP id 3817C42F76;
	Thu, 23 Nov 2023 15:07:13 +0100 (CET)
Received: from mail-lj1-f225.google.com (mail-lj1-f225.google.com
 [209.85.208.225])
 by mails.dpdk.org (Postfix) with ESMTP id 0CBCE42F73
 for <test-report@dpdk.org>; Thu, 23 Nov 2023 15:06:48 +0100 (CET)
Received: by mail-lj1-f225.google.com with SMTP id
 38308e7fff4ca-2c874286f4dso20647191fa.0
 for <test-report@dpdk.org>; Thu, 23 Nov 2023 06:06:48 -0800 (PST)
DKIM-Signature: v=1; a=rsa-sha256; c=relaxed/relaxed;
 d=iol.unh.edu; s=unh-iol; t=1700748407; x=1701353207; darn=dpdk.org;
 h=cc:to:from:subject:message-id:date:from:to:cc:subject:date
 :message-id:reply-to;
 bh=uVh5MPz+CiOclY+sp5d/RS/ERVS89JagqIA+v8/7RF8=;
 b=Y7Bs7fAP1ZN0ZkrWBZnx+UHeTPZQ7HZ1D4JeTMprXR68Uw6ZDMUvXNn+vFeZ6koBHs
 lmERxIBBniFQIkuOvOPh8LleMwg/D0GSQCZnecvHAdxUAa081wiTpNZrrypG34p+AaHL
 bmIA1DeKc6GM5LmCD6vZIFZH1ahbXv41g+jWg=
X-Google-DKIM-Signature: v=1; a=rsa-sha256; c=relaxed/relaxed;
 d=1e100.net; s=20230601; t=1700748407; x=1701353207;
 h=cc:to:from:subject:message-id:date:x-gm-message-state:from:to:cc
 :subject:date:message-id:reply-to;
 bh=uVh5MPz+CiOclY+sp5d/RS/ERVS89JagqIA+v8/7RF8=;
 b=IbXKIf3uGdx6bNfZMmSIVkUjRIrjT82bGkdxvwutSq7I5iZE8UxEGrU2I+1KJds6DC
 r8KJ7v4CMmrLFLG5gj0uJVPbpAABemC4Gzcrs+SPb7/ZvdyPp+KlO/HQfMDJANmB4ss+
 sCj4epNioAx/ZWDrWxUtenZ5UXf8ZYtp2BvaZh0C5IqwijVeKLE81aXlZzfwanZ1Zz0f
 yuqlv/lcg9OmMvBRjIMaKcJCVVQTXgxQaVBSPSMku2QsBqMfjhj2cBMd05utedavttR5
 1iyLSv+4jqTCrlN85N22lWB3/dkStOXJwDI1Bf+PI8d0Qo687eoq7iZ4wxF8unkBHCKY
 Dz+Q==
X-Gm-Message-State: AOJu0Yx9m0nGxKr7SAoj7s1NQA0/h4zj+xsijG8VVKJNoZ1bRJaTxYTZ
 uvxkjDCTsAyPrP0TqPuZXQEXw3OBwOPDbO+Wi2rrGTD0xcVW6ODN9KvLUQ==
X-Google-Smtp-Source: AGHT+IHKp3FebYvq/ikYHn4tcFu54Zd6363Fw2H1/fDS7pizE6PhVDuIRydCYeaHDmZ/NSICXAmyQAbVlIYN
X-Received: by 2002:a05:651c:2127:b0:2c8:8479:51ff with SMTP id
 a39-20020a05651c212700b002c8847951ffmr1176036ljq.26.1700748407558; 
 Thu, 23 Nov 2023 06:06:47 -0800 (PST)
Received: from postal.iol.unh.edu (postal.iol.unh.edu. [132.177.123.84])
 by smtp-relay.gmail.com with ESMTPS id
 p24-20020a2ea418000000b002c02145eb19sm74988ljn.36.2023.11.23.06.06.47
 (version=TLS1_2 cipher=ECDHE-ECDSA-AES128-GCM-SHA256 bits=128/128);
 Thu, 23 Nov 2023 06:06:47 -0800 (PST)
X-Relaying-Domain: iol.unh.edu
Date: Thu, 23 Nov 2023 06:06:47 -0800 (PST)
Message-ID: <655f5c77.2e0a0220.3f267.0a59SMTPIN_ADDED_MISSING@mx.google.com>
Received: from [172.17.0.4] (unknown [172.18.0.214])
 by postal.iol.unh.edu (Postfix) with ESMTP id 66547605C311;
 Thu, 23 Nov 2023 09:06:46 -0500 (EST)
Subject: |SUCCESS| pw134557-134561 [PATCH] [5/5] doc: use ordered lists
From: dpdklab@iol.unh.edu
To: Test Report <test-report@dpdk.org>
Cc: dpdk-test-reports@iol.unh.edu
Content-Type: text/plain
X-BeenThere: test-report@dpdk.org
X-Mailman-Version: 2.1.29
Precedence: list
List-Id: automatic DPDK test reports <test-report.dpdk.org>
List-Unsubscribe: <https://mails.dpdk.org/options/test-report>,
 <mailto:test-report-request@dpdk.org?subject=unsubscribe>
List-Archive: <http://mails.dpdk.org/archives/test-report/>
List-Post: <mailto:test-report@dpdk.org>
List-Help: <mailto:test-report-request@dpdk.org?subject=help>
List-Subscribe: <https://mails.dpdk.org/listinfo/test-report>,
 <mailto:test-report-request@dpdk.org?subject=subscribe>
Errors-To: test-report-bounces@dpdk.org

Test-Label: iol-compile-arm64-testing
Test-Status: SUCCESS
http://dpdk.org/patch/134561

_Testing PASS_

Submitter: David Marchand <david.marchand@redhat.com>
Date: Thursday, November 23 2023 11:44:05 
DPDK git baseline: Repo:dpdk
  Branch: master
  CommitID:202e5b2bf15bbf57090bda4294375d7326fa621b

134557-134561 --> testing pass

Test environment and result as below:

+----------------------------------------+--------------------+
|              Environment               | dpdk_meson_compile |
+========================================+====================+
| Ubuntu 20.04 ARM SVE                   | PASS               |
+----------------------------------------+--------------------+
| Ubuntu 20.04 ARM GCC Cross Compile     | PASS               |
+----------------------------------------+--------------------+
| Ubuntu 20.04 aarch32 GCC Cross Compile | PASS               |
+----------------------------------------+--------------------+
| Ubuntu 20.04 ARM Clang Cross Compile   | PASS               |
+----------------------------------------+--------------------+
| Fedora 37 (ARM)                        | PASS               |
+----------------------------------------+--------------------+
| Ubuntu 20.04 (ARM)                     | PASS               |
+----------------------------------------+--------------------+
| Fedora 38 (ARM)                        | PASS               |
+----------------------------------------+--------------------+
| Debian 11 (Buster) (ARM)               | PASS               |
+----------------------------------------+--------------------+
| CentOS Stream 9 (ARM)                  | PASS               |
+----------------------------------------+--------------------+


Ubuntu 20.04 ARM SVE
	Kernel: 5.4.0-80-generic
	Compiler: gcc 10.3.0 (Ubuntu 10.3.0-1ubuntu1~20.04)

Ubuntu 20.04 ARM GCC Cross Compile
	Kernel: 5.4.0-72-generic
	Compiler: aarch64-linux-gnu-gcc (Ubuntu 9.3.0-17ubuntu1~20.04) 9.3.0

Ubuntu 20.04 aarch32 GCC Cross Compile
	Kernel: 5.4.0-72-generic
	Compiler: gcc 9.3.0

Ubuntu 20.04 ARM Clang Cross Compile
	Kernel: 5.4.0-72-generic
	Compiler: clang version 10.0.0-4ubuntu1

Fedora 37 (ARM)
	Kernel: Depends on container host
	Compiler: gcc 12.3.1

Ubuntu 20.04 (ARM)
	Kernel: Container Host Kernel
	Compiler: gcc 9.4.0

Fedora 38 (ARM)
	Kernel: Depends on container host
	Compiler: gcc 13.1.1

Debian 11 (Buster) (ARM)
	Kernel: Container Host Kernel
	Compiler: gcc 10.2.1

CentOS Stream 9 (ARM)
	Kernel: Container Host Kernel
	Compiler: gcc 11.3.1

To view detailed results, visit:
https://lab.dpdk.org/results/dashboard/patchsets/28454/

UNH-IOL DPDK Community Lab

To manage your email subscriptions, visit: 
https://lab.dpdk.org/results/dashboard/preferences/subscriptions/