From mboxrd@z Thu Jan  1 00:00:00 1970
Return-Path: <test-report-bounces@dpdk.org>
Received: from mails.dpdk.org (mails.dpdk.org [217.70.189.124])
	by inbox.dpdk.org (Postfix) with ESMTP id 0023B433AB
	for <public@inbox.dpdk.org>; Thu, 23 Nov 2023 15:08:11 +0100 (CET)
Received: from mails.dpdk.org (localhost [127.0.0.1])
	by mails.dpdk.org (Postfix) with ESMTP id D64DF42FBD;
	Thu, 23 Nov 2023 15:08:11 +0100 (CET)
Received: from mail-ej1-f97.google.com (mail-ej1-f97.google.com
 [209.85.218.97]) by mails.dpdk.org (Postfix) with ESMTP id 89EA342F73
 for <test-report@dpdk.org>; Thu, 23 Nov 2023 15:07:57 +0100 (CET)
Received: by mail-ej1-f97.google.com with SMTP id
 a640c23a62f3a-a00c200782dso125737866b.1
 for <test-report@dpdk.org>; Thu, 23 Nov 2023 06:07:57 -0800 (PST)
DKIM-Signature: v=1; a=rsa-sha256; c=relaxed/relaxed;
 d=iol.unh.edu; s=unh-iol; t=1700748477; x=1701353277; darn=dpdk.org;
 h=cc:to:from:subject:message-id:date:from:to:cc:subject:date
 :message-id:reply-to;
 bh=uVh5MPz+CiOclY+sp5d/RS/ERVS89JagqIA+v8/7RF8=;
 b=TKj5wgXeu/58atJa9TAsWk8OJnCcTNYdobtzbl5cqTlU37EXraglZUeN4ssElE8jOv
 ktHXRP25QuptAYBkYwTUHzzH9vSiDlZ2Btu5Ehr0qrx6THwQ43822ghb4NwkGeA6j5Gz
 zvntnuCbPOvQgyBN2zrZ1tRgg22NhBvoeo8oY=
X-Google-DKIM-Signature: v=1; a=rsa-sha256; c=relaxed/relaxed;
 d=1e100.net; s=20230601; t=1700748477; x=1701353277;
 h=cc:to:from:subject:message-id:date:x-gm-message-state:from:to:cc
 :subject:date:message-id:reply-to;
 bh=uVh5MPz+CiOclY+sp5d/RS/ERVS89JagqIA+v8/7RF8=;
 b=aRSnpBQtO1hf8Uf9J0w9vXnE6JqT95kT9tyxMAwECogPCgMHuR2KmFwETObd5qREpS
 NlfMcIJiVuAMlV2S/xOAcsIyyXSfPHV6sEr9WbhlLXyIdsmJLTcKY84KhN7GM9dFrute
 IZ/VpWhZWIiwsfEK0wJX422azGV8ZqcccOMqsodxKQfQyGjtLgoPIiHQ4uPX6obYaOe7
 0NRCfd5jptKIG7NffUXWZRjwHRxjIVq3pG4c+H1zGsXkg010UAXaWX/BDpOhjT+8jD8a
 UoEYExRPo3Ma+W393A1gD5Rm705AiB64OSxujSvybeu7Sr9+D9V5tPcT7FDGTIyBmrAb
 s0FQ==
X-Gm-Message-State: AOJu0YwQeUZUaHPBZ16wpQRIbkjsqSL5N3UH4uN5cIEwiFY7g5KDzcsh
 hbH0W0nUlfQ27JkWZPp/DB6Yf9ZaFYGY9xOtAAcQ9XPG9FRcgMVBgoYGXy1ZbKmjrRcDxF3R5g=
 =
X-Google-Smtp-Source: AGHT+IEE/7EX2rGJmcfx5VBaXV3PGeFcAUGv9YAiDnD2H7iquflrtURbh4QXBkqAIJxJU/LbrKbuqx+KnW6r
X-Received: by 2002:a17:907:9145:b0:a01:9203:f7fe with SMTP id
 l5-20020a170907914500b00a019203f7femr3117370ejs.26.1700748477370; 
 Thu, 23 Nov 2023 06:07:57 -0800 (PST)
Received: from postal.iol.unh.edu (postal.iol.unh.edu.
 [2606:4100:3880:1234::84]) by smtp-relay.gmail.com with ESMTPS id
 ka14-20020a170907990e00b009c417afe18fsm227899ejc.276.2023.11.23.06.07.57
 (version=TLS1_2 cipher=ECDHE-ECDSA-AES128-GCM-SHA256 bits=128/128);
 Thu, 23 Nov 2023 06:07:57 -0800 (PST)
X-Relaying-Domain: iol.unh.edu
Date: Thu, 23 Nov 2023 06:07:57 -0800 (PST)
Message-ID: <655f5cbd.170a0220.166ff.240cSMTPIN_ADDED_MISSING@mx.google.com>
Received: from [172.17.0.4] (unknown [172.18.0.214])
 by postal.iol.unh.edu (Postfix) with ESMTP id 90115605C311;
 Thu, 23 Nov 2023 09:07:56 -0500 (EST)
Subject: |SUCCESS| pw134557-134561 [PATCH] [5/5] doc: use ordered lists
From: dpdklab@iol.unh.edu
To: Test Report <test-report@dpdk.org>
Cc: dpdk-test-reports@iol.unh.edu
Content-Type: text/plain
X-BeenThere: test-report@dpdk.org
X-Mailman-Version: 2.1.29
Precedence: list
List-Id: automatic DPDK test reports <test-report.dpdk.org>
List-Unsubscribe: <https://mails.dpdk.org/options/test-report>,
 <mailto:test-report-request@dpdk.org?subject=unsubscribe>
List-Archive: <http://mails.dpdk.org/archives/test-report/>
List-Post: <mailto:test-report@dpdk.org>
List-Help: <mailto:test-report-request@dpdk.org?subject=help>
List-Subscribe: <https://mails.dpdk.org/listinfo/test-report>,
 <mailto:test-report-request@dpdk.org?subject=subscribe>
Errors-To: test-report-bounces@dpdk.org

Test-Label: iol-compile-arm64-testing
Test-Status: SUCCESS
http://dpdk.org/patch/134561

_Testing PASS_

Submitter: David Marchand <david.marchand@redhat.com>
Date: Thursday, November 23 2023 11:44:05 
DPDK git baseline: Repo:dpdk
  Branch: master
  CommitID:202e5b2bf15bbf57090bda4294375d7326fa621b

134557-134561 --> testing pass

Test environment and result as below:

+----------------------------------------+--------------------+
|              Environment               | dpdk_meson_compile |
+========================================+====================+
| Ubuntu 20.04 ARM SVE                   | PASS               |
+----------------------------------------+--------------------+
| Ubuntu 20.04 ARM GCC Cross Compile     | PASS               |
+----------------------------------------+--------------------+
| Ubuntu 20.04 aarch32 GCC Cross Compile | PASS               |
+----------------------------------------+--------------------+
| Ubuntu 20.04 ARM Clang Cross Compile   | PASS               |
+----------------------------------------+--------------------+
| Fedora 37 (ARM)                        | PASS               |
+----------------------------------------+--------------------+
| Ubuntu 20.04 (ARM)                     | PASS               |
+----------------------------------------+--------------------+
| Fedora 38 (ARM)                        | PASS               |
+----------------------------------------+--------------------+
| Debian 11 (Buster) (ARM)               | PASS               |
+----------------------------------------+--------------------+
| CentOS Stream 9 (ARM)                  | PASS               |
+----------------------------------------+--------------------+


Ubuntu 20.04 ARM SVE
	Kernel: 5.4.0-80-generic
	Compiler: gcc 10.3.0 (Ubuntu 10.3.0-1ubuntu1~20.04)

Ubuntu 20.04 ARM GCC Cross Compile
	Kernel: 5.4.0-72-generic
	Compiler: aarch64-linux-gnu-gcc (Ubuntu 9.3.0-17ubuntu1~20.04) 9.3.0

Ubuntu 20.04 aarch32 GCC Cross Compile
	Kernel: 5.4.0-72-generic
	Compiler: gcc 9.3.0

Ubuntu 20.04 ARM Clang Cross Compile
	Kernel: 5.4.0-72-generic
	Compiler: clang version 10.0.0-4ubuntu1

Fedora 37 (ARM)
	Kernel: Depends on container host
	Compiler: gcc 12.3.1

Ubuntu 20.04 (ARM)
	Kernel: Container Host Kernel
	Compiler: gcc 9.4.0

Fedora 38 (ARM)
	Kernel: Depends on container host
	Compiler: gcc 13.1.1

Debian 11 (Buster) (ARM)
	Kernel: Container Host Kernel
	Compiler: gcc 10.2.1

CentOS Stream 9 (ARM)
	Kernel: Container Host Kernel
	Compiler: gcc 11.3.1

To view detailed results, visit:
https://lab.dpdk.org/results/dashboard/patchsets/28454/

UNH-IOL DPDK Community Lab

To manage your email subscriptions, visit: 
https://lab.dpdk.org/results/dashboard/preferences/subscriptions/