From mboxrd@z Thu Jan  1 00:00:00 1970
Return-Path: <test-report-bounces@dpdk.org>
Received: from mails.dpdk.org (mails.dpdk.org [217.70.189.124])
	by inbox.dpdk.org (Postfix) with ESMTP id 3F08A433F2
	for <public@inbox.dpdk.org>; Tue, 28 Nov 2023 15:56:36 +0100 (CET)
Received: from mails.dpdk.org (localhost [127.0.0.1])
	by mails.dpdk.org (Postfix) with ESMTP id 25FA442E01;
	Tue, 28 Nov 2023 15:56:36 +0100 (CET)
Received: from mail-qk1-f225.google.com (mail-qk1-f225.google.com
 [209.85.222.225])
 by mails.dpdk.org (Postfix) with ESMTP id C510542E00
 for <test-report@dpdk.org>; Tue, 28 Nov 2023 15:56:34 +0100 (CET)
Received: by mail-qk1-f225.google.com with SMTP id
 af79cd13be357-77d6f853ba0so437698185a.0
 for <test-report@dpdk.org>; Tue, 28 Nov 2023 06:56:34 -0800 (PST)
DKIM-Signature: v=1; a=rsa-sha256; c=relaxed/relaxed;
 d=iol.unh.edu; s=unh-iol; t=1701183394; x=1701788194; darn=dpdk.org;
 h=cc:to:from:subject:message-id:date:from:to:cc:subject:date
 :message-id:reply-to;
 bh=yOCrLHhhG6V2u1ra1h2F5XRFYoEKj1RXMS2z3aZVlqk=;
 b=bILIE85yys3AZUaEKluJmwK1xl1koqD3+l3K2PFODfk4R0izgH1Tb9lwk+5isdu4sq
 /+Ae07kEF0qHJ4xqPCl0Ukh/8iP3sKQqWdZzgdxOzYSrDV7g8vqJJ7qTKLqLjRNTaTBI
 adXpmSJWsjkbvrlKmFC06MxPZ4RfmQiOhm/Ow=
X-Google-DKIM-Signature: v=1; a=rsa-sha256; c=relaxed/relaxed;
 d=1e100.net; s=20230601; t=1701183394; x=1701788194;
 h=cc:to:from:subject:message-id:date:x-gm-message-state:from:to:cc
 :subject:date:message-id:reply-to;
 bh=yOCrLHhhG6V2u1ra1h2F5XRFYoEKj1RXMS2z3aZVlqk=;
 b=XaoPdTjsG0pPzWZjwp/Pge3FeOdStEafxhUdpgXuit6QV19LvlPZavZ7lH08WKkUwh
 m5mIM1uiDXbmunawH0BoiOqvPpyKGtyrl1Ke8dUOuU0BInw8BAcwa7Iq5ji3Fl+jViAX
 zwi9XjeV4D+BkGfx5pLWyJ6h/HRt+N43VzN2pQoZVgq9JPcdQmc3jDKcK8ieW4jYpA+V
 YOiKyw5J1e+nsRI/Nx2VO67Cuyvm2BOsOcRUTEdboYAS7fMpjRWWGt057FpihkJkqkXu
 9GPisBjQMtGvsCda/fFKbHXJ3pDk1sDzAeq+oVSEhHrrgVS+AOYsvHvkXeNS3r4GzLA5
 thyA==
X-Gm-Message-State: AOJu0Yzk03KVeYQ8L/rd+A5NBb2iZUwRi5rNARqi4FAbfE6AFi+pTQP6
 UrTru3gFHvQViEGFzecPMKHGGUvAZKvmH1O/8N3g7hzb2TvFtmO1lLtJudCFEAC+T6SMvHuwmA=
 =
X-Google-Smtp-Source: AGHT+IFdJpErGlVUVGq4ioScPiPgNYBmmlOlFz4bKvJmFzOBZ0QjS+bT9kK6A37mx7Y1wT9yMD8H+gsLLKub
X-Received: by 2002:ad4:4bc7:0:b0:67a:15db:a4d5 with SMTP id
 l7-20020ad44bc7000000b0067a15dba4d5mr20498754qvw.28.1701183394275; 
 Tue, 28 Nov 2023 06:56:34 -0800 (PST)
Received: from postal.iol.unh.edu (postal.iol.unh.edu.
 [2606:4100:3880:1234::84]) by smtp-relay.gmail.com with ESMTPS id
 p3-20020a0cf543000000b0067802f91f67sm1022833qvm.7.2023.11.28.06.56.34
 (version=TLS1_2 cipher=ECDHE-ECDSA-AES128-GCM-SHA256 bits=128/128);
 Tue, 28 Nov 2023 06:56:34 -0800 (PST)
X-Relaying-Domain: iol.unh.edu
Date: Tue, 28 Nov 2023 06:56:34 -0800 (PST)
Message-ID: <6565ffa2.0c0a0220.2677d.d48bSMTPIN_ADDED_MISSING@mx.google.com>
Received: from [172.21.0.2] (unknown [172.18.0.240])
 by postal.iol.unh.edu (Postfix) with ESMTP id 03AEF6051823;
 Tue, 28 Nov 2023 09:56:34 -0500 (EST)
Subject: |SUCCESS| pw134673 [PATCH] net/ice: fix link update
From: dpdklab@iol.unh.edu
To: Test Report <test-report@dpdk.org>
Cc: dpdk-test-reports@iol.unh.edu
Content-Type: text/plain
X-BeenThere: test-report@dpdk.org
X-Mailman-Version: 2.1.29
Precedence: list
List-Id: automatic DPDK test reports <test-report.dpdk.org>
List-Unsubscribe: <https://mails.dpdk.org/options/test-report>,
 <mailto:test-report-request@dpdk.org?subject=unsubscribe>
List-Archive: <http://mails.dpdk.org/archives/test-report/>
List-Post: <mailto:test-report@dpdk.org>
List-Help: <mailto:test-report-request@dpdk.org?subject=help>
List-Subscribe: <https://mails.dpdk.org/listinfo/test-report>,
 <mailto:test-report-request@dpdk.org?subject=subscribe>
Errors-To: test-report-bounces@dpdk.org

Test-Label: iol-unit-arm64-testing
Test-Status: SUCCESS
http://dpdk.org/patch/134673

_Testing PASS_

Submitter: Qi Zhang <qi.z.zhang@intel.com>
Date: Tuesday, November 28 2023 21:26:02 
DPDK git baseline: Repo:dpdk
  Branch: master
  CommitID:3b3af56d3c9c472f9ba0ee1078d714919cc2b6b4

134673 --> testing pass

Test environment and result as below:

+--------------------------+---------------------------+----------------+--------------+
|       Environment        | cryptodev_sw_zuc_autotest | dpdk_unit_test | lpm_autotest |
+==========================+===========================+================+==============+
| Debian 11 (arm)          | PASS                      | SKIPPED        | SKIPPED      |
+--------------------------+---------------------------+----------------+--------------+
| CentOS Stream 9 (ARM)    | SKIPPED                   | PASS           | SKIPPED      |
+--------------------------+---------------------------+----------------+--------------+
| Debian 11 (Buster) (ARM) | SKIPPED                   | PASS           | SKIPPED      |
+--------------------------+---------------------------+----------------+--------------+
| Fedora 37 (ARM)          | SKIPPED                   | PASS           | SKIPPED      |
+--------------------------+---------------------------+----------------+--------------+
| Ubuntu 20.04 ARM SVE     | SKIPPED                   | SKIPPED        | PASS         |
+--------------------------+---------------------------+----------------+--------------+


Debian 11 (arm)
	Kernel: Container Host Kernel
	Compiler: gcc 10.2.1

CentOS Stream 9 (ARM)
	Kernel: Container Host Kernel
	Compiler: gcc 11.3.1

Debian 11 (Buster) (ARM)
	Kernel: Container Host Kernel
	Compiler: gcc 10.2.1

Fedora 37 (ARM)
	Kernel: Depends on container host
	Compiler: gcc 12.3.1

Ubuntu 20.04 ARM SVE
	Kernel: 5.4.0-80-generic
	Compiler: gcc 10.3.0 (Ubuntu 10.3.0-1ubuntu1~20.04)

To view detailed results, visit:
https://lab.dpdk.org/results/dashboard/patchsets/28485/

UNH-IOL DPDK Community Lab

To manage your email subscriptions, visit: 
https://lab.dpdk.org/results/dashboard/preferences/subscriptions/