From mboxrd@z Thu Jan  1 00:00:00 1970
Return-Path: <test-report-bounces@dpdk.org>
Received: from mails.dpdk.org (mails.dpdk.org [217.70.189.124])
	by inbox.dpdk.org (Postfix) with ESMTP id 10634433F4
	for <public@inbox.dpdk.org>; Tue, 28 Nov 2023 16:34:34 +0100 (CET)
Received: from mails.dpdk.org (localhost [127.0.0.1])
	by mails.dpdk.org (Postfix) with ESMTP id 0ADF3410FD;
	Tue, 28 Nov 2023 16:34:34 +0100 (CET)
Received: from mail-pl1-f227.google.com (mail-pl1-f227.google.com
 [209.85.214.227])
 by mails.dpdk.org (Postfix) with ESMTP id 7DEF840689
 for <test-report@dpdk.org>; Tue, 28 Nov 2023 16:34:33 +0100 (CET)
Received: by mail-pl1-f227.google.com with SMTP id
 d9443c01a7336-1cfc3f50504so21599825ad.3
 for <test-report@dpdk.org>; Tue, 28 Nov 2023 07:34:33 -0800 (PST)
DKIM-Signature: v=1; a=rsa-sha256; c=relaxed/relaxed;
 d=iol.unh.edu; s=unh-iol; t=1701185672; x=1701790472; darn=dpdk.org;
 h=cc:to:from:subject:message-id:date:from:to:cc:subject:date
 :message-id:reply-to;
 bh=4LVdEjVXEg0Vhe708GQL6ykPq9ErdMfh4GddOLnocYM=;
 b=Zcul/XGnC8VCZfmKCZtdvMf0Amli9QZbjVhjHfZyX0hXWWd2r43qJ+vTol5MQPJbuf
 s0/9rbrKvU2gR8qsDfOaHHFIHbELu6L8RXqPncQRUSB8Zlxd6slzadj8pmLrLY/0ik3S
 zz0B85ckNObKHtQrCiKeBnlaZW1FUwuwFjnwo=
X-Google-DKIM-Signature: v=1; a=rsa-sha256; c=relaxed/relaxed;
 d=1e100.net; s=20230601; t=1701185672; x=1701790472;
 h=cc:to:from:subject:message-id:date:x-gm-message-state:from:to:cc
 :subject:date:message-id:reply-to;
 bh=4LVdEjVXEg0Vhe708GQL6ykPq9ErdMfh4GddOLnocYM=;
 b=hEoowD4ooXNSY2RUQ2RdqDcCke+1oAnL0zhYvrO7Ixdc7Ow3HchnrT9CJsMHnUMFf1
 TvB2V5QtpZUBcAtMyz66/p2z2LKy5EEcLcBP6nfcahd6M7eNXOTMhaJK6k0D2s0u9Vur
 cYvVEPGzI4vvKx9IaklruAjtMbsOijCNeHetZHIAIouLhWFG2V6jYOrrTGD0SYOF/5hv
 gvIK5QN2UMjIS9TV7r4k4LdfqEydNrEpAbimYLln3k66sdFFX6TS6c/3JxQA/MsAmFUl
 +XzNF4OZD2YPbaPCiLYNvsHAO3wa24DPKTzw1cJ5SWQzxrTsEZil/ut+JQCwa88c0QTk
 hbGg==
X-Gm-Message-State: AOJu0Yy5/+MEp09lxI9ZwpiOyn4yDHQ3qIm/WjPKhG/QKoBuuyLhThmj
 muMh2l68UhMx0o7g878rFPaP6P4/oIvtRhLJJ8+3KP3Z3lSnGDareyaZ67nBOjBlvK8KXUjq5w=
 =
X-Google-Smtp-Source: AGHT+IGcMUK+epGsDbG/5kTR7REXC5uqauP8DbX0FZ5s4sUxfGxikTuii1gtnUndwPYfHN/lp2w0OJn5pGgy
X-Received: by 2002:a17:903:2302:b0:1cf:c649:61a3 with SMTP id
 d2-20020a170903230200b001cfc64961a3mr9081899plh.52.1701185672734; 
 Tue, 28 Nov 2023 07:34:32 -0800 (PST)
Received: from postal.iol.unh.edu (postal.iol.unh.edu.
 [2606:4100:3880:1234::84]) by smtp-relay.gmail.com with ESMTPS id
 z15-20020a1709027e8f00b001cf5d4f8f17sm769330pla.110.2023.11.28.07.34.32
 (version=TLS1_2 cipher=ECDHE-ECDSA-AES128-GCM-SHA256 bits=128/128);
 Tue, 28 Nov 2023 07:34:32 -0800 (PST)
X-Relaying-Domain: iol.unh.edu
Date: Tue, 28 Nov 2023 07:34:32 -0800 (PST)
Message-ID: <65660888.170a0220.5530.0725SMTPIN_ADDED_MISSING@mx.google.com>
Received: from [172.21.0.2] (unknown [172.18.0.240])
 by postal.iol.unh.edu (Postfix) with ESMTP id F341B605C311;
 Tue, 28 Nov 2023 10:34:31 -0500 (EST)
Subject: |SUCCESS| pw134673 [PATCH] net/ice: fix link update
From: dpdklab@iol.unh.edu
To: Test Report <test-report@dpdk.org>
Cc: Qi Zhang <qi.z.zhang@intel.com>, dpdk-test-reports@iol.unh.edu
Content-Type: text/plain
X-BeenThere: test-report@dpdk.org
X-Mailman-Version: 2.1.29
Precedence: list
List-Id: automatic DPDK test reports <test-report.dpdk.org>
List-Unsubscribe: <https://mails.dpdk.org/options/test-report>,
 <mailto:test-report-request@dpdk.org?subject=unsubscribe>
List-Archive: <http://mails.dpdk.org/archives/test-report/>
List-Post: <mailto:test-report@dpdk.org>
List-Help: <mailto:test-report-request@dpdk.org?subject=help>
List-Subscribe: <https://mails.dpdk.org/listinfo/test-report>,
 <mailto:test-report-request@dpdk.org?subject=subscribe>
Errors-To: test-report-bounces@dpdk.org

Test-Label: iol-unit-arm64-testing
Test-Status: SUCCESS
http://dpdk.org/patch/134673

_Testing PASS_

Submitter: Qi Zhang <qi.z.zhang@intel.com>
Date: Tuesday, November 28 2023 21:26:02 
DPDK git baseline: Repo:dpdk
  Branch: master
  CommitID:3b3af56d3c9c472f9ba0ee1078d714919cc2b6b4

134673 --> testing pass

Test environment and result as below:

+--------------------------+---------------------------+----------------+--------------+------------------------------+
|       Environment        | cryptodev_sw_zuc_autotest | dpdk_unit_test | lpm_autotest | cryptodev_sw_snow3g_autotest |
+==========================+===========================+================+==============+==============================+
| Debian 11 (arm)          | PASS                      | SKIPPED        | SKIPPED      | PASS                         |
+--------------------------+---------------------------+----------------+--------------+------------------------------+
| CentOS Stream 9 (ARM)    | SKIPPED                   | PASS           | SKIPPED      | SKIPPED                      |
+--------------------------+---------------------------+----------------+--------------+------------------------------+
| Debian 11 (Buster) (ARM) | SKIPPED                   | PASS           | SKIPPED      | SKIPPED                      |
+--------------------------+---------------------------+----------------+--------------+------------------------------+
| Fedora 37 (ARM)          | SKIPPED                   | PASS           | SKIPPED      | SKIPPED                      |
+--------------------------+---------------------------+----------------+--------------+------------------------------+
| Fedora 38 (ARM)          | SKIPPED                   | PASS           | SKIPPED      | SKIPPED                      |
+--------------------------+---------------------------+----------------+--------------+------------------------------+
| Ubuntu 20.04 (ARM)       | SKIPPED                   | PASS           | SKIPPED      | SKIPPED                      |
+--------------------------+---------------------------+----------------+--------------+------------------------------+
| Fedora 38 (ARM Clang)    | SKIPPED                   | PASS           | SKIPPED      | SKIPPED                      |
+--------------------------+---------------------------+----------------+--------------+------------------------------+
| Ubuntu 20.04 ARM SVE     | SKIPPED                   | SKIPPED        | PASS         | SKIPPED                      |
+--------------------------+---------------------------+----------------+--------------+------------------------------+


Debian 11 (arm)
	Kernel: Container Host Kernel
	Compiler: gcc 10.2.1

CentOS Stream 9 (ARM)
	Kernel: Container Host Kernel
	Compiler: gcc 11.3.1

Debian 11 (Buster) (ARM)
	Kernel: Container Host Kernel
	Compiler: gcc 10.2.1

Fedora 37 (ARM)
	Kernel: Depends on container host
	Compiler: gcc 12.3.1

Fedora 38 (ARM)
	Kernel: Depends on container host
	Compiler: gcc 13.1.1

Ubuntu 20.04 (ARM)
	Kernel: Container Host Kernel
	Compiler: gcc 9.4.0

Fedora 38 (ARM Clang)
	Kernel: Depends on container host
	Compiler: clang 16.0.3

Ubuntu 20.04 ARM SVE
	Kernel: 5.4.0-80-generic
	Compiler: gcc 10.3.0 (Ubuntu 10.3.0-1ubuntu1~20.04)

To view detailed results, visit:
https://lab.dpdk.org/results/dashboard/patchsets/28485/

UNH-IOL DPDK Community Lab

To manage your email subscriptions, visit: 
https://lab.dpdk.org/results/dashboard/preferences/subscriptions/