From mboxrd@z Thu Jan  1 00:00:00 1970
Return-Path: <test-report-bounces@dpdk.org>
Received: from mails.dpdk.org (mails.dpdk.org [217.70.189.124])
	by inbox.dpdk.org (Postfix) with ESMTP id C6CD8433F4
	for <public@inbox.dpdk.org>; Tue, 28 Nov 2023 16:38:06 +0100 (CET)
Received: from mails.dpdk.org (localhost [127.0.0.1])
	by mails.dpdk.org (Postfix) with ESMTP id C1D8E410FD;
	Tue, 28 Nov 2023 16:38:06 +0100 (CET)
Received: from mail-pg1-f227.google.com (mail-pg1-f227.google.com
 [209.85.215.227])
 by mails.dpdk.org (Postfix) with ESMTP id 9AFC940689
 for <test-report@dpdk.org>; Tue, 28 Nov 2023 16:38:05 +0100 (CET)
Received: by mail-pg1-f227.google.com with SMTP id
 41be03b00d2f7-5bd5809f63aso3368370a12.3
 for <test-report@dpdk.org>; Tue, 28 Nov 2023 07:38:05 -0800 (PST)
DKIM-Signature: v=1; a=rsa-sha256; c=relaxed/relaxed;
 d=iol.unh.edu; s=unh-iol; t=1701185885; x=1701790685; darn=dpdk.org;
 h=cc:to:from:subject:message-id:date:from:to:cc:subject:date
 :message-id:reply-to;
 bh=iwKYnMKG8pI1Wk7zyxvw/U1dB+2IwabuuNPi/O3tyXc=;
 b=O4RGbNql71z1zH4bu5zMFsI+lOGKX3CZtqdQ5N/hD2P3AM6KtNk+osON8a+K7ndMCL
 5VHD2cM1TsFf43+IL3FqBP7Ixg8qlPrHi7dpdw7/wmfJhYhsZu5QKjTaAH6e2BR76mhM
 Bd89rkgmwrlGeUsFl81Gb9Ca782VB4/nawrg0=
X-Google-DKIM-Signature: v=1; a=rsa-sha256; c=relaxed/relaxed;
 d=1e100.net; s=20230601; t=1701185885; x=1701790685;
 h=cc:to:from:subject:message-id:date:x-gm-message-state:from:to:cc
 :subject:date:message-id:reply-to;
 bh=iwKYnMKG8pI1Wk7zyxvw/U1dB+2IwabuuNPi/O3tyXc=;
 b=tuobeI/Lk4jHnrETeJ+V0wyE40XwK+ZbPSeH3mPRgaCIF5iCwOSy5KOsa/pfcvdeiW
 T5RloTbjqKWRHXNmrhz6oRRqF7Qn23Ym6AMPdg1A6L7q7uBU1GvLgnEJ2kscHwYHBylf
 +bi60YvpUH64Tei21bFdSEgLfrJeRtiDupoKfgWJQT6tuA5CAIz+zRWby7hm3bRwkEUR
 Vl3KivvTfA8iR4+J9hWPWJiPoB0/245jrNANHwoqjmVwgUiLSR4lwXp3cEkOdiXE5XuP
 apOZubd5/gE6LA7O91jan7xKqSPNZqhaBu1zGCRG42KoTMAKCMFxmrB2h/BZBNF56eEu
 qZxA==
X-Gm-Message-State: AOJu0YywseyTu7p1DQysTBSTWPUMGx+GqJ/LNNVMuAPz6zfUsdMoWO/N
 ctmwdunzdZD8xhAyisBz2LCBF2SsnR4wBK92lyaNZ5NH6g4WsKKUCmF2L5JAo8sgclYvQXYHCQ=
 =
X-Google-Smtp-Source: AGHT+IEWNPRiaECtWs9f4iEfg9RqPjKWMFj9Gru5omf121mE2aebFvqneO5tiXJNQ3uiHPn8+hu0L8K4HH+Q
X-Received: by 2002:a17:90b:1e0d:b0:285:ade2:9ebf with SMTP id
 pg13-20020a17090b1e0d00b00285ade29ebfmr9544559pjb.44.1701185884903; 
 Tue, 28 Nov 2023 07:38:04 -0800 (PST)
Received: from postal.iol.unh.edu (postal.iol.unh.edu.
 [2606:4100:3880:1234::84]) by smtp-relay.gmail.com with ESMTPS id
 oc9-20020a17090b1c0900b002859f17263bsm34320pjb.1.2023.11.28.07.38.04
 (version=TLS1_2 cipher=ECDHE-ECDSA-AES128-GCM-SHA256 bits=128/128);
 Tue, 28 Nov 2023 07:38:04 -0800 (PST)
X-Relaying-Domain: iol.unh.edu
Date: Tue, 28 Nov 2023 07:38:04 -0800 (PST)
Message-ID: <6566095c.170a0220.9cad.0d0dSMTPIN_ADDED_MISSING@mx.google.com>
Received: from [172.21.0.2] (unknown [172.18.0.240])
 by postal.iol.unh.edu (Postfix) with ESMTP id 25238605C311;
 Tue, 28 Nov 2023 10:38:04 -0500 (EST)
Subject: |SUCCESS| pw134673 [PATCH] net/ice: fix link update
From: dpdklab@iol.unh.edu
To: Test Report <test-report@dpdk.org>
Cc: dpdk-test-reports@iol.unh.edu
Content-Type: text/plain
X-BeenThere: test-report@dpdk.org
X-Mailman-Version: 2.1.29
Precedence: list
List-Id: automatic DPDK test reports <test-report.dpdk.org>
List-Unsubscribe: <https://mails.dpdk.org/options/test-report>,
 <mailto:test-report-request@dpdk.org?subject=unsubscribe>
List-Archive: <http://mails.dpdk.org/archives/test-report/>
List-Post: <mailto:test-report@dpdk.org>
List-Help: <mailto:test-report-request@dpdk.org?subject=help>
List-Subscribe: <https://mails.dpdk.org/listinfo/test-report>,
 <mailto:test-report-request@dpdk.org?subject=subscribe>
Errors-To: test-report-bounces@dpdk.org

Test-Label: iol-unit-amd64-testing
Test-Status: SUCCESS
http://dpdk.org/patch/134673

_Testing PASS_

Submitter: Qi Zhang <qi.z.zhang@intel.com>
Date: Tuesday, November 28 2023 21:26:02 
DPDK git baseline: Repo:dpdk
  Branch: master
  CommitID:3b3af56d3c9c472f9ba0ee1078d714919cc2b6b4

134673 --> testing pass

Test environment and result as below:

+---------------------+----------------+
|     Environment     | dpdk_unit_test |
+=====================+================+
| CentOS Stream 8     | PASS           |
+---------------------+----------------+
| CentOS Stream 9     | PASS           |
+---------------------+----------------+
| Debian Bullseye     | PASS           |
+---------------------+----------------+
| Debian Buster       | PASS           |
+---------------------+----------------+
| Fedora 37           | PASS           |
+---------------------+----------------+
| Windows Server 2019 | PASS           |
+---------------------+----------------+
| Fedora 38           | PASS           |
+---------------------+----------------+
| RHEL8               | PASS           |
+---------------------+----------------+
| openSUSE Leap 15    | PASS           |
+---------------------+----------------+
| Ubuntu 22.04        | PASS           |
+---------------------+----------------+
| Ubuntu 20.04        | PASS           |
+---------------------+----------------+


CentOS Stream 8
	Kernel: 4.18.0-240.10.1.el8_3.x86_64
	Compiler: gcc 8.4.1 20200928

CentOS Stream 9
	Kernel: 4.18.0-240.10.1.el8_3.x86_64
	Compiler: gcc 11.3.1 20220421

Debian Bullseye
	Kernel: 5.4.0-122-generic
	Compiler: gcc 10.2.1-6

Debian Buster
	Kernel: 5.4.0-122-generic
	Compiler: gcc 8.3.0-6

Fedora 37
	Kernel: Depends on container host system
	Compiler: gcc 12.3.1

Windows Server 2019
	Kernel: 10.0
	Compiler: clang 14.0 and gcc 8.1.0 (MinGW)

Fedora 38
	Kernel: Depends on container host
	Compiler: gcc 13.1.1

RHEL8
	Kernel: 4.18.0-240.10.1.el8_3.x86_64
	Compiler: gcc 8.3.1 20191121 (Red Hat 8.3.1-5)

openSUSE Leap 15
	Kernel: 4.18.0-240.10.1.el8_3.x86_64
	Compiler: gcc 7.5.0

Ubuntu 22.04
	Kernel: 4.18.0-240.10.1.el8_3.x86_64
	Compiler: gcc 11.3.0

Ubuntu 20.04
	Kernel: 5.4.0-153-generic
	Compiler: gcc 9.4.0-1ubuntu1~20.04.1

To view detailed results, visit:
https://lab.dpdk.org/results/dashboard/patchsets/28485/

UNH-IOL DPDK Community Lab

To manage your email subscriptions, visit: 
https://lab.dpdk.org/results/dashboard/preferences/subscriptions/