From mboxrd@z Thu Jan 1 00:00:00 1970 Return-Path: Received: from mails.dpdk.org (mails.dpdk.org [217.70.189.124]) by inbox.dpdk.org (Postfix) with ESMTP id AD34943670 for ; Tue, 5 Dec 2023 08:38:08 +0100 (CET) Received: from mails.dpdk.org (localhost [127.0.0.1]) by mails.dpdk.org (Postfix) with ESMTP id A844742D7D; Tue, 5 Dec 2023 08:38:08 +0100 (CET) Received: from mail-io1-f99.google.com (mail-io1-f99.google.com [209.85.166.99]) by mails.dpdk.org (Postfix) with ESMTP id 1C46F42D45 for ; Tue, 5 Dec 2023 08:38:07 +0100 (CET) Received: by mail-io1-f99.google.com with SMTP id ca18e2360f4ac-7b373b0e9b7so170339639f.0 for ; Mon, 04 Dec 2023 23:38:07 -0800 (PST) DKIM-Signature: v=1; a=rsa-sha256; c=relaxed/relaxed; d=iol.unh.edu; s=unh-iol; t=1701761886; x=1702366686; darn=dpdk.org; h=cc:to:from:subject:message-id:date:from:to:cc:subject:date :message-id:reply-to; bh=JTNH/vDlVM/A3jvh58+5zztlgktJDfpmM/DpTP2Sktw=; b=BYBAErMaxqHvR+2/tvFL09KMXPolylO+XfAebOipHiLVPfDYvpVZxJTldQhweaIDJT OWalr91/XWf3mV/lbTZempYvMyiOE69FMEvfx4BargazYyRoeXeYKZ+lJhHh4F7S9voz SN3xXfc0ZqLJKWJb82/nSQYoPGoVju1vY6fso= X-Google-DKIM-Signature: v=1; a=rsa-sha256; c=relaxed/relaxed; d=1e100.net; s=20230601; t=1701761886; x=1702366686; h=cc:to:from:subject:message-id:date:x-gm-message-state:from:to:cc :subject:date:message-id:reply-to; bh=JTNH/vDlVM/A3jvh58+5zztlgktJDfpmM/DpTP2Sktw=; b=cYMWF5vxneweu14yQE0oSdElwuuGkzRlzRLjX2ctupn20GjN5RpQvephRE5mqgXQJz RvsdvlENjhDkIHgBKNAJBs00xITQHZYLY2ArlpGEZ1aEln4aGLxXxklBDd+DDU61UOmW Gi0vMmIUOfqTr9js/tmqKjnVVZy4Ru9Aft4XLylKG1KHRWrUWxei20ktywSFcFWqeXaT OVsmoH+D7LZ9JbD/19I2HNuEUuitvULFJNN4iOEPDaWoBE+qBAlcWCOmPvEksmnQTY24 8ek5FQ9/ChOz58qbcgcWhMUmFSTIFEkDkrXAQUx3J9dQRZJfcqZXwaQGF/IzGWqiVqKA YdvQ== X-Gm-Message-State: AOJu0YzirYYBxKbnZ9Cyu/4PLRRIpWigSmyBkazHKeaUc/ViCLWCp1gl mDq0dOCG97euqYZGYIWyXVmYK6cupX1LlbVp+Hle9RB1iav54cp6+dmshMGjQRwZQg== X-Google-Smtp-Source: AGHT+IHE7PD4e7xspqENpgbagN/QI6UxtUx8Stv6DAp6KxFBUmBh2VH8QNYfV1HPfZKsAob4yByutsi6Aylk X-Received: by 2002:a5e:860e:0:b0:7b0:2037:68f3 with SMTP id z14-20020a5e860e000000b007b0203768f3mr3228179ioj.13.1701761886488; Mon, 04 Dec 2023 23:38:06 -0800 (PST) Received: from postal.iol.unh.edu (postal.iol.unh.edu. [2606:4100:3880:1234::84]) by smtp-relay.gmail.com with ESMTPS id x7-20020a056602160700b007b39f6091d4sm663386iow.6.2023.12.04.23.38.06 (version=TLS1_2 cipher=ECDHE-ECDSA-AES128-GCM-SHA256 bits=128/128); Mon, 04 Dec 2023 23:38:06 -0800 (PST) X-Relaying-Domain: iol.unh.edu Date: Mon, 04 Dec 2023 23:38:06 -0800 (PST) Message-ID: <656ed35e.050a0220.7bbc4.2cd4SMTPIN_ADDED_MISSING@mx.google.com> Received: from [172.17.0.5] (unknown [172.18.0.215]) by postal.iol.unh.edu (Postfix) with ESMTP id 06867605C311; Tue, 5 Dec 2023 02:37:51 -0500 (EST) Subject: |SUCCESS| [GIT MASTER] 7849366693a2a2cbc5279a6bfd39cbb457fe7c96 From: dpdklab@iol.unh.edu To: Test Report Cc: dpdk-test-reports@iol.unh.edu, Xueming Li , Christian Ehrhardt , Kevin Traynor , Luca Boccassi Content-Type: text/plain X-BeenThere: test-report@dpdk.org X-Mailman-Version: 2.1.29 Precedence: list List-Id: automatic DPDK test reports List-Unsubscribe: , List-Archive: List-Post: List-Help: List-Subscribe: , Errors-To: test-report-bounces@dpdk.org _Testing PASS_ Branch: tags/v22.11 7849366693a2a2cbc5279a6bfd39cbb457fe7c96 --> testing pass Test environment and result as below: +--------------------------+--------------------+ | Environment | dpdk_meson_compile | +==========================+====================+ | Ubuntu 20.04 ARM SVE | PASS | +--------------------------+--------------------+ | Fedora 38 (ARM) | PASS | +--------------------------+--------------------+ | Debian 11 (Buster) (ARM) | PASS | +--------------------------+--------------------+ | Ubuntu 20.04 (ARM) | PASS | +--------------------------+--------------------+ | Fedora 37 (ARM) | PASS | +--------------------------+--------------------+ | CentOS Stream 9 (ARM) | PASS | +--------------------------+--------------------+ Ubuntu 20.04 ARM SVE Kernel: 5.4.0-80-generic Compiler: gcc 10.3.0 (Ubuntu 10.3.0-1ubuntu1~20.04) Fedora 38 (ARM) Kernel: Depends on container host Compiler: gcc 13.1.1 Debian 11 (Buster) (ARM) Kernel: Container Host Kernel Compiler: gcc 10.2.1 Ubuntu 20.04 (ARM) Kernel: Container Host Kernel Compiler: gcc 9.4.0 Fedora 37 (ARM) Kernel: Depends on container host Compiler: gcc 12.3.1 CentOS Stream 9 (ARM) Kernel: Container Host Kernel Compiler: gcc 11.3.1 To view detailed results, visit: https://lab.dpdk.org/results/dashboard/tarballs/27209/ UNH-IOL DPDK Community Lab To manage your email subscriptions, visit: https://lab.dpdk.org/results/dashboard/preferences/subscriptions/