From mboxrd@z Thu Jan  1 00:00:00 1970
Return-Path: <test-report-bounces@dpdk.org>
Received: from mails.dpdk.org (mails.dpdk.org [217.70.189.124])
	by inbox.dpdk.org (Postfix) with ESMTP id 8669243677
	for <public@inbox.dpdk.org>; Tue,  5 Dec 2023 12:43:56 +0100 (CET)
Received: from mails.dpdk.org (localhost [127.0.0.1])
	by mails.dpdk.org (Postfix) with ESMTP id 810C042E3B;
	Tue,  5 Dec 2023 12:43:56 +0100 (CET)
Received: from mail-il1-f226.google.com (mail-il1-f226.google.com
 [209.85.166.226])
 by mails.dpdk.org (Postfix) with ESMTP id 4C97042E2B
 for <test-report@dpdk.org>; Tue,  5 Dec 2023 12:43:55 +0100 (CET)
Received: by mail-il1-f226.google.com with SMTP id
 e9e14a558f8ab-35d67599613so17158095ab.3
 for <test-report@dpdk.org>; Tue, 05 Dec 2023 03:43:55 -0800 (PST)
DKIM-Signature: v=1; a=rsa-sha256; c=relaxed/relaxed;
 d=iol.unh.edu; s=unh-iol; t=1701776634; x=1702381434; darn=dpdk.org;
 h=cc:to:from:subject:message-id:date:from:to:cc:subject:date
 :message-id:reply-to;
 bh=yXfXvaMpNe+Ht78L7yD2CqYS1wo9Qct4kgboJijJP0w=;
 b=OazIhtvUBm4jWpw8oizOUE7/4JAwnf8HJ/sLYxcxaATSrTuTyV3tspwfmx5Dc4ZSOa
 ONA+ppvfqmbdzsOn9j29AWVtANZ4HIuBH73+JkqqaBsKeGENnlxk90bOUUk89gnAVc5o
 X8rGF7fBd1HixI9EpwnJyl/Er2chz+P9lIJOo=
X-Google-DKIM-Signature: v=1; a=rsa-sha256; c=relaxed/relaxed;
 d=1e100.net; s=20230601; t=1701776634; x=1702381434;
 h=cc:to:from:subject:message-id:date:x-gm-message-state:from:to:cc
 :subject:date:message-id:reply-to;
 bh=yXfXvaMpNe+Ht78L7yD2CqYS1wo9Qct4kgboJijJP0w=;
 b=rX7oNn516WJYGViALG1bhF1I9Fyh2tSwf3gSw0ArwkL8cfkS7zwQsBhd3qgOzFd+r3
 sJwPwRJiqodVned7OmJAdw6VusgK7bsbiZkssUtog6zWreOh9l8GcGdjzuS9uzmK9hmY
 NTUx9SoCfkdar7c2t8TiDvdJ0YWpo7ZyiZ+4HG0q81j3nKPUNkcboZLzzi77Mezu27CG
 ABcJ0hTV6C1blYhc+kk3TJSP7PTFVrnR3Ya/3lFy0rmuk9I6uqGeYhkAwaDbiX9r208q
 aaa+tx7YPO4Hv0PYv+MqQRgUZDH0FZA3kqPPNICFWMqMarOZuGtTlLDTGwVaLePsyqxd
 tf2g==
X-Gm-Message-State: AOJu0Yz7VIJ9v8VmbtFRBg8yh1MjYA0bra1pzHJ1LNZ5ymxNJ6YmDlqG
 6ACznUxPjvFXVQsG74S54fT2IzsZJ82bwo2BtJ/cyhdLu7W5f7PXsMHLYw==
X-Google-Smtp-Source: AGHT+IEQ/+ms+nI1gSsiaeDGtT6OZ6JOKo/H8O/5yW1oSB52XMDUZXumEp3A8CRBwmx3JcMlZikHCoB+31Pl
X-Received: by 2002:a92:d20d:0:b0:35d:59a2:2d3 with SMTP id
 y13-20020a92d20d000000b0035d59a202d3mr7027218ily.115.1701776634724; 
 Tue, 05 Dec 2023 03:43:54 -0800 (PST)
Received: from postal.iol.unh.edu (postal.iol.unh.edu. [132.177.123.84])
 by smtp-relay.gmail.com with ESMTPS id
 v8-20020a056e02164800b0035add83bd03sm196476ilu.7.2023.12.05.03.43.54
 (version=TLS1_2 cipher=ECDHE-ECDSA-AES128-GCM-SHA256 bits=128/128);
 Tue, 05 Dec 2023 03:43:54 -0800 (PST)
X-Relaying-Domain: iol.unh.edu
Date: Tue, 05 Dec 2023 03:43:54 -0800 (PST)
Message-ID: <656f0cfa.050a0220.5ef66.5599SMTPIN_ADDED_MISSING@mx.google.com>
Received: from [172.17.0.3] (unknown [172.18.0.217])
 by postal.iol.unh.edu (Postfix) with ESMTP id 37BEF605C311;
 Tue,  5 Dec 2023 06:43:39 -0500 (EST)
Subject: |SUCCESS| pw134877 [PATCH] net/iavf: fix no polling mode switch
From: dpdklab@iol.unh.edu
To: Test Report <test-report@dpdk.org>
Cc: dpdk-test-reports@iol.unh.edu
Content-Type: text/plain
X-BeenThere: test-report@dpdk.org
X-Mailman-Version: 2.1.29
Precedence: list
List-Id: automatic DPDK test reports <test-report.dpdk.org>
List-Unsubscribe: <https://mails.dpdk.org/options/test-report>,
 <mailto:test-report-request@dpdk.org?subject=unsubscribe>
List-Archive: <http://mails.dpdk.org/archives/test-report/>
List-Post: <mailto:test-report@dpdk.org>
List-Help: <mailto:test-report-request@dpdk.org?subject=help>
List-Subscribe: <https://mails.dpdk.org/listinfo/test-report>,
 <mailto:test-report-request@dpdk.org?subject=subscribe>
Errors-To: test-report-bounces@dpdk.org

Test-Label: iol-compile-amd64-testing
Test-Status: SUCCESS
http://dpdk.org/patch/134877

_Testing PASS_

Submitter: Mingjin Ye <mingjinx.ye@intel.com>
Date: Tuesday, December 05 2023 10:28:28 
DPDK git baseline: Repo:dpdk
  Branch: master
  CommitID:a526461b0764de52b09b073df84f9e87ec120c93

134877 --> testing pass

Test environment and result as below:

+---------------------+--------------------+----------------------+
|     Environment     | dpdk_meson_compile | dpdk_mingw64_compile |
+=====================+====================+======================+
| Windows Server 2022 | PASS               | SKIPPED              |
+---------------------+--------------------+----------------------+
| FreeBSD 13          | PASS               | SKIPPED              |
+---------------------+--------------------+----------------------+
| Debian Bullseye     | PASS               | SKIPPED              |
+---------------------+--------------------+----------------------+
| Fedora 37           | PASS               | SKIPPED              |
+---------------------+--------------------+----------------------+
| Ubuntu 22.04        | PASS               | SKIPPED              |
+---------------------+--------------------+----------------------+
| Alpine              | PASS               | SKIPPED              |
+---------------------+--------------------+----------------------+
| CentOS Stream 9     | PASS               | SKIPPED              |
+---------------------+--------------------+----------------------+
| Debian Buster       | PASS               | SKIPPED              |
+---------------------+--------------------+----------------------+
| Fedora 38           | PASS               | SKIPPED              |
+---------------------+--------------------+----------------------+
| Windows Server 2019 | PASS               | PASS                 |
+---------------------+--------------------+----------------------+
| openSUSE Leap 15    | PASS               | SKIPPED              |
+---------------------+--------------------+----------------------+
| Ubuntu 20.04        | PASS               | SKIPPED              |
+---------------------+--------------------+----------------------+
| CentOS Stream 8     | PASS               | SKIPPED              |
+---------------------+--------------------+----------------------+
| RHEL8               | PASS               | SKIPPED              |
+---------------------+--------------------+----------------------+


Windows Server 2022
	Kernel: OS Build 20348.2031
	Compiler: MSVC VS-Preview

FreeBSD 13
	Kernel: 13.0
	Compiler: clang 11.0.1

Debian Bullseye
	Kernel: 5.4.0-122-generic
	Compiler: gcc 10.2.1-6

Fedora 37
	Kernel: Depends on container host system
	Compiler: gcc 12.3.1

Ubuntu 22.04
	Kernel: 4.18.0-240.10.1.el8_3.x86_64
	Compiler: gcc 11.3.0

Alpine
	Kernel: 5.4.0-73-generic
	Compiler: gcc (Alpine 10.3.1_git20210424) 10.3.1 20210424

CentOS Stream 9
	Kernel: 4.18.0-240.10.1.el8_3.x86_64
	Compiler: gcc 11.3.1 20220421

Debian Buster
	Kernel: 5.4.0-122-generic
	Compiler: gcc 8.3.0-6

Fedora 38
	Kernel: Depends on container host
	Compiler: gcc 13.1.1

Windows Server 2019
	Kernel: 10.0
	Compiler: clang 14.0 and gcc 8.1.0 (MinGW)

openSUSE Leap 15
	Kernel: 4.18.0-240.10.1.el8_3.x86_64
	Compiler: gcc 7.5.0

Ubuntu 20.04
	Kernel: 5.4.0-153-generic
	Compiler: gcc 9.4.0-1ubuntu1~20.04.1

CentOS Stream 8
	Kernel: 4.18.0-240.10.1.el8_3.x86_64
	Compiler: gcc 8.4.1 20200928

RHEL8
	Kernel: 4.18.0-240.10.1.el8_3.x86_64
	Compiler: gcc 8.3.1 20191121 (Red Hat 8.3.1-5)

To view detailed results, visit:
https://lab.dpdk.org/results/dashboard/patchsets/28531/

UNH-IOL DPDK Community Lab

To manage your email subscriptions, visit: 
https://lab.dpdk.org/results/dashboard/preferences/subscriptions/