From mboxrd@z Thu Jan 1 00:00:00 1970 Return-Path: Received: from mails.dpdk.org (mails.dpdk.org [217.70.189.124]) by inbox.dpdk.org (Postfix) with ESMTP id D270D43689 for ; Wed, 6 Dec 2023 13:27:32 +0100 (CET) Received: from mails.dpdk.org (localhost [127.0.0.1]) by mails.dpdk.org (Postfix) with ESMTP id CDCBA402CF; Wed, 6 Dec 2023 13:27:32 +0100 (CET) Received: from mail-yw1-f227.google.com (mail-yw1-f227.google.com [209.85.128.227]) by mails.dpdk.org (Postfix) with ESMTP id CAFFB40289 for ; Wed, 6 Dec 2023 13:27:31 +0100 (CET) Received: by mail-yw1-f227.google.com with SMTP id 00721157ae682-5d2d0661a8dso77928487b3.2 for ; Wed, 06 Dec 2023 04:27:31 -0800 (PST) DKIM-Signature: v=1; a=rsa-sha256; c=relaxed/relaxed; d=iol.unh.edu; s=unh-iol; t=1701865651; x=1702470451; darn=dpdk.org; h=cc:to:from:subject:message-id:date:from:to:cc:subject:date :message-id:reply-to; bh=36oZI4UXs8taFA7nd3G02rUJl6EtGIeQ2tz5mSjtyOc=; b=DdgAfBXzYd0gspyfbkPS1N6bt+HLpYIsUwqD0KWjiCm3/4IdyQTLVrxeAPdVN7aawb jy4DMEMhvf4hBUq79t/BnRXNlQ/cgQLctbc7Cvs77+mjVotxNBO7PBBP6ieaLposC/an EdnAMiZcMmX+6MURnrToJr1iGKhOrlYYPtBgc= X-Google-DKIM-Signature: v=1; a=rsa-sha256; c=relaxed/relaxed; d=1e100.net; s=20230601; t=1701865651; x=1702470451; h=cc:to:from:subject:message-id:date:x-gm-message-state:from:to:cc :subject:date:message-id:reply-to; bh=36oZI4UXs8taFA7nd3G02rUJl6EtGIeQ2tz5mSjtyOc=; b=GZdJbP4/GYy/BRWbe1xaXUjXf5d7Rl2PUClNRjtY6fvkR+ks6fREbRxC09CdEPXOdJ LQpOMcKdWb24jd4rlAIlnMOxk7p+pV/ynbiRvTSlbEFghJzcJlIY09v2wROoq9m/YUmM BvQsl7oaO0FW1nmqlKe1sa1M7CKv0BeRw0M7YEOops2qXdV3qRZe9aMa8MeTdlDErYjV Krr22luF9pzZ/CWyMEgAEFEaL4/iHsOvT8ogaExr0+jZWX5QNix6hzv3xQnszaV9YCo5 +StqkNYdOJs8M0l8gnRtP4y1JzZa0uG8kvJMDAFzRDmupUOxAK5VL3JrA7ZscPar6edn XMGw== X-Gm-Message-State: AOJu0YwE166Ow6eMrHER6so3jyI9CUf0/LDo4SEv9MMpKlNhaZ/fDM/r sUrjJNvnasmLcp+4x3WAoawqe6GHlgBJb8AjchG9WRMM/IuucWKMosqPHInuW6S8K1JitoBHQA= = X-Google-Smtp-Source: AGHT+IHMmAuUncs09xxbtWiMFdPvuA/MOT/soiGWsAZBJSHE66C8rptPj9C6SwGM3soEAMirAap10ey7iybd X-Received: by 2002:a05:690c:350c:b0:5d7:3463:e66c with SMTP id fq12-20020a05690c350c00b005d73463e66cmr701565ywb.89.1701865650874; Wed, 06 Dec 2023 04:27:30 -0800 (PST) Received: from postal.iol.unh.edu (postal.iol.unh.edu. [2606:4100:3880:1234::84]) by smtp-relay.gmail.com with ESMTPS id w205-20020a0dd4d6000000b005d39cd68b16sm1084014ywd.28.2023.12.06.04.27.30 (version=TLS1_2 cipher=ECDHE-ECDSA-AES128-GCM-SHA256 bits=128/128); Wed, 06 Dec 2023 04:27:30 -0800 (PST) X-Relaying-Domain: iol.unh.edu Date: Wed, 06 Dec 2023 04:27:30 -0800 (PST) Message-ID: <657068b2.0d0a0220.f0e30.4d02SMTPIN_ADDED_MISSING@mx.google.com> Received: from [172.21.0.3] (unknown [172.18.0.240]) by postal.iol.unh.edu (Postfix) with ESMTP id 76F0E6045DC3; Wed, 6 Dec 2023 07:27:25 -0500 (EST) Subject: |SUCCESS| pw134886 [PATCH] cfgfile: increase value length From: dpdklab@iol.unh.edu To: Test Report Cc: dpdk-test-reports@iol.unh.edu Content-Type: text/plain X-BeenThere: test-report@dpdk.org X-Mailman-Version: 2.1.29 Precedence: list List-Id: automatic DPDK test reports List-Unsubscribe: , List-Archive: List-Post: List-Help: List-Subscribe: , Errors-To: test-report-bounces@dpdk.org Test-Label: iol-compile-amd64-testing Test-Status: SUCCESS http://dpdk.org/patch/134886 _Testing PASS_ Submitter: Vipin Varghese Date: Wednesday, December 06 2023 11:29:52 DPDK git baseline: Repo:dpdk Branch: master CommitID:a526461b0764de52b09b073df84f9e87ec120c93 134886 --> testing pass Test environment and result as below: +---------------------+--------------------+----------------------+ | Environment | dpdk_meson_compile | dpdk_mingw64_compile | +=====================+====================+======================+ | Windows Server 2022 | PASS | SKIPPED | +---------------------+--------------------+----------------------+ | FreeBSD 13 | PASS | SKIPPED | +---------------------+--------------------+----------------------+ | Windows Server 2019 | PASS | PASS | +---------------------+--------------------+----------------------+ | RHEL8 | PASS | SKIPPED | +---------------------+--------------------+----------------------+ | Debian Bullseye | PASS | SKIPPED | +---------------------+--------------------+----------------------+ | openSUSE Leap 15 | PASS | SKIPPED | +---------------------+--------------------+----------------------+ | Fedora 38 | PASS | SKIPPED | +---------------------+--------------------+----------------------+ | Debian Buster | PASS | SKIPPED | +---------------------+--------------------+----------------------+ | Fedora 37 | PASS | SKIPPED | +---------------------+--------------------+----------------------+ | CentOS Stream 9 | PASS | SKIPPED | +---------------------+--------------------+----------------------+ | CentOS Stream 8 | PASS | SKIPPED | +---------------------+--------------------+----------------------+ Windows Server 2022 Kernel: OS Build 20348.2031 Compiler: MSVC VS-Preview FreeBSD 13 Kernel: 13.0 Compiler: clang 11.0.1 Windows Server 2019 Kernel: 10.0 Compiler: clang 14.0 and gcc 8.1.0 (MinGW) RHEL8 Kernel: 4.18.0-240.10.1.el8_3.x86_64 Compiler: gcc 8.3.1 20191121 (Red Hat 8.3.1-5) Debian Bullseye Kernel: 5.4.0-122-generic Compiler: gcc 10.2.1-6 openSUSE Leap 15 Kernel: 4.18.0-240.10.1.el8_3.x86_64 Compiler: gcc 7.5.0 Fedora 38 Kernel: Depends on container host Compiler: clang 16.0.3 Debian Buster Kernel: 5.4.0-122-generic Compiler: gcc 8.3.0-6 Fedora 37 Kernel: Depends on container host system Compiler: gcc 12.3.1 CentOS Stream 9 Kernel: 4.18.0-240.10.1.el8_3.x86_64 Compiler: gcc 11.3.1 20220421 CentOS Stream 8 Kernel: 4.18.0-240.10.1.el8_3.x86_64 Compiler: gcc 8.4.1 20200928 To view detailed results, visit: https://lab.dpdk.org/results/dashboard/patchsets/28538/ UNH-IOL DPDK Community Lab To manage your email subscriptions, visit: https://lab.dpdk.org/results/dashboard/preferences/subscriptions/