From mboxrd@z Thu Jan 1 00:00:00 1970 Return-Path: Received: from mails.dpdk.org (mails.dpdk.org [217.70.189.124]) by inbox.dpdk.org (Postfix) with ESMTP id 66D244368A for ; Wed, 6 Dec 2023 14:05:35 +0100 (CET) Received: from mails.dpdk.org (localhost [127.0.0.1]) by mails.dpdk.org (Postfix) with ESMTP id 55B6C42E79; Wed, 6 Dec 2023 14:05:35 +0100 (CET) Received: from mail-yb1-f225.google.com (mail-yb1-f225.google.com [209.85.219.225]) by mails.dpdk.org (Postfix) with ESMTP id 6766C402CF for ; Wed, 6 Dec 2023 14:05:34 +0100 (CET) Received: by mail-yb1-f225.google.com with SMTP id 3f1490d57ef6-daf26d84100so5193620276.3 for ; Wed, 06 Dec 2023 05:05:34 -0800 (PST) DKIM-Signature: v=1; a=rsa-sha256; c=relaxed/relaxed; d=iol.unh.edu; s=unh-iol; t=1701867933; x=1702472733; darn=dpdk.org; h=cc:to:from:subject:message-id:date:from:to:cc:subject:date :message-id:reply-to; bh=nJoJOJKOIum5o7u7Vl+2QAiwx+imKX86YekpfFj6x7w=; b=HdbFGXK4eRbRMkJJipzgYOUjoZVS/9I4XcL6k2+zKxlhlEn+s2q5b+8PwEH6LmYA0e PXRUTuDCqhDilY1O3+stmT8UUQQztp8h0zr8kKlAzIgdcqLb1uyafRbBLDGTHxW+IAyW Yc0jrcDvT3wx5N0xR/WPyU/iDR9r/c6C+ov6o= X-Google-DKIM-Signature: v=1; a=rsa-sha256; c=relaxed/relaxed; d=1e100.net; s=20230601; t=1701867933; x=1702472733; h=cc:to:from:subject:message-id:date:x-gm-message-state:from:to:cc :subject:date:message-id:reply-to; bh=nJoJOJKOIum5o7u7Vl+2QAiwx+imKX86YekpfFj6x7w=; b=AGiLVzNStVYfGi/nnNTCFVukcV7r1TAZ5h4r1mE8GxsYGkJ1dKZ1bU3oMDpmujBy4K TMK9j0mpODNVuISmgsUQH/25SkQIRwBtcw3nT7g+VjCYt73RNxnk9L77oUWWzcUoyPQr 5N57oedalRAFSWfLNyXNGOo8kd+q6jiTgOtYlv3pJmJfr0XEpZ9RGBxE85d9QWtyH9/a Qv9s+1O6yJpU6WXufnU0jVpJKf6POGbcEkjGWoehv8Zn0QVIB3yvib72fB9Q0WwbVM1J 5/cGarD+J2NHa7FM06UkD0zQtrw26pJrB1SjcZ8DbI5fWyaCxgVVukrNg4pfojXJ4twD c9dA== X-Gm-Message-State: AOJu0YzjX3+SEpbki56ZcegpgWzA2nrN2NBjw/UAQtvLyFG10pHlVeMD gGB/ZcRFdxFkVmyO3MhxmPZt7DlzLBx+DkjQZ5/b+0yFj7h3IQ== X-Google-Smtp-Source: AGHT+IF9EBtrmE92OcPlqFYEK9Ovh+ky4SWzLRPkAnyTrXZP19Kzx/EWtzbF9VSN/A0A7Gtk31ICdWqvE5n+ X-Received: by 2002:a0d:d911:0:b0:5d0:3a64:4a24 with SMTP id b17-20020a0dd911000000b005d03a644a24mr602169ywe.19.1701867933708; Wed, 06 Dec 2023 05:05:33 -0800 (PST) Received: from postal.iol.unh.edu (postal.iol.unh.edu. [132.177.123.84]) by smtp-relay.gmail.com with ESMTPS id x4-20020a0dd504000000b005d45cee0696sm1375597ywd.26.2023.12.06.05.05.33 (version=TLS1_2 cipher=ECDHE-ECDSA-AES128-GCM-SHA256 bits=128/128); Wed, 06 Dec 2023 05:05:33 -0800 (PST) X-Relaying-Domain: iol.unh.edu Date: Wed, 06 Dec 2023 05:05:33 -0800 (PST) Message-ID: <6570719d.0d0a0220.e0929.e56bSMTPIN_ADDED_MISSING@mx.google.com> Received: from [172.17.0.2] (unknown [172.18.0.217]) by postal.iol.unh.edu (Postfix) with ESMTP id 467026045DC2; Wed, 6 Dec 2023 08:05:18 -0500 (EST) Subject: |SUCCESS| pw134886 [PATCH] cfgfile: increase value length From: dpdklab@iol.unh.edu To: Test Report Cc: Vipin Varghese , dpdk-test-reports@iol.unh.edu Content-Type: text/plain X-BeenThere: test-report@dpdk.org X-Mailman-Version: 2.1.29 Precedence: list List-Id: automatic DPDK test reports List-Unsubscribe: , List-Archive: List-Post: List-Help: List-Subscribe: , Errors-To: test-report-bounces@dpdk.org Test-Label: iol-unit-arm64-testing Test-Status: SUCCESS http://dpdk.org/patch/134886 _Testing PASS_ Submitter: Vipin Varghese Date: Wednesday, December 06 2023 11:29:52 DPDK git baseline: Repo:dpdk Branch: master CommitID:a526461b0764de52b09b073df84f9e87ec120c93 134886 --> testing pass Test environment and result as below: +--------------------------+--------------+---------------------------+----------------+------------------------------+ | Environment | lpm_autotest | cryptodev_sw_zuc_autotest | dpdk_unit_test | cryptodev_sw_snow3g_autotest | +==========================+==============+===========================+================+==============================+ | Ubuntu 20.04 ARM SVE | PASS | SKIPPED | SKIPPED | SKIPPED | +--------------------------+--------------+---------------------------+----------------+------------------------------+ | Debian 11 (arm) | SKIPPED | PASS | SKIPPED | PASS | +--------------------------+--------------+---------------------------+----------------+------------------------------+ | CentOS Stream 9 (ARM) | SKIPPED | SKIPPED | PASS | SKIPPED | +--------------------------+--------------+---------------------------+----------------+------------------------------+ | Fedora 37 (ARM) | SKIPPED | SKIPPED | PASS | SKIPPED | +--------------------------+--------------+---------------------------+----------------+------------------------------+ | Debian 11 (Buster) (ARM) | SKIPPED | SKIPPED | PASS | SKIPPED | +--------------------------+--------------+---------------------------+----------------+------------------------------+ | Fedora 38 (ARM) | SKIPPED | SKIPPED | PASS | SKIPPED | +--------------------------+--------------+---------------------------+----------------+------------------------------+ Ubuntu 20.04 ARM SVE Kernel: 5.4.0-80-generic Compiler: gcc 10.3.0 (Ubuntu 10.3.0-1ubuntu1~20.04) Debian 11 (arm) Kernel: Container Host Kernel Compiler: gcc 10.2.1 CentOS Stream 9 (ARM) Kernel: Container Host Kernel Compiler: gcc 11.3.1 Fedora 37 (ARM) Kernel: Depends on container host Compiler: gcc 12.3.1 Debian 11 (Buster) (ARM) Kernel: Container Host Kernel Compiler: gcc 10.2.1 Fedora 38 (ARM) Kernel: Depends on container host Compiler: gcc 13.1.1 To view detailed results, visit: https://lab.dpdk.org/results/dashboard/patchsets/28538/ UNH-IOL DPDK Community Lab To manage your email subscriptions, visit: https://lab.dpdk.org/results/dashboard/preferences/subscriptions/