From mboxrd@z Thu Jan 1 00:00:00 1970 Return-Path: Received: from mails.dpdk.org (mails.dpdk.org [217.70.189.124]) by inbox.dpdk.org (Postfix) with ESMTP id 572204368B for ; Wed, 6 Dec 2023 16:42:46 +0100 (CET) Received: from mails.dpdk.org (localhost [127.0.0.1]) by mails.dpdk.org (Postfix) with ESMTP id 36BD3402A7; Wed, 6 Dec 2023 16:42:46 +0100 (CET) Received: from mail-oa1-f97.google.com (mail-oa1-f97.google.com [209.85.160.97]) by mails.dpdk.org (Postfix) with ESMTP id D57FD4021E for ; Wed, 6 Dec 2023 16:42:44 +0100 (CET) Received: by mail-oa1-f97.google.com with SMTP id 586e51a60fabf-1fb37f25399so2039947fac.1 for ; Wed, 06 Dec 2023 07:42:44 -0800 (PST) DKIM-Signature: v=1; a=rsa-sha256; c=relaxed/relaxed; d=iol.unh.edu; s=unh-iol; t=1701877364; x=1702482164; darn=dpdk.org; h=cc:to:from:subject:message-id:date:from:to:cc:subject:date :message-id:reply-to; bh=qshfV7sQ8NbUmcmOpletUb+BNHeryGb3WRjBuffM1Ns=; b=SUDQww6K2l7pxqKeWDxoTESjIynQHvO1OrRZ6AXbBI/GJliMe/TRCufdbR0NDyecOk ohXs7gkGQHuChAG1/2DSp9bpy7WGSXRs04k5cnf0aaq0QbiVJJaax8U/HTCW0tBi7jJ9 ESYRBw6zgG/hT7gF5y1KtMKj5WUtLZ83ozUQY= X-Google-DKIM-Signature: v=1; a=rsa-sha256; c=relaxed/relaxed; d=1e100.net; s=20230601; t=1701877364; x=1702482164; h=cc:to:from:subject:message-id:date:x-gm-message-state:from:to:cc :subject:date:message-id:reply-to; bh=qshfV7sQ8NbUmcmOpletUb+BNHeryGb3WRjBuffM1Ns=; b=R204nrI/kTmjPfT8VXKDPeQ6uyYiasunzntgFR0uPAzQPDd2x8ZfDYPwdKgaEqXTD5 GlMIRuJACnqLknr8IqNp50/mtdS3qIsiACI9RvENaYxW1vj7iAQvZuGj2hcggIxWBgJU ZD+3fDJyY0lVuCNXk72AmJPs46bE21afUHGmqmQctB387lXA+uLgHn+Vg8dKyetvrRTw uWAGmPvIKYU3TztYQieXQZ8+UGiqzXE4qetDRO3vK1nSwuCDPVKO1fQYLTX3Q2sWdbwN su8c3Rar1Iutcu+VPyRiW5hxN4bGWYpRGjnbceLYdDNrOKrcxGvJeV2JCzohe2NGIOuT YhlQ== X-Gm-Message-State: AOJu0YyBE9lANUM7d6oDQ4HK37DDE+ChLUPxAlRuAo5QgaVzSCW/Hc+c TC+3ec/FvTOVzzqnswHQCKBpeyI2vJpckxDwr10r1INlnQPQUm5e3qZ4PSZv/s3VjSlp4FBfZw= = X-Google-Smtp-Source: AGHT+IFempx8pAWcCrAbyA0TwGoPR2NVDbxAOBoSEHsLP9KNHr+Q1XdMS5DiruMh5Ov4ydR+KwBiEz5s1Vie X-Received: by 2002:a05:6870:9a22:b0:1fb:75a:77a3 with SMTP id fo34-20020a0568709a2200b001fb075a77a3mr1076942oab.84.1701877363902; Wed, 06 Dec 2023 07:42:43 -0800 (PST) Received: from postal.iol.unh.edu (postal.iol.unh.edu. [2606:4100:3880:1234::84]) by smtp-relay.gmail.com with ESMTPS id d37-20020a056870d2a500b001faef725c04sm4439oae.42.2023.12.06.07.42.43 (version=TLS1_2 cipher=ECDHE-ECDSA-AES128-GCM-SHA256 bits=128/128); Wed, 06 Dec 2023 07:42:43 -0800 (PST) X-Relaying-Domain: iol.unh.edu Date: Wed, 06 Dec 2023 07:42:43 -0800 (PST) Message-ID: <65709673.050a0220.ac1c1.038fSMTPIN_ADDED_MISSING@mx.google.com> Received: from [172.17.0.2] (unknown [172.18.0.217]) by postal.iol.unh.edu (Postfix) with ESMTP id 4670D605C311; Wed, 6 Dec 2023 10:42:43 -0500 (EST) Subject: |SUCCESS| pw134886 [PATCH] cfgfile: increase value length From: dpdklab@iol.unh.edu To: Test Report Cc: dpdk-test-reports@iol.unh.edu Content-Type: text/plain X-BeenThere: test-report@dpdk.org X-Mailman-Version: 2.1.29 Precedence: list List-Id: automatic DPDK test reports List-Unsubscribe: , List-Archive: List-Post: List-Help: List-Subscribe: , Errors-To: test-report-bounces@dpdk.org Test-Label: iol-compile-arm64-testing Test-Status: SUCCESS http://dpdk.org/patch/134886 _Testing PASS_ Submitter: Varghese, Vipin Date: Wednesday, December 06 2023 11:29:52 DPDK git baseline: Repo:dpdk Branch: master CommitID:a526461b0764de52b09b073df84f9e87ec120c93 134886 --> testing pass Test environment and result as below: +----------------------------------------+--------------------+ | Environment | dpdk_meson_compile | +========================================+====================+ | Ubuntu 20.04 ARM SVE | PASS | +----------------------------------------+--------------------+ | CentOS Stream 9 (ARM) | PASS | +----------------------------------------+--------------------+ | Ubuntu 20.04 aarch32 GCC Cross Compile | PASS | +----------------------------------------+--------------------+ | Ubuntu 20.04 ARM Clang Cross Compile | PASS | +----------------------------------------+--------------------+ | Ubuntu 20.04 ARM GCC Cross Compile | PASS | +----------------------------------------+--------------------+ | Fedora 38 (ARM) | PASS | +----------------------------------------+--------------------+ | Fedora 38 (ARM Clang) | PASS | +----------------------------------------+--------------------+ | Debian 11 (Buster) (ARM) | PASS | +----------------------------------------+--------------------+ | Fedora 37 (ARM) | PASS | +----------------------------------------+--------------------+ Ubuntu 20.04 ARM SVE Kernel: 5.4.0-80-generic Compiler: gcc 10.3.0 (Ubuntu 10.3.0-1ubuntu1~20.04) CentOS Stream 9 (ARM) Kernel: Container Host Kernel Compiler: gcc 11.3.1 Ubuntu 20.04 aarch32 GCC Cross Compile Kernel: 5.4.0-72-generic Compiler: gcc 9.3.0 Ubuntu 20.04 ARM Clang Cross Compile Kernel: 5.4.0-72-generic Compiler: clang version 10.0.0-4ubuntu1 Ubuntu 20.04 ARM GCC Cross Compile Kernel: 5.4.0-72-generic Compiler: aarch64-linux-gnu-gcc (Ubuntu 9.3.0-17ubuntu1~20.04) 9.3.0 Fedora 38 (ARM) Kernel: Depends on container host Compiler: gcc 13.1.1 Fedora 38 (ARM Clang) Kernel: Depends on container host Compiler: clang 16.0.3 Debian 11 (Buster) (ARM) Kernel: Container Host Kernel Compiler: gcc 10.2.1 Fedora 37 (ARM) Kernel: Depends on container host Compiler: gcc 12.3.1 To view detailed results, visit: https://lab.dpdk.org/results/dashboard/patchsets/28538/ UNH-IOL DPDK Community Lab To manage your email subscriptions, visit: https://lab.dpdk.org/results/dashboard/preferences/subscriptions/