From mboxrd@z Thu Jan  1 00:00:00 1970
Return-Path: <test-report-bounces@dpdk.org>
Received: from mails.dpdk.org (mails.dpdk.org [217.70.189.124])
	by inbox.dpdk.org (Postfix) with ESMTP id 6AC9E43699
	for <public@inbox.dpdk.org>; Thu,  7 Dec 2023 13:17:57 +0100 (CET)
Received: from mails.dpdk.org (localhost [127.0.0.1])
	by mails.dpdk.org (Postfix) with ESMTP id 667FA40295;
	Thu,  7 Dec 2023 13:17:57 +0100 (CET)
Received: from mail-pf1-f226.google.com (mail-pf1-f226.google.com
 [209.85.210.226])
 by mails.dpdk.org (Postfix) with ESMTP id 98D364025C
 for <test-report@dpdk.org>; Thu,  7 Dec 2023 13:17:54 +0100 (CET)
Received: by mail-pf1-f226.google.com with SMTP id
 d2e1a72fcca58-6ce972ac39dso483396b3a.3
 for <test-report@dpdk.org>; Thu, 07 Dec 2023 04:17:54 -0800 (PST)
DKIM-Signature: v=1; a=rsa-sha256; c=relaxed/relaxed;
 d=iol.unh.edu; s=unh-iol; t=1701951473; x=1702556273; darn=dpdk.org;
 h=cc:to:from:subject:message-id:date:from:to:cc:subject:date
 :message-id:reply-to;
 bh=LYC7GXJlEZq5I+PM86yq+t5xKXOtxa+zeJ73WfKy92A=;
 b=NHp7q68yeHUEzFozjefohNn5pJveOCdE57SdOguMK5309z4MTlJ0sbzUhFF0fVJ747
 znxJ3t3dYBOhH3gWi3wTGeXo6DEY7a7m8uZfEcEPTYjJOPkt7so3Zb9+SfI+K9kGycLx
 jjvN5k2lUY6QU26zP2ivcjOJCvvF1boBfRy1o=
X-Google-DKIM-Signature: v=1; a=rsa-sha256; c=relaxed/relaxed;
 d=1e100.net; s=20230601; t=1701951473; x=1702556273;
 h=cc:to:from:subject:message-id:date:x-gm-message-state:from:to:cc
 :subject:date:message-id:reply-to;
 bh=LYC7GXJlEZq5I+PM86yq+t5xKXOtxa+zeJ73WfKy92A=;
 b=HIkml/7IgmKmmFnRVR8WeHmlGt1Cdx0mbIoSm9oE3s7h8xiIB2GBudtjCLIvjtbawR
 7xpyViuvHPKVCZEAggOq+eetmCcanl0Ko4kyUBtsc3hScX9zlJRmN0jTTnojZTpypHrO
 YUAZocTfzda6M3a857E9JuKeCvw0GRDvEdWEPLSxvkiOEXwVib/KMaPRpPwsvgEZrOTs
 1NlIGmX06p5X5LAhHc2CmDSucqMbdbD+ejaUC3pnEeb2/dyOqhJvk861u1zsl2gPr75r
 YES7yNVB44KLHUHChkBMKKamyJhpsCD467N4zr6Qdmbmvgwyx5hb3RncetwlybQz/Hg0
 3Pdg==
X-Gm-Message-State: AOJu0Yw9nJW4X1Ab0qF4FSXX2vcKHjvl6ICy9z/INomN4Csg2cAXi1wi
 n8K2oToCoWyAluTO8Jw90MHkdtGCdDBHrOTrBljQyJ/YhF7DBq+W98tIVA==
X-Google-Smtp-Source: AGHT+IHBJ7ZpFiCgWY/fQ9XDFZ+bevmvDiJ4JHOEJ6UjDKXI6EPtBMAaEhRogfqcyacjH+O2+p8yjcV1QCbS
X-Received: by 2002:a05:6a20:2584:b0:18b:4dc2:a4e1 with SMTP id
 k4-20020a056a20258400b0018b4dc2a4e1mr2466696pzd.55.1701951473305; 
 Thu, 07 Dec 2023 04:17:53 -0800 (PST)
Received: from postal.iol.unh.edu (postal.iol.unh.edu. [132.177.123.84])
 by smtp-relay.gmail.com with ESMTPS id
 v6-20020aa799c6000000b006cde431f37dsm98808pfi.2.2023.12.07.04.17.53
 (version=TLS1_2 cipher=ECDHE-ECDSA-AES128-GCM-SHA256 bits=128/128);
 Thu, 07 Dec 2023 04:17:53 -0800 (PST)
X-Relaying-Domain: iol.unh.edu
Date: Thu, 07 Dec 2023 04:17:53 -0800 (PST)
Message-ID: <6571b7f1.a70a0220.5b056.2631SMTPIN_ADDED_MISSING@mx.google.com>
Received: from [172.21.0.3] (unknown [172.18.0.240])
 by postal.iol.unh.edu (Postfix) with ESMTP id B9097605C312;
 Thu,  7 Dec 2023 07:17:52 -0500 (EST)
Subject: |SUCCESS| pw134906 [PATCH] event/cnxk: update base code
From: dpdklab@iol.unh.edu
To: Test Report <test-report@dpdk.org>
Cc: dpdk-test-reports@iol.unh.edu
Content-Type: text/plain
X-BeenThere: test-report@dpdk.org
X-Mailman-Version: 2.1.29
Precedence: list
List-Id: automatic DPDK test reports <test-report.dpdk.org>
List-Unsubscribe: <https://mails.dpdk.org/options/test-report>,
 <mailto:test-report-request@dpdk.org?subject=unsubscribe>
List-Archive: <http://mails.dpdk.org/archives/test-report/>
List-Post: <mailto:test-report@dpdk.org>
List-Help: <mailto:test-report-request@dpdk.org?subject=help>
List-Subscribe: <https://mails.dpdk.org/listinfo/test-report>,
 <mailto:test-report-request@dpdk.org?subject=subscribe>
Errors-To: test-report-bounces@dpdk.org

Test-Label: iol-compile-amd64-testing
Test-Status: SUCCESS
http://dpdk.org/patch/134906

_Testing PASS_

Submitter: Pavan Nikhilesh Bhagavatula <pbhagavatula@marvell.com>
Date: Thursday, December 07 2023 06:56:30 
DPDK git baseline: Repo:dpdk
  Branch: master
  CommitID:f2d5afbb2c05d7647da7ea914887c52115652651

134906 --> testing pass

Test environment and result as below:

+---------------------+--------------------+----------------------+
|     Environment     | dpdk_meson_compile | dpdk_mingw64_compile |
+=====================+====================+======================+
| FreeBSD 13          | PASS               | SKIPPED              |
+---------------------+--------------------+----------------------+
| Windows Server 2022 | PASS               | SKIPPED              |
+---------------------+--------------------+----------------------+
| Windows Server 2019 | PASS               | PASS                 |
+---------------------+--------------------+----------------------+
| Debian Buster       | PASS               | SKIPPED              |
+---------------------+--------------------+----------------------+
| Ubuntu 20.04        | PASS               | SKIPPED              |
+---------------------+--------------------+----------------------+
| CentOS Stream 8     | PASS               | SKIPPED              |
+---------------------+--------------------+----------------------+
| CentOS Stream 9     | PASS               | SKIPPED              |
+---------------------+--------------------+----------------------+
| Debian Bullseye     | PASS               | SKIPPED              |
+---------------------+--------------------+----------------------+
| Fedora 37           | PASS               | SKIPPED              |
+---------------------+--------------------+----------------------+
| Fedora 38           | PASS               | SKIPPED              |
+---------------------+--------------------+----------------------+
| openSUSE Leap 15    | PASS               | SKIPPED              |
+---------------------+--------------------+----------------------+
| Ubuntu 22.04        | PASS               | SKIPPED              |
+---------------------+--------------------+----------------------+
| RHEL8               | PASS               | SKIPPED              |
+---------------------+--------------------+----------------------+
| Alpine              | PASS               | SKIPPED              |
+---------------------+--------------------+----------------------+


FreeBSD 13
	Kernel: 13.0
	Compiler: clang 11.0.1

Windows Server 2022
	Kernel: OS Build 20348.2031
	Compiler: MSVC VS-Preview

Windows Server 2019
	Kernel: 10.0
	Compiler: clang 14.0 and gcc 8.1.0 (MinGW)

Debian Buster
	Kernel: 5.4.0-122-generic
	Compiler: gcc 8.3.0-6

Ubuntu 20.04
	Kernel: 5.4.0-153-generic
	Compiler: gcc 9.4.0-1ubuntu1~20.04.1

CentOS Stream 8
	Kernel: 4.18.0-240.10.1.el8_3.x86_64
	Compiler: gcc 8.4.1 20200928

CentOS Stream 9
	Kernel: 4.18.0-240.10.1.el8_3.x86_64
	Compiler: gcc 11.3.1 20220421

Debian Bullseye
	Kernel: 5.4.0-122-generic
	Compiler: gcc 10.2.1-6

Fedora 37
	Kernel: Depends on container host system
	Compiler: gcc 12.3.1

Fedora 38
	Kernel: Depends on container host
	Compiler: gcc 13.1.1

openSUSE Leap 15
	Kernel: 4.18.0-240.10.1.el8_3.x86_64
	Compiler: gcc 7.5.0

Ubuntu 22.04
	Kernel: 4.18.0-240.10.1.el8_3.x86_64
	Compiler: gcc 11.3.0

RHEL8
	Kernel: 4.18.0-240.10.1.el8_3.x86_64
	Compiler: gcc 8.3.1 20191121 (Red Hat 8.3.1-5)

Alpine
	Kernel: 5.4.0-73-generic
	Compiler: gcc (Alpine 10.3.1_git20210424) 10.3.1 20210424

To view detailed results, visit:
https://lab.dpdk.org/results/dashboard/patchsets/28547/

UNH-IOL DPDK Community Lab

To manage your email subscriptions, visit: 
https://lab.dpdk.org/results/dashboard/preferences/subscriptions/