From mboxrd@z Thu Jan  1 00:00:00 1970
Return-Path: <test-report-bounces@dpdk.org>
Received: from mails.dpdk.org (mails.dpdk.org [217.70.189.124])
	by inbox.dpdk.org (Postfix) with ESMTP id 3930F43699
	for <public@inbox.dpdk.org>; Thu,  7 Dec 2023 13:42:25 +0100 (CET)
Received: from mails.dpdk.org (localhost [127.0.0.1])
	by mails.dpdk.org (Postfix) with ESMTP id 34DDE40295;
	Thu,  7 Dec 2023 13:42:25 +0100 (CET)
Received: from mail-il1-f225.google.com (mail-il1-f225.google.com
 [209.85.166.225])
 by mails.dpdk.org (Postfix) with ESMTP id 5CE3F4025C
 for <test-report@dpdk.org>; Thu,  7 Dec 2023 13:42:24 +0100 (CET)
Received: by mail-il1-f225.google.com with SMTP id
 e9e14a558f8ab-35d6b381341so2857785ab.2
 for <test-report@dpdk.org>; Thu, 07 Dec 2023 04:42:24 -0800 (PST)
DKIM-Signature: v=1; a=rsa-sha256; c=relaxed/relaxed;
 d=iol.unh.edu; s=unh-iol; t=1701952944; x=1702557744; darn=dpdk.org;
 h=cc:to:from:subject:message-id:date:from:to:cc:subject:date
 :message-id:reply-to;
 bh=UGTVg2FqpFM6zro5OnPpMGTL9Ih6Rxh1xa9nacwRtxA=;
 b=VXhFffdtlK/3WTPREn/zWDJZSFkAS08ucqFl9DafNWlWMtU2C2uw8rCP+wnnPSYFp7
 SmGvIJBSVTnjnCcO0715pc9cpG0wY5R+sLQEfWaDFnj3r6QQXVsfs1buHTlqPO6jiZcX
 bF/o7CR2CZpqaNufqyboGpvB/dgJKPqkFmCwA=
X-Google-DKIM-Signature: v=1; a=rsa-sha256; c=relaxed/relaxed;
 d=1e100.net; s=20230601; t=1701952944; x=1702557744;
 h=cc:to:from:subject:message-id:date:x-gm-message-state:from:to:cc
 :subject:date:message-id:reply-to;
 bh=UGTVg2FqpFM6zro5OnPpMGTL9Ih6Rxh1xa9nacwRtxA=;
 b=YMA5KfPyXS1SPGa+32xyp3rWD1uWBPByrKgqffzNdvy5+c12k45i/FFPq+Wa09I3fN
 +j/G4ERtZfPZ1bXhY9yoCFTU/Y1d1Xkuk9+DcSEVFRtjJvgviZIbPWZcEAAQasRMay/P
 H3xRYHE11xqYhIUIb0Ht6wdjS6HHSG5gVRGA1IPOy8IwPukBH4r929DYyFCF9S473yqc
 YTNZVHYYOXZO6mMDrB/iG6c/9AK1iha7CIJ4u+BmW+QHshmjasy8nMxf531SF3lug8vn
 wR6+o7G5ZYK7jgOrxgK69rwtIE87Sc2QDMC2ijAWhKV7AJDc77nyAK8Geu1Rf4r27YFM
 tq9w==
X-Gm-Message-State: AOJu0YwIt3RzkOAkV4GfUGDZF7qWBeErvl6PE/T2grHwDP4CKvYtYOAQ
 p1A3cm2TfFVS0O3rtjpAL/uW/p300aqPQNb3wOXm2GQM1MRAnPerRNd8JA==
X-Google-Smtp-Source: AGHT+IEfZdu3RDdqNG+SmdWNMEnMWr7gKnQw8G4VtzYEWchn9Bf8CWM/0eE3CWfVxpOBUfOS9+CMLeRYvfcF
X-Received: by 2002:a05:6e02:19c8:b0:357:f487:32b6 with SMTP id
 r8-20020a056e0219c800b00357f48732b6mr3491944ill.22.1701952943839; 
 Thu, 07 Dec 2023 04:42:23 -0800 (PST)
Received: from postal.iol.unh.edu (postal.iol.unh.edu. [132.177.123.84])
 by smtp-relay.gmail.com with ESMTPS id
 h7-20020a056e021d8700b0035c998a1b48sm92277ila.15.2023.12.07.04.42.23
 (version=TLS1_2 cipher=ECDHE-ECDSA-AES128-GCM-SHA256 bits=128/128);
 Thu, 07 Dec 2023 04:42:23 -0800 (PST)
X-Relaying-Domain: iol.unh.edu
Date: Thu, 07 Dec 2023 04:42:23 -0800 (PST)
Message-ID: <6571bdaf.050a0220.60943.2169SMTPIN_ADDED_MISSING@mx.google.com>
Received: from [172.21.0.3] (unknown [172.18.0.240])
 by postal.iol.unh.edu (Postfix) with ESMTP id 7C16B605C311;
 Thu,  7 Dec 2023 07:42:23 -0500 (EST)
Subject: |SUCCESS| pw134906 [PATCH] event/cnxk: update base code
From: dpdklab@iol.unh.edu
To: Test Report <test-report@dpdk.org>
Cc: dpdk-test-reports@iol.unh.edu
Content-Type: text/plain
X-BeenThere: test-report@dpdk.org
X-Mailman-Version: 2.1.29
Precedence: list
List-Id: automatic DPDK test reports <test-report.dpdk.org>
List-Unsubscribe: <https://mails.dpdk.org/options/test-report>,
 <mailto:test-report-request@dpdk.org?subject=unsubscribe>
List-Archive: <http://mails.dpdk.org/archives/test-report/>
List-Post: <mailto:test-report@dpdk.org>
List-Help: <mailto:test-report-request@dpdk.org?subject=help>
List-Subscribe: <https://mails.dpdk.org/listinfo/test-report>,
 <mailto:test-report-request@dpdk.org?subject=subscribe>
Errors-To: test-report-bounces@dpdk.org

Test-Label: iol-unit-amd64-testing
Test-Status: SUCCESS
http://dpdk.org/patch/134906

_Testing PASS_

Submitter: Pavan Nikhilesh Bhagavatula <pbhagavatula@marvell.com>
Date: Thursday, December 07 2023 06:56:30 
DPDK git baseline: Repo:dpdk
  Branch: master
  CommitID:f2d5afbb2c05d7647da7ea914887c52115652651

134906 --> testing pass

Test environment and result as below:

+---------------------+----------------+
|     Environment     | dpdk_unit_test |
+=====================+================+
| Windows Server 2019 | PASS           |
+---------------------+----------------+
| CentOS Stream 9     | PASS           |
+---------------------+----------------+
| Fedora 37           | PASS           |
+---------------------+----------------+
| Debian Bullseye     | PASS           |
+---------------------+----------------+
| Fedora 38           | PASS           |
+---------------------+----------------+
| CentOS Stream 8     | PASS           |
+---------------------+----------------+
| Debian Buster       | PASS           |
+---------------------+----------------+
| RHEL8               | PASS           |
+---------------------+----------------+
| openSUSE Leap 15    | PASS           |
+---------------------+----------------+
| Ubuntu 20.04        | PASS           |
+---------------------+----------------+
| Ubuntu 22.04        | PASS           |
+---------------------+----------------+


Windows Server 2019
	Kernel: 10.0
	Compiler: clang 14.0 and gcc 8.1.0 (MinGW)

CentOS Stream 9
	Kernel: 4.18.0-240.10.1.el8_3.x86_64
	Compiler: gcc 11.3.1 20220421

Fedora 37
	Kernel: Depends on container host system
	Compiler: gcc 12.3.1

Debian Bullseye
	Kernel: 5.4.0-122-generic
	Compiler: gcc 10.2.1-6

Fedora 38
	Kernel: Depends on container host
	Compiler: gcc 13.1.1

CentOS Stream 8
	Kernel: 4.18.0-240.10.1.el8_3.x86_64
	Compiler: gcc 8.4.1 20200928

Debian Buster
	Kernel: 5.4.0-122-generic
	Compiler: gcc 8.3.0-6

RHEL8
	Kernel: 4.18.0-240.10.1.el8_3.x86_64
	Compiler: gcc 8.3.1 20191121 (Red Hat 8.3.1-5)

openSUSE Leap 15
	Kernel: 4.18.0-240.10.1.el8_3.x86_64
	Compiler: gcc 7.5.0

Ubuntu 20.04
	Kernel: 5.4.0-153-generic
	Compiler: gcc 9.4.0-1ubuntu1~20.04.1

Ubuntu 22.04
	Kernel: 4.18.0-240.10.1.el8_3.x86_64
	Compiler: gcc 11.3.0

To view detailed results, visit:
https://lab.dpdk.org/results/dashboard/patchsets/28547/

UNH-IOL DPDK Community Lab

To manage your email subscriptions, visit: 
https://lab.dpdk.org/results/dashboard/preferences/subscriptions/