From mboxrd@z Thu Jan  1 00:00:00 1970
Return-Path: <test-report-bounces@dpdk.org>
Received: from mails.dpdk.org (mails.dpdk.org [217.70.189.124])
	by inbox.dpdk.org (Postfix) with ESMTP id A61824369B
	for <public@inbox.dpdk.org>; Thu,  7 Dec 2023 20:34:48 +0100 (CET)
Received: from mails.dpdk.org (localhost [127.0.0.1])
	by mails.dpdk.org (Postfix) with ESMTP id 9C99D42F04;
	Thu,  7 Dec 2023 20:34:48 +0100 (CET)
Received: from mail-pg1-f225.google.com (mail-pg1-f225.google.com
 [209.85.215.225])
 by mails.dpdk.org (Postfix) with ESMTP id 1B90342E7B
 for <test-report@dpdk.org>; Thu,  7 Dec 2023 20:34:47 +0100 (CET)
Received: by mail-pg1-f225.google.com with SMTP id
 41be03b00d2f7-5c6734e0c22so921920a12.0
 for <test-report@dpdk.org>; Thu, 07 Dec 2023 11:34:47 -0800 (PST)
DKIM-Signature: v=1; a=rsa-sha256; c=relaxed/relaxed;
 d=iol.unh.edu; s=unh-iol; t=1701977686; x=1702582486; darn=dpdk.org;
 h=cc:to:from:subject:message-id:date:from:to:cc:subject:date
 :message-id:reply-to;
 bh=bbkokW4G3J/bSmzShlKm8AtUkkh1OUbkarEXprwFBio=;
 b=YPsMyVsgsL3FwQ7oCOKb4iuKPfLQtqqjcDi10TVxA+vCpVU+I6CCayj2cT931216tK
 61ge7b/j5zmjpk6edUmwgSG9l0v03y/cstzxj1N8h1Uk1MdA4/zFOVHtuydJ/gHXY0Zz
 NtGe8SyMD/Or/ZnLVIT30kz16S2euVZ65hw+E=
X-Google-DKIM-Signature: v=1; a=rsa-sha256; c=relaxed/relaxed;
 d=1e100.net; s=20230601; t=1701977686; x=1702582486;
 h=cc:to:from:subject:message-id:date:x-gm-message-state:from:to:cc
 :subject:date:message-id:reply-to;
 bh=bbkokW4G3J/bSmzShlKm8AtUkkh1OUbkarEXprwFBio=;
 b=ZfyGFd6Pg1UN3CQS2DYSGtJlkeLL/i8SyDWQ3g2BeSp50cADCcSqYfMNB900rgowe2
 z5Nh6+qem4+xK0to8twhcwjhPZ+KpXjQ7WGailYC0FJhMlHB08fm2F1YTXgJzGPy8DF1
 im1e8GT5Ge/Ae3Y+OJ9HtPW+nbkpKnRd5kGMxB9GSEZoslflIVxVgtL1tEAd32yldBxQ
 f+dPRtCbQ8Co+EkSK9ZNOTrXaod3G1wO+1NI45NUuE69DryJz1wvAiRLfMbil/AW1zCu
 cMdtqSZRRP60BOQ6LPxL5njzu1nzyyIzU7IeIIIAsvN72WkxHdJ+JD0IXiuQShnk4NSM
 W8zQ==
X-Gm-Message-State: AOJu0YwuVXmnVlP3HnLvrE30fYoN7mB/WpVDQNUK/FPzXWSr2mlv6t5p
 ajx2/rTRLcj56wSVLvk8rJN1ueIl6/uZXza+thkYSdtXZPH85XPaKxEOQTid+YnpV7bhPBX+Uw=
 =
X-Google-Smtp-Source: AGHT+IHotKL8PKMU08gn7jiiMDUa50j7x/yvVMUH4IdprWq+TiJgesF/j6wVTdenUohJ9mTWA4V7ZKN0cxlg
X-Received: by 2002:a17:902:d395:b0:1d0:8686:b68b with SMTP id
 e21-20020a170902d39500b001d08686b68bmr2670479pld.26.1701977686328; 
 Thu, 07 Dec 2023 11:34:46 -0800 (PST)
Received: from postal.iol.unh.edu (postal.iol.unh.edu.
 [2606:4100:3880:1234::84]) by smtp-relay.gmail.com with ESMTPS id
 a17-20020a170902ee9100b001cc37fc7728sm8820pld.73.2023.12.07.11.34.46
 (version=TLS1_2 cipher=ECDHE-ECDSA-AES128-GCM-SHA256 bits=128/128);
 Thu, 07 Dec 2023 11:34:46 -0800 (PST)
X-Relaying-Domain: iol.unh.edu
Date: Thu, 07 Dec 2023 11:34:46 -0800 (PST)
Message-ID: <65721e56.170a0220.490be.097dSMTPIN_ADDED_MISSING@mx.google.com>
Received: from [172.21.0.2] (unknown [172.18.0.240])
 by postal.iol.unh.edu (Postfix) with ESMTP id 84A68605C311;
 Thu,  7 Dec 2023 14:34:45 -0500 (EST)
Subject: |SUCCESS| pw134937-134939 [PATCH] [3/3] net/nfb: use dynamic logtype
From: dpdklab@iol.unh.edu
To: Test Report <test-report@dpdk.org>
Cc: dpdk-test-reports@iol.unh.edu
Content-Type: text/plain
X-BeenThere: test-report@dpdk.org
X-Mailman-Version: 2.1.29
Precedence: list
List-Id: automatic DPDK test reports <test-report.dpdk.org>
List-Unsubscribe: <https://mails.dpdk.org/options/test-report>,
 <mailto:test-report-request@dpdk.org?subject=unsubscribe>
List-Archive: <http://mails.dpdk.org/archives/test-report/>
List-Post: <mailto:test-report@dpdk.org>
List-Help: <mailto:test-report-request@dpdk.org?subject=help>
List-Subscribe: <https://mails.dpdk.org/listinfo/test-report>,
 <mailto:test-report-request@dpdk.org?subject=subscribe>
Errors-To: test-report-bounces@dpdk.org

Test-Label: iol-compile-amd64-testing
Test-Status: SUCCESS
http://dpdk.org/patch/134939

_Testing PASS_

Submitter: Stephen Hemminger <stephen@networkplumber.org>
Date: Thursday, December 07 2023 18:56:31 
DPDK git baseline: Repo:dpdk
  Branch: master
  CommitID:f2d5afbb2c05d7647da7ea914887c52115652651

134937-134939 --> testing pass

Test environment and result as below:

+---------------------+--------------------+----------------------+
|     Environment     | dpdk_meson_compile | dpdk_mingw64_compile |
+=====================+====================+======================+
| Windows Server 2022 | PASS               | SKIPPED              |
+---------------------+--------------------+----------------------+
| Debian Bullseye     | PASS               | SKIPPED              |
+---------------------+--------------------+----------------------+
| FreeBSD 13          | PASS               | SKIPPED              |
+---------------------+--------------------+----------------------+
| CentOS Stream 8     | PASS               | SKIPPED              |
+---------------------+--------------------+----------------------+
| Fedora 37           | PASS               | SKIPPED              |
+---------------------+--------------------+----------------------+
| Windows Server 2019 | PASS               | PASS                 |
+---------------------+--------------------+----------------------+
| CentOS Stream 9     | PASS               | SKIPPED              |
+---------------------+--------------------+----------------------+
| Debian Buster       | PASS               | SKIPPED              |
+---------------------+--------------------+----------------------+
| Ubuntu 22.04        | PASS               | SKIPPED              |
+---------------------+--------------------+----------------------+
| Ubuntu 20.04        | PASS               | SKIPPED              |
+---------------------+--------------------+----------------------+
| openSUSE Leap 15    | PASS               | SKIPPED              |
+---------------------+--------------------+----------------------+
| RHEL8               | PASS               | SKIPPED              |
+---------------------+--------------------+----------------------+
| Fedora 38           | PASS               | SKIPPED              |
+---------------------+--------------------+----------------------+


Windows Server 2022
	Kernel: OS Build 20348.2031
	Compiler: MSVC VS-Preview

Debian Bullseye
	Kernel: 5.4.0-122-generic
	Compiler: gcc 10.2.1-6

FreeBSD 13
	Kernel: 13.0
	Compiler: clang 11.0.1

CentOS Stream 8
	Kernel: 4.18.0-240.10.1.el8_3.x86_64
	Compiler: gcc 8.4.1 20200928

Fedora 37
	Kernel: Depends on container host system
	Compiler: gcc 12.3.1

Windows Server 2019
	Kernel: 10.0
	Compiler: clang 14.0 and gcc 8.1.0 (MinGW)

CentOS Stream 9
	Kernel: 4.18.0-240.10.1.el8_3.x86_64
	Compiler: gcc 11.3.1 20220421

Debian Buster
	Kernel: 5.4.0-122-generic
	Compiler: gcc 8.3.0-6

Ubuntu 22.04
	Kernel: 4.18.0-240.10.1.el8_3.x86_64
	Compiler: gcc 11.3.0

Ubuntu 20.04
	Kernel: 5.4.0-153-generic
	Compiler: gcc 9.4.0-1ubuntu1~20.04.1

openSUSE Leap 15
	Kernel: 4.18.0-240.10.1.el8_3.x86_64
	Compiler: gcc 7.5.0

RHEL8
	Kernel: 4.18.0-240.10.1.el8_3.x86_64
	Compiler: gcc 8.3.1 20191121 (Red Hat 8.3.1-5)

Fedora 38
	Kernel: Depends on container host
	Compiler: gcc 13.1.1

To view detailed results, visit:
https://lab.dpdk.org/results/dashboard/patchsets/28555/

UNH-IOL DPDK Community Lab

To manage your email subscriptions, visit: 
https://lab.dpdk.org/results/dashboard/preferences/subscriptions/