From mboxrd@z Thu Jan  1 00:00:00 1970
Return-Path: <test-report-bounces@dpdk.org>
Received: from mails.dpdk.org (mails.dpdk.org [217.70.189.124])
	by inbox.dpdk.org (Postfix) with ESMTP id 6B2564369B
	for <public@inbox.dpdk.org>; Thu,  7 Dec 2023 20:38:51 +0100 (CET)
Received: from mails.dpdk.org (localhost [127.0.0.1])
	by mails.dpdk.org (Postfix) with ESMTP id 6640742F04;
	Thu,  7 Dec 2023 20:38:51 +0100 (CET)
Received: from mail-yw1-f225.google.com (mail-yw1-f225.google.com
 [209.85.128.225])
 by mails.dpdk.org (Postfix) with ESMTP id 0176F42E7B
 for <test-report@dpdk.org>; Thu,  7 Dec 2023 20:38:50 +0100 (CET)
Received: by mail-yw1-f225.google.com with SMTP id
 00721157ae682-5d77a1163faso9449897b3.0
 for <test-report@dpdk.org>; Thu, 07 Dec 2023 11:38:49 -0800 (PST)
DKIM-Signature: v=1; a=rsa-sha256; c=relaxed/relaxed;
 d=iol.unh.edu; s=unh-iol; t=1701977929; x=1702582729; darn=dpdk.org;
 h=cc:to:from:subject:message-id:date:from:to:cc:subject:date
 :message-id:reply-to;
 bh=LhVDacLzRtym4ruJId/I1eS8aTU/XkZllOqI8rBDR9s=;
 b=VDaUgoyI8qC5c3YIMOyoBUKL81WW7drzJmlZKKPxjz44uxkkY3+qblbQtR270VCMea
 cTG/Jf+Pp7Qm4/FN1scKHMPOfWHIR7pmdQ2Yd8Ws7Y6BL+J5Hmfwr6V3PryijWi+d0co
 HkJtdSJxWGgQAFdHecUQ2u05rb61Ttd/TPBXQ=
X-Google-DKIM-Signature: v=1; a=rsa-sha256; c=relaxed/relaxed;
 d=1e100.net; s=20230601; t=1701977929; x=1702582729;
 h=cc:to:from:subject:message-id:date:x-gm-message-state:from:to:cc
 :subject:date:message-id:reply-to;
 bh=LhVDacLzRtym4ruJId/I1eS8aTU/XkZllOqI8rBDR9s=;
 b=i22dy5RfT5hQTEUR/FIITTMK88KQ/wzXGXJoP1EMEqey4bc3ioxVp8ggzAR9AWNiWn
 EbdgdYS3UZKbYA657Ivvbj4YVJeQselryAMqL517U3KL14Tk9Pi7SqYhxstyPidSdamd
 D6gO/Ql820p60p8UEN57gcUOAScMnPf7VnBguoLMMR8tjnzqOK43Tuh9z0rY9pg4rc13
 5L9pozUlYwL4ojKNqKfAM+7mhXgrLVPnMNovlUsEup1Zia5sXghXt2DgfC5m7/IJV6zw
 zpabFsVjnXXhACQSvF8IrL8skFH64hpOhkomBvFuemBa0eN6s9kdDA8r0NN7MEBgo2nN
 axUQ==
X-Gm-Message-State: AOJu0YwFDZKJ0oBGbchGCQqXi8V3A7ivaFj0fFzkqPVYcEYNbxLlyzpu
 24DHJ4n0uBIAA3MlRYqKFo/WMIONjmdl0lvp12cvVNcBbc4bVkKyteokoX1mbzhlcAWq8qa2JA=
 =
X-Google-Smtp-Source: AGHT+IEadJonpTn2eMu5sdZFt+qkv9DOgMMc2wvfuEvIhLZhF48ybRv6oedNY6KtgBL40a8CC8+K845QqEQ5
X-Received: by 2002:a81:5293:0:b0:5d7:1940:3ef6 with SMTP id
 g141-20020a815293000000b005d719403ef6mr2634733ywb.39.1701977929429; 
 Thu, 07 Dec 2023 11:38:49 -0800 (PST)
Received: from postal.iol.unh.edu (postal.iol.unh.edu.
 [2606:4100:3880:1234::84]) by smtp-relay.gmail.com with ESMTPS id
 d2-20020a0ddb02000000b005d68d20bb5esm16195ywe.34.2023.12.07.11.38.49
 (version=TLS1_2 cipher=ECDHE-ECDSA-AES128-GCM-SHA256 bits=128/128);
 Thu, 07 Dec 2023 11:38:49 -0800 (PST)
X-Relaying-Domain: iol.unh.edu
Date: Thu, 07 Dec 2023 11:38:49 -0800 (PST)
Message-ID: <65721f49.0d0a0220.6d1c7.1009SMTPIN_ADDED_MISSING@mx.google.com>
Received: from [172.21.0.3] (unknown [172.18.0.240])
 by postal.iol.unh.edu (Postfix) with ESMTP id 1C1ED605C311;
 Thu,  7 Dec 2023 14:38:49 -0500 (EST)
Subject: |SUCCESS| pw134937-134939 [PATCH] [3/3] net/nfb: use dynamic logtype
From: dpdklab@iol.unh.edu
To: Test Report <test-report@dpdk.org>
Cc: Stephen Hemminger <stephen@networkplumber.org>
Content-Type: text/plain
X-BeenThere: test-report@dpdk.org
X-Mailman-Version: 2.1.29
Precedence: list
List-Id: automatic DPDK test reports <test-report.dpdk.org>
List-Unsubscribe: <https://mails.dpdk.org/options/test-report>,
 <mailto:test-report-request@dpdk.org?subject=unsubscribe>
List-Archive: <http://mails.dpdk.org/archives/test-report/>
List-Post: <mailto:test-report@dpdk.org>
List-Help: <mailto:test-report-request@dpdk.org?subject=help>
List-Subscribe: <https://mails.dpdk.org/listinfo/test-report>,
 <mailto:test-report-request@dpdk.org?subject=subscribe>
Errors-To: test-report-bounces@dpdk.org

Test-Label: iol-abi-testing
Test-Status: SUCCESS
http://dpdk.org/patch/134939

_Testing PASS_

Submitter: Stephen Hemminger <stephen@networkplumber.org>
Date: Thursday, December 07 2023 18:56:31 
DPDK git baseline: Repo:dpdk
  Branch: master
  CommitID:f2d5afbb2c05d7647da7ea914887c52115652651

134937-134939 --> testing pass

Test environment and result as below:

+------------------+----------+
|   Environment    | abi_test |
+==================+==========+
| Fedora 37        | PASS     |
+------------------+----------+
| openSUSE Leap 15 | PASS     |
+------------------+----------+
| Debian Bullseye  | PASS     |
+------------------+----------+


Fedora 37
	Kernel: Depends on container host system
	Compiler: gcc 12.3.1

openSUSE Leap 15
	Kernel: 4.18.0-240.10.1.el8_3.x86_64
	Compiler: gcc 7.5.0

Debian Bullseye
	Kernel: 5.4.0-122-generic
	Compiler: gcc 10.2.1-6

To view detailed results, visit:
https://lab.dpdk.org/results/dashboard/patchsets/28555/

UNH-IOL DPDK Community Lab

To manage your email subscriptions, visit: 
https://lab.dpdk.org/results/dashboard/preferences/subscriptions/