From mboxrd@z Thu Jan  1 00:00:00 1970
Return-Path: <test-report-bounces@dpdk.org>
Received: from mails.dpdk.org (mails.dpdk.org [217.70.189.124])
	by inbox.dpdk.org (Postfix) with ESMTP id 5C8524369B
	for <public@inbox.dpdk.org>; Thu,  7 Dec 2023 21:49:39 +0100 (CET)
Received: from mails.dpdk.org (localhost [127.0.0.1])
	by mails.dpdk.org (Postfix) with ESMTP id 4512642ECB;
	Thu,  7 Dec 2023 21:49:39 +0100 (CET)
Received: from mail-qv1-f98.google.com (mail-qv1-f98.google.com
 [209.85.219.98]) by mails.dpdk.org (Postfix) with ESMTP id BCD4B4027A
 for <test-report@dpdk.org>; Thu,  7 Dec 2023 21:49:37 +0100 (CET)
Received: by mail-qv1-f98.google.com with SMTP id
 6a1803df08f44-679dd3055faso8123816d6.0
 for <test-report@dpdk.org>; Thu, 07 Dec 2023 12:49:37 -0800 (PST)
DKIM-Signature: v=1; a=rsa-sha256; c=relaxed/relaxed;
 d=iol.unh.edu; s=unh-iol; t=1701982177; x=1702586977; darn=dpdk.org;
 h=cc:to:from:subject:message-id:date:from:to:cc:subject:date
 :message-id:reply-to;
 bh=VTXRQeKiyfEUNn14XLgKdrd4wyYcbSSi7dfs5G1LeBM=;
 b=BX/PtmwWdKdiJtMXh+3wyLzbgiSf5W9onHay4dGuP4szrmMTnO6ncyLW5EoLgrO/LM
 K/ulmmMFfzRtWrl8Fa0ONzkxTEVqHYFimzhVqLBZvilgHBaMgLKpHjoud0Z9FpRMe0sK
 fLtVnSoNTKynlg5dL3CYrGo92ZejdwANBbwrU=
X-Google-DKIM-Signature: v=1; a=rsa-sha256; c=relaxed/relaxed;
 d=1e100.net; s=20230601; t=1701982177; x=1702586977;
 h=cc:to:from:subject:message-id:date:x-gm-message-state:from:to:cc
 :subject:date:message-id:reply-to;
 bh=VTXRQeKiyfEUNn14XLgKdrd4wyYcbSSi7dfs5G1LeBM=;
 b=w3geReeT7x5QQeJ2qCPv5NSSVxI6cACrX9tvLfw5gdWjkaZEwJ4VgsMnmoiCCkqXFp
 Iq6mOcA2XVoPqkvKMWjUx5+wEnP8FpdbcjSpx5EKTfwKQRbhg67V/cNUTyRknxFGuBjs
 R+SVo3mwM5o//tPylbOHcURJNr5vB7asEvoIB7W2asq9pUxaDCJXdqHHJtgoRATO++Rm
 EEtVzUmWcAs/kSXZY8PF93a5sJWKGXr73m38xebfET+C3qmUn7KxaGRoPP0QmPEuO+le
 8e2jiMku+D9ZBXWlVu++DOPxdpwKBTavesvSddMoY9D/c1mZIEaATomNrhL48yp7NjvS
 iOcQ==
X-Gm-Message-State: AOJu0YxLp46xS09YC6/9XHNDVf7tSyImQguGOISzErfpXtzg+0dBCPcX
 jChoD4ikJ1nv+wJVvXxWppgj490LfcQdt6UAFwqWclGyn4cOVEgkF3I7yYrqYZtAMddCx81Fqg=
 =
X-Google-Smtp-Source: AGHT+IFdjOaxGEEveVzxgKkdVotpPVPnq+tjlvz0O3RORs2D5wZNnAPuGq6CGr/fsTHgB4UsGsivIIPZ5iSp
X-Received: by 2002:ad4:5b83:0:b0:67a:a721:9ebd with SMTP id
 3-20020ad45b83000000b0067aa7219ebdmr4080951qvp.110.1701982177171; 
 Thu, 07 Dec 2023 12:49:37 -0800 (PST)
Received: from postal.iol.unh.edu (postal.iol.unh.edu.
 [2606:4100:3880:1234::84]) by smtp-relay.gmail.com with ESMTPS id
 t10-20020a056214154a00b0067aa87ce528sm18341qvw.49.2023.12.07.12.49.37
 (version=TLS1_2 cipher=ECDHE-ECDSA-AES128-GCM-SHA256 bits=128/128);
 Thu, 07 Dec 2023 12:49:37 -0800 (PST)
X-Relaying-Domain: iol.unh.edu
Date: Thu, 07 Dec 2023 12:49:37 -0800 (PST)
Message-ID: <65722fe1.050a0220.b18f6.152eSMTPIN_ADDED_MISSING@mx.google.com>
Received: from [172.17.0.2] (unknown [172.18.0.217])
 by postal.iol.unh.edu (Postfix) with ESMTP id D3EC8605C311;
 Thu,  7 Dec 2023 15:49:36 -0500 (EST)
Subject: |SUCCESS| pw134937-134939 [PATCH] [3/3] net/nfb: use dynamic logtype
From: dpdklab@iol.unh.edu
To: Test Report <test-report@dpdk.org>
Cc: dpdk-test-reports@iol.unh.edu
Content-Type: text/plain
X-BeenThere: test-report@dpdk.org
X-Mailman-Version: 2.1.29
Precedence: list
List-Id: automatic DPDK test reports <test-report.dpdk.org>
List-Unsubscribe: <https://mails.dpdk.org/options/test-report>,
 <mailto:test-report-request@dpdk.org?subject=unsubscribe>
List-Archive: <http://mails.dpdk.org/archives/test-report/>
List-Post: <mailto:test-report@dpdk.org>
List-Help: <mailto:test-report-request@dpdk.org?subject=help>
List-Subscribe: <https://mails.dpdk.org/listinfo/test-report>,
 <mailto:test-report-request@dpdk.org?subject=subscribe>
Errors-To: test-report-bounces@dpdk.org

Test-Label: iol-compile-arm64-testing
Test-Status: SUCCESS
http://dpdk.org/patch/134939

_Testing PASS_

Submitter: Stephen Hemminger <stephen@networkplumber.org>
Date: Thursday, December 07 2023 18:56:31 
DPDK git baseline: Repo:dpdk
  Branch: master
  CommitID:f2d5afbb2c05d7647da7ea914887c52115652651

134937-134939 --> testing pass

Test environment and result as below:

+----------------------------------------+--------------------+
|              Environment               | dpdk_meson_compile |
+========================================+====================+
| Fedora 38 (ARM)                        | PASS               |
+----------------------------------------+--------------------+
| Fedora 37 (ARM)                        | PASS               |
+----------------------------------------+--------------------+
| Ubuntu 20.04 (ARM)                     | PASS               |
+----------------------------------------+--------------------+
| Ubuntu 20.04 ARM SVE                   | PASS               |
+----------------------------------------+--------------------+
| Debian 11 (Buster) (ARM)               | PASS               |
+----------------------------------------+--------------------+
| Ubuntu 20.04 ARM GCC Cross Compile     | PASS               |
+----------------------------------------+--------------------+
| CentOS Stream 9 (ARM)                  | PASS               |
+----------------------------------------+--------------------+
| Ubuntu 20.04 ARM Clang Cross Compile   | PASS               |
+----------------------------------------+--------------------+
| Ubuntu 20.04 aarch32 GCC Cross Compile | PASS               |
+----------------------------------------+--------------------+
| Fedora 38 (ARM Clang)                  | PASS               |
+----------------------------------------+--------------------+


Fedora 38 (ARM)
	Kernel: Depends on container host
	Compiler: gcc 13.1.1

Fedora 37 (ARM)
	Kernel: Depends on container host
	Compiler: gcc 12.3.1

Ubuntu 20.04 (ARM)
	Kernel: Container Host Kernel
	Compiler: gcc 9.4.0

Ubuntu 20.04 ARM SVE
	Kernel: 5.4.0-80-generic
	Compiler: gcc 10.3.0 (Ubuntu 10.3.0-1ubuntu1~20.04)

Debian 11 (Buster) (ARM)
	Kernel: Container Host Kernel
	Compiler: gcc 10.2.1

Ubuntu 20.04 ARM GCC Cross Compile
	Kernel: 5.4.0-72-generic
	Compiler: aarch64-linux-gnu-gcc (Ubuntu 9.3.0-17ubuntu1~20.04) 9.3.0

CentOS Stream 9 (ARM)
	Kernel: Container Host Kernel
	Compiler: gcc 11.3.1

Ubuntu 20.04 ARM Clang Cross Compile
	Kernel: 5.4.0-72-generic
	Compiler: clang version 10.0.0-4ubuntu1

Ubuntu 20.04 aarch32 GCC Cross Compile
	Kernel: 5.4.0-72-generic
	Compiler: gcc 9.3.0

Fedora 38 (ARM Clang)
	Kernel: Depends on container host
	Compiler: clang 16.0.3

To view detailed results, visit:
https://lab.dpdk.org/results/dashboard/patchsets/28555/

UNH-IOL DPDK Community Lab

To manage your email subscriptions, visit: 
https://lab.dpdk.org/results/dashboard/preferences/subscriptions/