From mboxrd@z Thu Jan  1 00:00:00 1970
Return-Path: <test-report-bounces@dpdk.org>
Received: from mails.dpdk.org (mails.dpdk.org [217.70.189.124])
	by inbox.dpdk.org (Postfix) with ESMTP id 360014369B
	for <public@inbox.dpdk.org>; Thu,  7 Dec 2023 21:57:05 +0100 (CET)
Received: from mails.dpdk.org (localhost [127.0.0.1])
	by mails.dpdk.org (Postfix) with ESMTP id 30A6A42ECB;
	Thu,  7 Dec 2023 21:57:05 +0100 (CET)
Received: from mail-yw1-f227.google.com (mail-yw1-f227.google.com
 [209.85.128.227])
 by mails.dpdk.org (Postfix) with ESMTP id 13DBF4027A
 for <test-report@dpdk.org>; Thu,  7 Dec 2023 21:57:04 +0100 (CET)
Received: by mail-yw1-f227.google.com with SMTP id
 00721157ae682-5d3d5b10197so11468357b3.2
 for <test-report@dpdk.org>; Thu, 07 Dec 2023 12:57:04 -0800 (PST)
DKIM-Signature: v=1; a=rsa-sha256; c=relaxed/relaxed;
 d=iol.unh.edu; s=unh-iol; t=1701982623; x=1702587423; darn=dpdk.org;
 h=cc:to:from:subject:message-id:date:from:to:cc:subject:date
 :message-id:reply-to;
 bh=iv/3U9ZMTTn1r+vD+YLzCtis31VkLOxfiNwSHwGBxn8=;
 b=GGZ5WUYXGUA1u9YfDwegKTRo/qGLW4FmqfEcGKdZQugW5aaa8+lnIBQCbvrUd/n1sj
 I0Qc8yWuCJCn5qBT5yymII75TdZSAZHEz77bA0/VNZO1gr5LKGlqyCoFwJPHOI3+CYqH
 GsGSNAMnBzEdZbXRRVDL0ldNNOyIq9hwPzMZo=
X-Google-DKIM-Signature: v=1; a=rsa-sha256; c=relaxed/relaxed;
 d=1e100.net; s=20230601; t=1701982623; x=1702587423;
 h=cc:to:from:subject:message-id:date:x-gm-message-state:from:to:cc
 :subject:date:message-id:reply-to;
 bh=iv/3U9ZMTTn1r+vD+YLzCtis31VkLOxfiNwSHwGBxn8=;
 b=DQHkqI4f5nsKwFabAvz3lGW5Hqo8jlo70j4xvRCsLZR1EJOIXIGr7voXswPHIl0VM0
 6YQmobnxyNAY70FdmM5QDL+IMfyyrcQgeazJVHZAQwttscav24dtYAwZC45LdUOIrM5f
 Kqog4H8ryZBos/KmcGZuEq9dbnDTPF66jK1H9ytgvRzXjBIwHDIftiD1oRabY4Mwkl5E
 99mhs06merUP3xTad2J1SF54H4360Z5onuZayrroe8wuyzsppdkV0k/a922LEwCxomSo
 Zr/Xz2Dw1E2XXTqJi5XOYUuKFciL08ceWL4Xg1XfB4dvhaVSvdJFRn5aH+2fD2atqFhG
 Qrxw==
X-Gm-Message-State: AOJu0Ywzu2yffA6M4MQ0ecnVDP1ebr1BxdfoCygKcKrtlWnIEuR5oOQ7
 RCBdyetjIaJ+g8fyKOhdk+JNcWadaPj0WIpUldWgFrIkjkOWJ+gM6cbClQ==
X-Google-Smtp-Source: AGHT+IF3CaWgcczLfdWR5KllSVhFM1CxVKo7Vd4sdhveCwXnT2BvwXXLfUszBB7iPZGVDV0qHbTQ6ZwWXsbe
X-Received: by 2002:a0d:df58:0:b0:5d7:87b:b7f1 with SMTP id
 i85-20020a0ddf58000000b005d7087bb7f1mr3038439ywe.17.1701982623522; 
 Thu, 07 Dec 2023 12:57:03 -0800 (PST)
Received: from postal.iol.unh.edu (postal.iol.unh.edu. [132.177.123.84])
 by smtp-relay.gmail.com with ESMTPS id
 y75-20020a81a14e000000b005d6ddb0cc74sm22867ywg.35.2023.12.07.12.57.03
 (version=TLS1_2 cipher=ECDHE-ECDSA-AES128-GCM-SHA256 bits=128/128);
 Thu, 07 Dec 2023 12:57:03 -0800 (PST)
X-Relaying-Domain: iol.unh.edu
Date: Thu, 07 Dec 2023 12:57:03 -0800 (PST)
Message-ID: <6572319f.810a0220.a518c.16e5SMTPIN_ADDED_MISSING@mx.google.com>
Received: from [172.17.0.3] (unknown [172.18.0.217])
 by postal.iol.unh.edu (Postfix) with ESMTP id 3C23B605C311;
 Thu,  7 Dec 2023 15:57:03 -0500 (EST)
Subject: |SUCCESS| pw134937-134939 [PATCH] [3/3] net/nfb: use dynamic logtype
From: dpdklab@iol.unh.edu
To: Test Report <test-report@dpdk.org>
Cc: dpdk-test-reports@iol.unh.edu
Content-Type: text/plain
X-BeenThere: test-report@dpdk.org
X-Mailman-Version: 2.1.29
Precedence: list
List-Id: automatic DPDK test reports <test-report.dpdk.org>
List-Unsubscribe: <https://mails.dpdk.org/options/test-report>,
 <mailto:test-report-request@dpdk.org?subject=unsubscribe>
List-Archive: <http://mails.dpdk.org/archives/test-report/>
List-Post: <mailto:test-report@dpdk.org>
List-Help: <mailto:test-report-request@dpdk.org?subject=help>
List-Subscribe: <https://mails.dpdk.org/listinfo/test-report>,
 <mailto:test-report-request@dpdk.org?subject=subscribe>
Errors-To: test-report-bounces@dpdk.org

Test-Label: iol-unit-amd64-testing
Test-Status: SUCCESS
http://dpdk.org/patch/134939

_Testing PASS_

Submitter: Stephen Hemminger <stephen@networkplumber.org>
Date: Thursday, December 07 2023 18:56:31 
DPDK git baseline: Repo:dpdk
  Branch: master
  CommitID:f2d5afbb2c05d7647da7ea914887c52115652651

134937-134939 --> testing pass

Test environment and result as below:

+---------------------+----------------+
|     Environment     | dpdk_unit_test |
+=====================+================+
| CentOS Stream 9     | PASS           |
+---------------------+----------------+
| Debian Buster       | PASS           |
+---------------------+----------------+
| Windows Server 2019 | PASS           |
+---------------------+----------------+
| Debian Bullseye     | PASS           |
+---------------------+----------------+
| CentOS Stream 8     | PASS           |
+---------------------+----------------+
| Fedora 37           | PASS           |
+---------------------+----------------+
| Fedora 38           | PASS           |
+---------------------+----------------+
| openSUSE Leap 15    | PASS           |
+---------------------+----------------+


CentOS Stream 9
	Kernel: 4.18.0-240.10.1.el8_3.x86_64
	Compiler: gcc 11.3.1 20220421

Debian Buster
	Kernel: 5.4.0-122-generic
	Compiler: gcc 8.3.0-6

Windows Server 2019
	Kernel: 10.0
	Compiler: clang 14.0 and gcc 8.1.0 (MinGW)

Debian Bullseye
	Kernel: 5.4.0-122-generic
	Compiler: gcc 10.2.1-6

CentOS Stream 8
	Kernel: 4.18.0-240.10.1.el8_3.x86_64
	Compiler: gcc 8.4.1 20200928

Fedora 37
	Kernel: Depends on container host system
	Compiler: gcc 12.3.1

Fedora 38
	Kernel: Depends on container host
	Compiler: gcc 13.1.1

openSUSE Leap 15
	Kernel: 4.18.0-240.10.1.el8_3.x86_64
	Compiler: gcc 7.5.0

To view detailed results, visit:
https://lab.dpdk.org/results/dashboard/patchsets/28555/

UNH-IOL DPDK Community Lab

To manage your email subscriptions, visit: 
https://lab.dpdk.org/results/dashboard/preferences/subscriptions/