From mboxrd@z Thu Jan  1 00:00:00 1970
Return-Path: <test-report-bounces@dpdk.org>
Received: from mails.dpdk.org (mails.dpdk.org [217.70.189.124])
	by inbox.dpdk.org (Postfix) with ESMTP id 90D6D436A9
	for <public@inbox.dpdk.org>; Fri,  8 Dec 2023 13:19:10 +0100 (CET)
Received: from mails.dpdk.org (localhost [127.0.0.1])
	by mails.dpdk.org (Postfix) with ESMTP id 730BB402BF;
	Fri,  8 Dec 2023 13:19:10 +0100 (CET)
Received: from mail-oi1-f225.google.com (mail-oi1-f225.google.com
 [209.85.167.225])
 by mails.dpdk.org (Postfix) with ESMTP id D62E64029E
 for <test-report@dpdk.org>; Fri,  8 Dec 2023 13:19:08 +0100 (CET)
Received: by mail-oi1-f225.google.com with SMTP id
 5614622812f47-3b8b782e142so1423973b6e.1
 for <test-report@dpdk.org>; Fri, 08 Dec 2023 04:19:08 -0800 (PST)
DKIM-Signature: v=1; a=rsa-sha256; c=relaxed/relaxed;
 d=iol.unh.edu; s=unh-iol; t=1702037948; x=1702642748; darn=dpdk.org;
 h=cc:to:from:subject:message-id:date:from:to:cc:subject:date
 :message-id:reply-to;
 bh=HuNCcVpg8+wjHsGr/l8mkNCtTNYUSPdBz1JL93YgShw=;
 b=WEutMcgYpgJq9yMMmSDBa7Oqdrhxv+vUvIXh5pvJQ54T6rheRI3WJJNL3PD0nuTvvD
 Ko0/eM4lgyqAXrQZXJDDMCKQNGJzeCf1kZAQgJQoFPTFu2+sZmTRwr2Ka8+ZcYaaXquH
 zscUdCL4pQahLxjcKuB61rUrI5tOt3m2fbSgg=
X-Google-DKIM-Signature: v=1; a=rsa-sha256; c=relaxed/relaxed;
 d=1e100.net; s=20230601; t=1702037948; x=1702642748;
 h=cc:to:from:subject:message-id:date:x-gm-message-state:from:to:cc
 :subject:date:message-id:reply-to;
 bh=HuNCcVpg8+wjHsGr/l8mkNCtTNYUSPdBz1JL93YgShw=;
 b=tUUJOi5FNqyDjNQlD9WZDpdXQ0r7CxMw7lu6wbwdLVyVK8CsJXACWhudQQAJVzE/lF
 dG4vw4XfbflI0LljnCvpRNaY+s6HjUdgiU5Ga0JQgDJNYV/wDU3zAPoLo9NyiGpLj3QX
 cF8kVn+GDozpvl/0bTJMhVxbB9NNuwrTrStpKSzWMia1DijWdi+Cd5tahXnUTJI652fe
 uOMznllLZvAIpOUW6PsQEw3Spe9fEM+IzSuq5REorXx8AXpPnoMci9cHEiVwva6t0s1K
 wHQvMsBRLqX8lGcm+CCbdXA8CNb9Kae90a+ofTLs65Btyp4tmC/hCQfM/t8XilAIFOd6
 +T0A==
X-Gm-Message-State: AOJu0Yw9MK2ooa6OY6ItDZDzXiXvg/MmSgKcPKAfnOeoIOv2WJPY0rGj
 +2cJp4StBWbUQGQ36G+24feGYR3bMMErXvw9/ZKbzxycqaPx1kdq/VVLLLx6UBsapyp53R4PWw=
 =
X-Google-Smtp-Source: AGHT+IE7tLJENeLM6zk3BD4vMAsjPitnMaxxvXVJxZAmmnpG5uYwCgnSwPPShwt/E2EClF5iH7+Rq34cmKB+
X-Received: by 2002:a05:6808:112:b0:3b8:456a:c35a with SMTP id
 b18-20020a056808011200b003b8456ac35amr4072821oie.43.1702037948141; 
 Fri, 08 Dec 2023 04:19:08 -0800 (PST)
Received: from postal.iol.unh.edu (postal.iol.unh.edu.
 [2606:4100:3880:1234::84]) by smtp-relay.gmail.com with ESMTPS id
 ge32-20020a0561224e2000b004b2ec6fa508sm90629vkb.1.2023.12.08.04.19.08
 (version=TLS1_2 cipher=ECDHE-ECDSA-AES128-GCM-SHA256 bits=128/128);
 Fri, 08 Dec 2023 04:19:08 -0800 (PST)
X-Relaying-Domain: iol.unh.edu
Date: Fri, 08 Dec 2023 04:19:08 -0800 (PST)
Message-ID: <657309bc.050a0220.5f459.5345SMTPIN_ADDED_MISSING@mx.google.com>
Received: from [172.21.0.2] (unknown [172.18.0.240])
 by postal.iol.unh.edu (Postfix) with ESMTP id B6F0E6051831;
 Fri,  8 Dec 2023 07:19:07 -0500 (EST)
Subject: |SUCCESS| pw134947 [PATCH] bus/uacce: introduce UACCE bus
From: dpdklab@iol.unh.edu
To: Test Report <test-report@dpdk.org>
Cc: dpdk-test-reports@iol.unh.edu
Content-Type: text/plain
X-BeenThere: test-report@dpdk.org
X-Mailman-Version: 2.1.29
Precedence: list
List-Id: automatic DPDK test reports <test-report.dpdk.org>
List-Unsubscribe: <https://mails.dpdk.org/options/test-report>,
 <mailto:test-report-request@dpdk.org?subject=unsubscribe>
List-Archive: <http://mails.dpdk.org/archives/test-report/>
List-Post: <mailto:test-report@dpdk.org>
List-Help: <mailto:test-report-request@dpdk.org?subject=help>
List-Subscribe: <https://mails.dpdk.org/listinfo/test-report>,
 <mailto:test-report-request@dpdk.org?subject=subscribe>
Errors-To: test-report-bounces@dpdk.org

Test-Label: iol-abi-testing
Test-Status: SUCCESS
http://dpdk.org/patch/134947

_Testing PASS_

Submitter: Chengwen Feng <fengchengwen@huawei.com>
Date: Friday, December 08 2023 06:18:36 
DPDK git baseline: Repo:dpdk
  Branch: master
  CommitID:f2d5afbb2c05d7647da7ea914887c52115652651

134947 --> testing pass

Test environment and result as below:

+------------------+----------+
|   Environment    | abi_test |
+==================+==========+
| CentOS Stream 9  | PASS     |
+------------------+----------+
| Debian Bullseye  | PASS     |
+------------------+----------+
| CentOS Stream 8  | PASS     |
+------------------+----------+
| Ubuntu 22.04     | PASS     |
+------------------+----------+
| openSUSE Leap 15 | PASS     |
+------------------+----------+
| Fedora 38        | PASS     |
+------------------+----------+
| Debian Buster    | PASS     |
+------------------+----------+
| Fedora 37        | PASS     |
+------------------+----------+


CentOS Stream 9
	Kernel: 4.18.0-240.10.1.el8_3.x86_64
	Compiler: gcc 11.3.1 20220421

Debian Bullseye
	Kernel: 5.4.0-122-generic
	Compiler: gcc 10.2.1-6

CentOS Stream 8
	Kernel: 4.18.0-240.10.1.el8_3.x86_64
	Compiler: gcc 8.4.1 20200928

Ubuntu 22.04
	Kernel: 4.18.0-240.10.1.el8_3.x86_64
	Compiler: gcc 11.3.0

openSUSE Leap 15
	Kernel: 4.18.0-240.10.1.el8_3.x86_64
	Compiler: gcc 7.5.0

Fedora 38
	Kernel: Depends on container host
	Compiler: clang 16.0.3

Debian Buster
	Kernel: 5.4.0-122-generic
	Compiler: gcc 8.3.0-6

Fedora 37
	Kernel: Depends on container host system
	Compiler: gcc 12.3.1

To view detailed results, visit:
https://lab.dpdk.org/results/dashboard/patchsets/28562/

UNH-IOL DPDK Community Lab

To manage your email subscriptions, visit: 
https://lab.dpdk.org/results/dashboard/preferences/subscriptions/