From mboxrd@z Thu Jan  1 00:00:00 1970
Return-Path: <test-report-bounces@dpdk.org>
Received: from mails.dpdk.org (mails.dpdk.org [217.70.189.124])
	by inbox.dpdk.org (Postfix) with ESMTP id F2929436A9
	for <public@inbox.dpdk.org>; Fri,  8 Dec 2023 13:20:48 +0100 (CET)
Received: from mails.dpdk.org (localhost [127.0.0.1])
	by mails.dpdk.org (Postfix) with ESMTP id EDD34402BF;
	Fri,  8 Dec 2023 13:20:48 +0100 (CET)
Received: from mail-oo1-f98.google.com (mail-oo1-f98.google.com
 [209.85.161.98]) by mails.dpdk.org (Postfix) with ESMTP id 724584029E
 for <test-report@dpdk.org>; Fri,  8 Dec 2023 13:20:47 +0100 (CET)
Received: by mail-oo1-f98.google.com with SMTP id
 006d021491bc7-5908a63a83fso323556eaf.1
 for <test-report@dpdk.org>; Fri, 08 Dec 2023 04:20:47 -0800 (PST)
DKIM-Signature: v=1; a=rsa-sha256; c=relaxed/relaxed;
 d=iol.unh.edu; s=unh-iol; t=1702038047; x=1702642847; darn=dpdk.org;
 h=cc:to:from:subject:message-id:date:from:to:cc:subject:date
 :message-id:reply-to;
 bh=1SG1uHDI4lnd4gRiij9ScczQ6qjpF5GVTw5/kGS7CGQ=;
 b=e7sVJALWAThaWPhePAiprUZfMAuf0WwQjnzu9yxwEPqkArUwvZWkpgH7vr+lQ3oOFA
 gkfhTWGNlg+glOcwZpxwE71VLABxLtehzcnxSziHJqZW5wgN43JFtOaFzoEa7mi9fF36
 MzIeU4CIeff8Q0OuatRt3ftk5HU6YibezvP9E=
X-Google-DKIM-Signature: v=1; a=rsa-sha256; c=relaxed/relaxed;
 d=1e100.net; s=20230601; t=1702038047; x=1702642847;
 h=cc:to:from:subject:message-id:date:x-gm-message-state:from:to:cc
 :subject:date:message-id:reply-to;
 bh=1SG1uHDI4lnd4gRiij9ScczQ6qjpF5GVTw5/kGS7CGQ=;
 b=MrcN+H/bnvJv25KeX3UFSSZapH84p5iekGiQFZ56iYC2rrmM5Px2ejw7AGVNfHOJKJ
 1+hP2cAjFrnKippFQAjl276aXTP2qZux/EQMAsjhn04+NgGf62NPkklOWBlNWjY6I6Vp
 nVF8TgigM8760tbhQpdctGPZqTxzokAbkRuAViwm9G30IQlb6zGMZKZS1VRhraQlRJZc
 C8ZDGfkD4dBZ6xOXilM6wcYkA+Hgl7AU7djrB6qDI66veQ0wOUzgYB3aYvqCpxpIyMqc
 GLScXvPjTIkLeg8hwBSxqtC8bhu/VbWlyc+LIjtVxsPKHRm5ol/iJy8K3fUaNfGtY0YK
 t56g==
X-Gm-Message-State: AOJu0YxXul04SU7BZqO/H/OwnTfnp4WuEqz3v4dJwp0b/3vNfOBy6WtW
 K9sk6Ne4AKROHf+EtZK32Ki2m9DAnRXu/sfrHTtVd7ZnS5Qb/DO9rtiQxQ==
X-Google-Smtp-Source: AGHT+IH2wZPl036Y6/5buGOxHRO0cVdgePc2eXqaFkKFGRpScCITdhyW1wPED6jgxVyq+f5MAFVVkHAH/AER
X-Received: by 2002:a05:6820:605:b0:58d:be21:9e94 with SMTP id
 e5-20020a056820060500b0058dbe219e94mr4585057oow.6.1702038046860; 
 Fri, 08 Dec 2023 04:20:46 -0800 (PST)
Received: from postal.iol.unh.edu (postal.iol.unh.edu. [132.177.123.84])
 by smtp-relay.gmail.com with ESMTPS id
 z2-20020a4aae02000000b0058d58996a02sm38174oom.14.2023.12.08.04.20.46
 (version=TLS1_2 cipher=ECDHE-ECDSA-AES128-GCM-SHA256 bits=128/128);
 Fri, 08 Dec 2023 04:20:46 -0800 (PST)
X-Relaying-Domain: iol.unh.edu
Date: Fri, 08 Dec 2023 04:20:46 -0800 (PST)
Message-ID: <65730a1e.4a0a0220.1e44a.1ec7SMTPIN_ADDED_MISSING@mx.google.com>
Received: from [172.21.0.2] (unknown [172.18.0.240])
 by postal.iol.unh.edu (Postfix) with ESMTP id 5833F6051831;
 Fri,  8 Dec 2023 07:20:46 -0500 (EST)
Subject: |SUCCESS| pw134947 [PATCH] bus/uacce: introduce UACCE bus
From: dpdklab@iol.unh.edu
To: Test Report <test-report@dpdk.org>
Cc: Chengwen Feng <fengchengwen@huawei.com>
Content-Type: text/plain
X-BeenThere: test-report@dpdk.org
X-Mailman-Version: 2.1.29
Precedence: list
List-Id: automatic DPDK test reports <test-report.dpdk.org>
List-Unsubscribe: <https://mails.dpdk.org/options/test-report>,
 <mailto:test-report-request@dpdk.org?subject=unsubscribe>
List-Archive: <http://mails.dpdk.org/archives/test-report/>
List-Post: <mailto:test-report@dpdk.org>
List-Help: <mailto:test-report-request@dpdk.org?subject=help>
List-Subscribe: <https://mails.dpdk.org/listinfo/test-report>,
 <mailto:test-report-request@dpdk.org?subject=subscribe>
Errors-To: test-report-bounces@dpdk.org

Test-Label: iol-compile-amd64-testing
Test-Status: SUCCESS
http://dpdk.org/patch/134947

_Testing PASS_

Submitter: Chengwen Feng <fengchengwen@huawei.com>
Date: Friday, December 08 2023 06:18:36 
DPDK git baseline: Repo:dpdk
  Branch: master
  CommitID:f2d5afbb2c05d7647da7ea914887c52115652651

134947 --> testing pass

Test environment and result as below:

+---------------------+--------------------+
|     Environment     | dpdk_meson_compile |
+=====================+====================+
| Windows Server 2022 | PASS               |
+---------------------+--------------------+
| FreeBSD 13          | PASS               |
+---------------------+--------------------+
| CentOS Stream 8     | PASS               |
+---------------------+--------------------+
| Windows Server 2019 | PASS               |
+---------------------+--------------------+
| Debian Buster       | PASS               |
+---------------------+--------------------+


Windows Server 2022
	Kernel: OS Build 20348.2031
	Compiler: MSVC VS-Preview

FreeBSD 13
	Kernel: 13.0
	Compiler: clang 11.0.1

CentOS Stream 8
	Kernel: 4.18.0-240.10.1.el8_3.x86_64
	Compiler: gcc 8.4.1 20200928

Windows Server 2019
	Kernel: 10.0
	Compiler: clang 14.0 and gcc 8.1.0 (MinGW)

Debian Buster
	Kernel: 5.4.0-122-generic
	Compiler: gcc 8.3.0-6

To view detailed results, visit:
https://lab.dpdk.org/results/dashboard/patchsets/28562/

UNH-IOL DPDK Community Lab

To manage your email subscriptions, visit: 
https://lab.dpdk.org/results/dashboard/preferences/subscriptions/