From mboxrd@z Thu Jan 1 00:00:00 1970 Return-Path: Received: from mails.dpdk.org (mails.dpdk.org [217.70.189.124]) by inbox.dpdk.org (Postfix) with ESMTP id 8DE86436C4 for ; Mon, 11 Dec 2023 06:44:36 +0100 (CET) Received: from mails.dpdk.org (localhost [127.0.0.1]) by mails.dpdk.org (Postfix) with ESMTP id 86821402DC; Mon, 11 Dec 2023 06:44:36 +0100 (CET) Received: from mail-oi1-f227.google.com (mail-oi1-f227.google.com [209.85.167.227]) by mails.dpdk.org (Postfix) with ESMTP id 00A3E402B2 for ; Mon, 11 Dec 2023 06:44:34 +0100 (CET) Received: by mail-oi1-f227.google.com with SMTP id 5614622812f47-3b9dbbaa9a9so3494224b6e.2 for ; Sun, 10 Dec 2023 21:44:34 -0800 (PST) DKIM-Signature: v=1; a=rsa-sha256; c=relaxed/relaxed; d=iol.unh.edu; s=unh-iol; t=1702273474; x=1702878274; darn=dpdk.org; h=cc:to:from:subject:message-id:date:from:to:cc:subject:date :message-id:reply-to; bh=m9W61gDqH9zrulHXznrPjduuqRHo8ZIS8aXm9ubP9M4=; b=RupbtfJ1FDnithT+4tDHqZda9RAZP3sdRPKczTYyRjbr4F7Dl4Ml69CkkSRcFnb4ez Zpb3wEmQCOQWz7Np5JTaa7AF1cvM6bh/im5lY+gVIX+T4NxhU7i0NIioXnXnkYhVCTbE 0fXpKsVph8GjsFXYCVTEjeD6QlcSFpRBslPmM= X-Google-DKIM-Signature: v=1; a=rsa-sha256; c=relaxed/relaxed; d=1e100.net; s=20230601; t=1702273474; x=1702878274; h=cc:to:from:subject:message-id:date:x-gm-message-state:from:to:cc :subject:date:message-id:reply-to; bh=m9W61gDqH9zrulHXznrPjduuqRHo8ZIS8aXm9ubP9M4=; b=XtMz1tH8tWtkZ6ySgsdOatQUZql4XM6XCbyCATvdieEVH+1y+ahTXyf9KcgPkT2sj1 ZjHFrN3LX5tkM7xYXRXj3+3v6HoqqL/+rWVaguRin05KoSylALjiazPykJukBWzsw8VR FSRRfuX7AqE0bEJuR8hcORgLw9bMvIUOzwBAX3oiy2DYjdAVsr/X4ml77g0Imaowzfe5 dkh3RrbhKlTl4mvjR/tClbSRlLMIR/hMqvgr5baj/VgEMProrRmBC3uJjwTKUmH7+XnD GoTJki6cOqBN/mYTs0pwyECPXWKurGjLJ2ZwmOLyM8Cenad6tdzxEbTyvAyoO1RdSi9N tb3Q== X-Gm-Message-State: AOJu0Yx0ito6mi/WstvIiKLFiKDNjHx7zx6Ai9TZJCha3ExhIRd5RE5F SyBH99wFietx2lQXcVUBv9bnMAz6LaKljjcIoTU5ArXvRBjZ9GA8c733QNDyHqeB1nxbSCGb3A= = X-Google-Smtp-Source: AGHT+IFwRhhZC0/G9osm+Qy5oBa3SEvn4n4EmZeL7dCS6JPmcq9Dh+CMQVp7HEuDtLOEAoO8KnybimgEpyD9 X-Received: by 2002:a05:6808:3848:b0:3ba:f4a:431a with SMTP id ej8-20020a056808384800b003ba0f4a431amr1029185oib.99.1702273474314; Sun, 10 Dec 2023 21:44:34 -0800 (PST) Received: from postal.iol.unh.edu (postal.iol.unh.edu. [2606:4100:3880:1234::84]) by smtp-relay.gmail.com with ESMTPS id a189-20020a624dc6000000b006ce4fe5858csm895593pfb.20.2023.12.10.21.44.34 (version=TLS1_2 cipher=ECDHE-ECDSA-AES128-GCM-SHA256 bits=128/128); Sun, 10 Dec 2023 21:44:34 -0800 (PST) X-Relaying-Domain: iol.unh.edu Date: Sun, 10 Dec 2023 21:44:34 -0800 (PST) Message-ID: <6576a1c2.620a0220.5d651.f287SMTPIN_ADDED_MISSING@mx.google.com> Received: from [172.21.0.2] (unknown [172.18.0.240]) by postal.iol.unh.edu (Postfix) with ESMTP id 8ED056051823; Mon, 11 Dec 2023 00:44:33 -0500 (EST) Subject: |SUCCESS| pw135002 [PATCH] net/ice: support FEC feature From: dpdklab@iol.unh.edu To: Test Report Cc: dpdk-test-reports@iol.unh.edu Content-Type: text/plain X-BeenThere: test-report@dpdk.org X-Mailman-Version: 2.1.29 Precedence: list List-Id: automatic DPDK test reports List-Unsubscribe: , List-Archive: List-Post: List-Help: List-Subscribe: , Errors-To: test-report-bounces@dpdk.org Test-Label: iol-unit-arm64-testing Test-Status: SUCCESS http://dpdk.org/patch/135002 _Testing PASS_ Submitter: Qiming Yang Date: Monday, December 11 2023 04:22:44 DPDK git baseline: Repo:dpdk Branch: master CommitID:f2d5afbb2c05d7647da7ea914887c52115652651 135002 --> testing pass Test environment and result as below: +--------------------------+------------------------------+---------------------------+----------------+ | Environment | cryptodev_sw_snow3g_autotest | cryptodev_sw_zuc_autotest | dpdk_unit_test | +==========================+==============================+===========================+================+ | Debian 11 (arm) | PASS | PASS | SKIPPED | +--------------------------+------------------------------+---------------------------+----------------+ | Fedora 37 (ARM) | SKIPPED | SKIPPED | PASS | +--------------------------+------------------------------+---------------------------+----------------+ | Fedora 38 (ARM) | SKIPPED | SKIPPED | PASS | +--------------------------+------------------------------+---------------------------+----------------+ | Debian 11 (Buster) (ARM) | SKIPPED | SKIPPED | PASS | +--------------------------+------------------------------+---------------------------+----------------+ | CentOS Stream 9 (ARM) | SKIPPED | SKIPPED | PASS | +--------------------------+------------------------------+---------------------------+----------------+ Debian 11 (arm) Kernel: Container Host Kernel Compiler: gcc 10.2.1 Fedora 37 (ARM) Kernel: Depends on container host Compiler: gcc 12.3.1 Fedora 38 (ARM) Kernel: Depends on container host Compiler: gcc 13.1.1 Debian 11 (Buster) (ARM) Kernel: Container Host Kernel Compiler: gcc 10.2.1 CentOS Stream 9 (ARM) Kernel: Container Host Kernel Compiler: gcc 11.3.1 To view detailed results, visit: https://lab.dpdk.org/results/dashboard/patchsets/28578/ UNH-IOL DPDK Community Lab To manage your email subscriptions, visit: https://lab.dpdk.org/results/dashboard/preferences/subscriptions/