From mboxrd@z Thu Jan 1 00:00:00 1970 Return-Path: Received: from mails.dpdk.org (mails.dpdk.org [217.70.189.124]) by inbox.dpdk.org (Postfix) with ESMTP id 529A0436C4 for ; Mon, 11 Dec 2023 06:46:56 +0100 (CET) Received: from mails.dpdk.org (localhost [127.0.0.1]) by mails.dpdk.org (Postfix) with ESMTP id 4D710402DC; Mon, 11 Dec 2023 06:46:56 +0100 (CET) Received: from mail-pl1-f225.google.com (mail-pl1-f225.google.com [209.85.214.225]) by mails.dpdk.org (Postfix) with ESMTP id C6E2D402B2 for ; Mon, 11 Dec 2023 06:46:49 +0100 (CET) Received: by mail-pl1-f225.google.com with SMTP id d9443c01a7336-1d04c097e34so31410585ad.0 for ; Sun, 10 Dec 2023 21:46:49 -0800 (PST) DKIM-Signature: v=1; a=rsa-sha256; c=relaxed/relaxed; d=iol.unh.edu; s=unh-iol; t=1702273609; x=1702878409; darn=dpdk.org; h=cc:to:from:subject:message-id:date:from:to:cc:subject:date :message-id:reply-to; bh=r67Bmjk+k/RQBBTLCipsNKZMzpiAUMAEK/GOObHMt/o=; b=cUZnyFYDv5y3sOpV1PqZOD7MMVyRADlHKS2Kus3vJy70sOxm6LqQYjXbiNtqC1tUID lupvywfEYUjU7IptM+GPHJOOZlMbYoLq1zmKA7/dCu2uE9fU13gD0Opj4X+Us/MnOrj0 3wXKoswUW79euHYOE2HxLeoKGsK/hppuIY3qQ= X-Google-DKIM-Signature: v=1; a=rsa-sha256; c=relaxed/relaxed; d=1e100.net; s=20230601; t=1702273609; x=1702878409; h=cc:to:from:subject:message-id:date:x-gm-message-state:from:to:cc :subject:date:message-id:reply-to; bh=r67Bmjk+k/RQBBTLCipsNKZMzpiAUMAEK/GOObHMt/o=; b=XoMtEoJdsvsAqWSg+PeDkbCc2Vil+9A5nDxYMokUoy4u7UOof01UqYL6+WnBOADlai rkKSG7pEqmdprOpa5VCHDFFIBZWEWKm/Cb+FZO9dJXVIe2Fg+DLJo3aaWF6YV83mRf8S QmTBGQHfsCyVzVeRyaMr9TocDMdSBSklVonmLPwXRc2PE/FGcjIwhUliyZ2w6iDG1tQY 4wuaSqvHsikENpgHn6Mrjxy9xn9ch0a3CBHq2ajeWKHAuEs+dg30iJyNl32TKGs6KJcf LrCMQs2tJeOV6pTmE25Xp+JaMbCT2ssvzCsEgziHEqQDf/k/xrqLAohz4KEtH2qUn7jB Z88A== X-Gm-Message-State: AOJu0Yw7QGGUKAu4bbHMZSZR1I5C67ToGU4xRS+IpC8sGiDOHVSgM9hp 0/Dpyba7Va4uVZ9vKkcAsPU/FYTGeElcLsX59lMiRuThZmDHhsN7r9Jwg4o5ZIJkBI3FHmljZg= = X-Google-Smtp-Source: AGHT+IGEkEg86SQwd+XlEn76V5O9aTrn1XF1OchpHlfkIKRizBN4fRidl0BmBf6pggUluiOJdzVTS5OVNj+A X-Received: by 2002:a17:903:244c:b0:1cf:cb80:3fa5 with SMTP id l12-20020a170903244c00b001cfcb803fa5mr5028531pls.23.1702273609123; Sun, 10 Dec 2023 21:46:49 -0800 (PST) Received: from postal.iol.unh.edu (postal.iol.unh.edu. [2606:4100:3880:1234::84]) by smtp-relay.gmail.com with ESMTPS id i6-20020a1709026ac600b001cfb971ee12sm374584plt.42.2023.12.10.21.46.49 (version=TLS1_2 cipher=ECDHE-ECDSA-AES128-GCM-SHA256 bits=128/128); Sun, 10 Dec 2023 21:46:49 -0800 (PST) X-Relaying-Domain: iol.unh.edu Date: Sun, 10 Dec 2023 21:46:49 -0800 (PST) Message-ID: <6576a249.170a0220.7b83f.8fedSMTPIN_ADDED_MISSING@mx.google.com> Received: from [172.21.0.5] (unknown [172.18.0.240]) by postal.iol.unh.edu (Postfix) with ESMTP id 5414A6051823; Mon, 11 Dec 2023 00:46:48 -0500 (EST) Subject: |SUCCESS| pw135002 [PATCH] net/ice: support FEC feature From: dpdklab@iol.unh.edu To: Test Report Cc: dpdk-test-reports@iol.unh.edu Content-Type: text/plain X-BeenThere: test-report@dpdk.org X-Mailman-Version: 2.1.29 Precedence: list List-Id: automatic DPDK test reports List-Unsubscribe: , List-Archive: List-Post: List-Help: List-Subscribe: , Errors-To: test-report-bounces@dpdk.org Test-Label: iol-compile-arm64-testing Test-Status: SUCCESS http://dpdk.org/patch/135002 _Testing PASS_ Submitter: Qiming Yang Date: Monday, December 11 2023 04:22:44 DPDK git baseline: Repo:dpdk Branch: master CommitID:f2d5afbb2c05d7647da7ea914887c52115652651 135002 --> testing pass Test environment and result as below: +--------------------------+--------------------+ | Environment | dpdk_meson_compile | +==========================+====================+ | Ubuntu 20.04 ARM SVE | PASS | +--------------------------+--------------------+ | Debian 11 (Buster) (ARM) | PASS | +--------------------------+--------------------+ | Ubuntu 20.04 (ARM) | PASS | +--------------------------+--------------------+ | CentOS Stream 9 (ARM) | PASS | +--------------------------+--------------------+ | Fedora 38 (ARM) | PASS | +--------------------------+--------------------+ | Fedora 37 (ARM) | PASS | +--------------------------+--------------------+ Ubuntu 20.04 ARM SVE Kernel: 5.4.0-80-generic Compiler: gcc 10.3.0 (Ubuntu 10.3.0-1ubuntu1~20.04) Debian 11 (Buster) (ARM) Kernel: Container Host Kernel Compiler: gcc 10.2.1 Ubuntu 20.04 (ARM) Kernel: Container Host Kernel Compiler: gcc 9.4.0 CentOS Stream 9 (ARM) Kernel: Container Host Kernel Compiler: gcc 11.3.1 Fedora 38 (ARM) Kernel: Depends on container host Compiler: gcc 13.1.1 Fedora 37 (ARM) Kernel: Depends on container host Compiler: gcc 12.3.1 To view detailed results, visit: https://lab.dpdk.org/results/dashboard/patchsets/28578/ UNH-IOL DPDK Community Lab To manage your email subscriptions, visit: https://lab.dpdk.org/results/dashboard/preferences/subscriptions/