From mboxrd@z Thu Jan  1 00:00:00 1970
Return-Path: <test-report-bounces@dpdk.org>
Received: from mails.dpdk.org (mails.dpdk.org [217.70.189.124])
	by inbox.dpdk.org (Postfix) with ESMTP id DC732436C4
	for <public@inbox.dpdk.org>; Mon, 11 Dec 2023 06:57:54 +0100 (CET)
Received: from mails.dpdk.org (localhost [127.0.0.1])
	by mails.dpdk.org (Postfix) with ESMTP id D6A6C402DC;
	Mon, 11 Dec 2023 06:57:54 +0100 (CET)
Received: from mail-oa1-f97.google.com (mail-oa1-f97.google.com
 [209.85.160.97]) by mails.dpdk.org (Postfix) with ESMTP id 68CBC402B2
 for <test-report@dpdk.org>; Mon, 11 Dec 2023 06:57:53 +0100 (CET)
Received: by mail-oa1-f97.google.com with SMTP id
 586e51a60fabf-1f5bd86ceb3so3054420fac.2
 for <test-report@dpdk.org>; Sun, 10 Dec 2023 21:57:53 -0800 (PST)
DKIM-Signature: v=1; a=rsa-sha256; c=relaxed/relaxed;
 d=iol.unh.edu; s=unh-iol; t=1702274272; x=1702879072; darn=dpdk.org;
 h=cc:to:from:subject:message-id:date:from:to:cc:subject:date
 :message-id:reply-to;
 bh=y0b2gkZcZXZlrH/1u6/2/k+DpauOBHXWWRelawV62JM=;
 b=CJw5rYuMWDtCQxqt7FDFXhXgK3nZ9Ndc4tskHHj2jjzL43al+kaZ707NLXuknXg5Ev
 U6dKfqHZrzLbuIpcLuNfhGkNVeA4rZ9mTekh/UAlHAAK9wY2xrrFNHNoUbHA/dgU5g/0
 KudwPey6IE5pdJ/z7XS8L/BK6dLTMTSlaXHpA=
X-Google-DKIM-Signature: v=1; a=rsa-sha256; c=relaxed/relaxed;
 d=1e100.net; s=20230601; t=1702274272; x=1702879072;
 h=cc:to:from:subject:message-id:date:x-gm-message-state:from:to:cc
 :subject:date:message-id:reply-to;
 bh=y0b2gkZcZXZlrH/1u6/2/k+DpauOBHXWWRelawV62JM=;
 b=ZF7zQ05No8D63AkaGPVZoHgwt5mXlkEioZao1GmB3sxrmuaJ5eV4WdzuzZGiTNBuzu
 yVSiWgvCJg+b29po0uahkIlB1nmpTBUYFSTr8Xe/457I4HrOTfNASJiEz4nZ6LGBXgSZ
 Imm6rlw9JwTctH0NdIBqZjxT1eZT11Nbcc2F/Spqs9ulSC+eq1zO9eFPHCt6LT5n/y+9
 YtSVWLfjvLB4wZMFyXJLryXiDAy6YNWBDyZdBy6vwSD2IczlmgQ4zUVtg6FEgYj2482w
 FMrLJs+9e4ZE/x2Zc2dKOuTmRZzGtIHFhKgH2kCxBz/ot+jl3vMgG/ygnyRbBZyl974O
 eqYA==
X-Gm-Message-State: AOJu0Yy3Goy6u44L6Dc2gQM6mq0NQKQHwoOc/E9KjO+EwbCVyyjYizX/
 idSdT5T88t12OtBaluNMLnrQwCYr6rZRDEPyu8WDiwTtL5iBF6Z2bHvgbcPvR+zi96fSvf1VBg=
 =
X-Google-Smtp-Source: AGHT+IEGoyFj1gGxK5SYduRYQAj+/nF41uA1kxFL5MTLXB9K7hVRo1jfF4KfUgGE9vCeuLIl0iMWZ0avgQ7l
X-Received: by 2002:a05:6871:a10d:b0:1fa:fd62:18f5 with SMTP id
 vs13-20020a056871a10d00b001fafd6218f5mr4009327oab.22.1702274272421; 
 Sun, 10 Dec 2023 21:57:52 -0800 (PST)
Received: from postal.iol.unh.edu (postal.iol.unh.edu.
 [2606:4100:3880:1234::84]) by smtp-relay.gmail.com with ESMTPS id
 m127-20020a632685000000b005c66cd4a16bsm628497pgm.5.2023.12.10.21.57.52
 (version=TLS1_2 cipher=ECDHE-ECDSA-AES128-GCM-SHA256 bits=128/128);
 Sun, 10 Dec 2023 21:57:52 -0800 (PST)
X-Relaying-Domain: iol.unh.edu
Date: Sun, 10 Dec 2023 21:57:52 -0800 (PST)
Message-ID: <6576a4e0.630a0220.d6fb2.17f9SMTPIN_ADDED_MISSING@mx.google.com>
Received: from [172.21.0.2] (unknown [172.18.0.240])
 by postal.iol.unh.edu (Postfix) with ESMTP id 95C9B6051823;
 Mon, 11 Dec 2023 00:57:51 -0500 (EST)
Subject: |SUCCESS| pw135002 [PATCH] net/ice: support FEC feature
From: dpdklab@iol.unh.edu
To: Test Report <test-report@dpdk.org>
Cc: dpdk-test-reports@iol.unh.edu
Content-Type: text/plain
X-BeenThere: test-report@dpdk.org
X-Mailman-Version: 2.1.29
Precedence: list
List-Id: automatic DPDK test reports <test-report.dpdk.org>
List-Unsubscribe: <https://mails.dpdk.org/options/test-report>,
 <mailto:test-report-request@dpdk.org?subject=unsubscribe>
List-Archive: <http://mails.dpdk.org/archives/test-report/>
List-Post: <mailto:test-report@dpdk.org>
List-Help: <mailto:test-report-request@dpdk.org?subject=help>
List-Subscribe: <https://mails.dpdk.org/listinfo/test-report>,
 <mailto:test-report-request@dpdk.org?subject=subscribe>
Errors-To: test-report-bounces@dpdk.org

Test-Label: iol-compile-amd64-testing
Test-Status: SUCCESS
http://dpdk.org/patch/135002

_Testing PASS_

Submitter: Qiming Yang <qiming.yang@intel.com>
Date: Monday, December 11 2023 04:22:44 
DPDK git baseline: Repo:dpdk
  Branch: master
  CommitID:f2d5afbb2c05d7647da7ea914887c52115652651

135002 --> testing pass

Test environment and result as below:

+---------------------+--------------------+----------------------+
|     Environment     | dpdk_meson_compile | dpdk_mingw64_compile |
+=====================+====================+======================+
| FreeBSD 13          | PASS               | SKIPPED              |
+---------------------+--------------------+----------------------+
| Windows Server 2022 | PASS               | SKIPPED              |
+---------------------+--------------------+----------------------+
| CentOS Stream 9     | PASS               | SKIPPED              |
+---------------------+--------------------+----------------------+
| CentOS Stream 8     | PASS               | SKIPPED              |
+---------------------+--------------------+----------------------+
| Fedora 38           | PASS               | SKIPPED              |
+---------------------+--------------------+----------------------+
| Windows Server 2019 | PASS               | PASS                 |
+---------------------+--------------------+----------------------+
| Debian Buster       | PASS               | SKIPPED              |
+---------------------+--------------------+----------------------+
| Fedora 37           | PASS               | SKIPPED              |
+---------------------+--------------------+----------------------+
| Ubuntu 22.04        | PASS               | SKIPPED              |
+---------------------+--------------------+----------------------+
| Ubuntu 20.04        | PASS               | SKIPPED              |
+---------------------+--------------------+----------------------+
| RHEL8               | PASS               | SKIPPED              |
+---------------------+--------------------+----------------------+
| Alpine              | PASS               | SKIPPED              |
+---------------------+--------------------+----------------------+
| openSUSE Leap 15    | PASS               | SKIPPED              |
+---------------------+--------------------+----------------------+
| Debian Bullseye     | PASS               | SKIPPED              |
+---------------------+--------------------+----------------------+


FreeBSD 13
	Kernel: 13.0
	Compiler: clang 11.0.1

Windows Server 2022
	Kernel: OS Build 20348.2031
	Compiler: MSVC VS-Preview

CentOS Stream 9
	Kernel: 4.18.0-240.10.1.el8_3.x86_64
	Compiler: gcc 11.3.1 20220421

CentOS Stream 8
	Kernel: 4.18.0-240.10.1.el8_3.x86_64
	Compiler: gcc 8.4.1 20200928

Fedora 38
	Kernel: Depends on container host
	Compiler: gcc 13.1.1

Windows Server 2019
	Kernel: 10.0
	Compiler: clang 14.0 and gcc 8.1.0 (MinGW)

Debian Buster
	Kernel: 5.4.0-122-generic
	Compiler: gcc 8.3.0-6

Fedora 37
	Kernel: Depends on container host system
	Compiler: gcc 12.3.1

Ubuntu 22.04
	Kernel: 4.18.0-240.10.1.el8_3.x86_64
	Compiler: gcc 11.3.0

Ubuntu 20.04
	Kernel: 5.4.0-153-generic
	Compiler: gcc 9.4.0-1ubuntu1~20.04.1

RHEL8
	Kernel: 4.18.0-240.10.1.el8_3.x86_64
	Compiler: gcc 8.3.1 20191121 (Red Hat 8.3.1-5)

Alpine
	Kernel: 5.4.0-73-generic
	Compiler: gcc (Alpine 10.3.1_git20210424) 10.3.1 20210424

openSUSE Leap 15
	Kernel: 4.18.0-240.10.1.el8_3.x86_64
	Compiler: gcc 7.5.0

Debian Bullseye
	Kernel: 5.4.0-122-generic
	Compiler: gcc 10.2.1-6

To view detailed results, visit:
https://lab.dpdk.org/results/dashboard/patchsets/28578/

UNH-IOL DPDK Community Lab

To manage your email subscriptions, visit: 
https://lab.dpdk.org/results/dashboard/preferences/subscriptions/