From mboxrd@z Thu Jan  1 00:00:00 1970
Return-Path: <test-report-bounces@dpdk.org>
Received: from mails.dpdk.org (mails.dpdk.org [217.70.189.124])
	by inbox.dpdk.org (Postfix) with ESMTP id 217FB436C4
	for <public@inbox.dpdk.org>; Mon, 11 Dec 2023 07:11:20 +0100 (CET)
Received: from mails.dpdk.org (localhost [127.0.0.1])
	by mails.dpdk.org (Postfix) with ESMTP id 1AE68402DC;
	Mon, 11 Dec 2023 07:11:20 +0100 (CET)
Received: from mail-qv1-f98.google.com (mail-qv1-f98.google.com
 [209.85.219.98]) by mails.dpdk.org (Postfix) with ESMTP id A64C2402B2
 for <test-report@dpdk.org>; Mon, 11 Dec 2023 07:11:18 +0100 (CET)
Received: by mail-qv1-f98.google.com with SMTP id
 6a1803df08f44-67a959e3afaso27662266d6.2
 for <test-report@dpdk.org>; Sun, 10 Dec 2023 22:11:18 -0800 (PST)
DKIM-Signature: v=1; a=rsa-sha256; c=relaxed/relaxed;
 d=iol.unh.edu; s=unh-iol; t=1702275078; x=1702879878; darn=dpdk.org;
 h=cc:to:from:subject:message-id:date:from:to:cc:subject:date
 :message-id:reply-to;
 bh=EoAzwYiU4VueYDNu0geMEnHFSTbQ2WUM61z/In15Gf4=;
 b=a/t1wfOIQP+kv2SAc0Zt3ZkCoZfq5V2x+HwKiY8O7H5SFoFOODmTOLH6Y+fEeYo4XU
 HVbCL1Mds1JuZaVTtfSL50XEYvfM0CvjR7GLs504hjum4gScjLj+n0yYHH9y92un0uVk
 aYB9WfEWcs4x8AXHcO3ApwdoovJDbIKTT3cbY=
X-Google-DKIM-Signature: v=1; a=rsa-sha256; c=relaxed/relaxed;
 d=1e100.net; s=20230601; t=1702275078; x=1702879878;
 h=cc:to:from:subject:message-id:date:x-gm-message-state:from:to:cc
 :subject:date:message-id:reply-to;
 bh=EoAzwYiU4VueYDNu0geMEnHFSTbQ2WUM61z/In15Gf4=;
 b=o7qnVBTq88phBCoyW0mx4ceQbOL5XMQKMq9ZxcOuphQqnDtWz+9AH05rHwJov0zfLZ
 k39ri26Yp+hpmUV9XWrvhP9fLq3vEUz7ROEVA39GfFQxDI/TsFt1sWegXLBFulFZBtIB
 NhOmXOnz3b2DygN7U+J2n49ajAyKFxVSqiJqb/yNWBTZC3xgB4NqMIYsnrAaR3z5N4DC
 gpGEg4Few6W14Gje7Gku+au3oZ2uOOOWMRfvOg0vI3OPXY1z10+hbOz9dOXeEvxxycp4
 u2woVqV4PH++XDx6T0m/iH30m7ODG8KGpN25Jg6m2us4/X1U55Lu59T9B6ufmYqRYM68
 xIZw==
X-Gm-Message-State: AOJu0Yx3wu2wZcuVq58pdFZcpADDyidWsrA3lAJVy8WrxwWppYXF5pFt
 ulfN7Pj3SHuzl+SrIpgMBTM/YQ7ekN8zRJxocBTClIyWz/tC+MJXNZcAzbY2wPRUOZ6RclwrVQ=
 =
X-Google-Smtp-Source: AGHT+IHsCditvkDc3enqeLcDs14OyAIKC8h+SIOHo7UFFzmoI97qzvXofN0nRaPiTiHv4/T7hrtnAVSMAX0T
X-Received: by 2002:ad4:4b66:0:b0:67a:b136:197d with SMTP id
 m6-20020ad44b66000000b0067ab136197dmr4579929qvx.91.1702275078068; 
 Sun, 10 Dec 2023 22:11:18 -0800 (PST)
Received: from postal.iol.unh.edu (postal.iol.unh.edu.
 [2606:4100:3880:1234::84]) by smtp-relay.gmail.com with ESMTPS id
 u12-20020a0cee8c000000b0067ecf692d11sm266678qvr.1.2023.12.10.22.11.18
 (version=TLS1_2 cipher=ECDHE-ECDSA-AES128-GCM-SHA256 bits=128/128);
 Sun, 10 Dec 2023 22:11:18 -0800 (PST)
X-Relaying-Domain: iol.unh.edu
Date: Sun, 10 Dec 2023 22:11:18 -0800 (PST)
Message-ID: <6576a806.0c0a0220.107ff.3587SMTPIN_ADDED_MISSING@mx.google.com>
Received: from [172.21.0.2] (unknown [172.18.0.240])
 by postal.iol.unh.edu (Postfix) with ESMTP id C11396051823;
 Mon, 11 Dec 2023 01:11:17 -0500 (EST)
Subject: |SUCCESS| pw135002 [PATCH] net/ice: support FEC feature
From: dpdklab@iol.unh.edu
To: Test Report <test-report@dpdk.org>
Cc: dpdk-test-reports@iol.unh.edu
Content-Type: text/plain
X-BeenThere: test-report@dpdk.org
X-Mailman-Version: 2.1.29
Precedence: list
List-Id: automatic DPDK test reports <test-report.dpdk.org>
List-Unsubscribe: <https://mails.dpdk.org/options/test-report>,
 <mailto:test-report-request@dpdk.org?subject=unsubscribe>
List-Archive: <http://mails.dpdk.org/archives/test-report/>
List-Post: <mailto:test-report@dpdk.org>
List-Help: <mailto:test-report-request@dpdk.org?subject=help>
List-Subscribe: <https://mails.dpdk.org/listinfo/test-report>,
 <mailto:test-report-request@dpdk.org?subject=subscribe>
Errors-To: test-report-bounces@dpdk.org

Test-Label: iol-unit-arm64-testing
Test-Status: SUCCESS
http://dpdk.org/patch/135002

_Testing PASS_

Submitter: Qiming Yang <qiming.yang@intel.com>
Date: Monday, December 11 2023 04:22:44 
DPDK git baseline: Repo:dpdk
  Branch: master
  CommitID:f2d5afbb2c05d7647da7ea914887c52115652651

135002 --> testing pass

Test environment and result as below:

+--------------------------+------------------------------+---------------------------+----------------+--------------+
|       Environment        | cryptodev_sw_snow3g_autotest | cryptodev_sw_zuc_autotest | dpdk_unit_test | lpm_autotest |
+==========================+==============================+===========================+================+==============+
| Debian 11 (arm)          | PASS                         | PASS                      | SKIPPED        | SKIPPED      |
+--------------------------+------------------------------+---------------------------+----------------+--------------+
| Fedora 37 (ARM)          | SKIPPED                      | SKIPPED                   | PASS           | SKIPPED      |
+--------------------------+------------------------------+---------------------------+----------------+--------------+
| Fedora 38 (ARM)          | SKIPPED                      | SKIPPED                   | PASS           | SKIPPED      |
+--------------------------+------------------------------+---------------------------+----------------+--------------+
| Debian 11 (Buster) (ARM) | SKIPPED                      | SKIPPED                   | PASS           | SKIPPED      |
+--------------------------+------------------------------+---------------------------+----------------+--------------+
| CentOS Stream 9 (ARM)    | SKIPPED                      | SKIPPED                   | PASS           | SKIPPED      |
+--------------------------+------------------------------+---------------------------+----------------+--------------+
| Ubuntu 20.04 (ARM)       | SKIPPED                      | SKIPPED                   | PASS           | SKIPPED      |
+--------------------------+------------------------------+---------------------------+----------------+--------------+
| Fedora 38 (ARM Clang)    | SKIPPED                      | SKIPPED                   | PASS           | SKIPPED      |
+--------------------------+------------------------------+---------------------------+----------------+--------------+
| Ubuntu 20.04 ARM SVE     | SKIPPED                      | SKIPPED                   | SKIPPED        | PASS         |
+--------------------------+------------------------------+---------------------------+----------------+--------------+


Debian 11 (arm)
	Kernel: Container Host Kernel
	Compiler: gcc 10.2.1

Fedora 37 (ARM)
	Kernel: Depends on container host
	Compiler: gcc 12.3.1

Fedora 38 (ARM)
	Kernel: Depends on container host
	Compiler: gcc 13.1.1

Debian 11 (Buster) (ARM)
	Kernel: Container Host Kernel
	Compiler: gcc 10.2.1

CentOS Stream 9 (ARM)
	Kernel: Container Host Kernel
	Compiler: gcc 11.3.1

Ubuntu 20.04 (ARM)
	Kernel: Container Host Kernel
	Compiler: gcc 9.4.0

Fedora 38 (ARM Clang)
	Kernel: Depends on container host
	Compiler: clang 16.0.3

Ubuntu 20.04 ARM SVE
	Kernel: 5.4.0-80-generic
	Compiler: gcc 10.3.0 (Ubuntu 10.3.0-1ubuntu1~20.04)

To view detailed results, visit:
https://lab.dpdk.org/results/dashboard/patchsets/28578/

UNH-IOL DPDK Community Lab

To manage your email subscriptions, visit: 
https://lab.dpdk.org/results/dashboard/preferences/subscriptions/