From mboxrd@z Thu Jan 1 00:00:00 1970 Return-Path: Received: from mails.dpdk.org (mails.dpdk.org [217.70.189.124]) by inbox.dpdk.org (Postfix) with ESMTP id 5413F436C6 for ; Mon, 11 Dec 2023 08:10:30 +0100 (CET) Received: from mails.dpdk.org (localhost [127.0.0.1]) by mails.dpdk.org (Postfix) with ESMTP id 4EFFA402DC; Mon, 11 Dec 2023 08:10:30 +0100 (CET) Received: from mail-yw1-f227.google.com (mail-yw1-f227.google.com [209.85.128.227]) by mails.dpdk.org (Postfix) with ESMTP id 65A60402B2 for ; Mon, 11 Dec 2023 08:10:28 +0100 (CET) Received: by mail-yw1-f227.google.com with SMTP id 00721157ae682-5d77a1163faso31702297b3.0 for ; Sun, 10 Dec 2023 23:10:28 -0800 (PST) DKIM-Signature: v=1; a=rsa-sha256; c=relaxed/relaxed; d=iol.unh.edu; s=unh-iol; t=1702278628; x=1702883428; darn=dpdk.org; h=cc:to:from:subject:message-id:date:from:to:cc:subject:date :message-id:reply-to; bh=K7Hu+hdP2AaGS6UEMya18fJAQYc9Ep8T4CSZueb5VlE=; b=EHgz1FAKnyXeQej+dol0JYPlh9tRQVFvsCZReId0wLfB3mYySd59apcaKN7VsyqTUC n58fMx5JKZdebuMBNYwjy2uNYqIszLEAKLx7UU1uImTRwN90tslT0BIAIoazjYGvMRPZ q63g/m7TTczDDHizrN2j2NRR2o2Nx2c1bIhRE= X-Google-DKIM-Signature: v=1; a=rsa-sha256; c=relaxed/relaxed; d=1e100.net; s=20230601; t=1702278628; x=1702883428; h=cc:to:from:subject:message-id:date:x-gm-message-state:from:to:cc :subject:date:message-id:reply-to; bh=K7Hu+hdP2AaGS6UEMya18fJAQYc9Ep8T4CSZueb5VlE=; b=vNguqUYZtLbKBJuKzUmr/IyzDQUofDBgV/cbYZl5AHLSfXtjAbpstVvIyDNo7k4ILL +FVZqYHoSM8uI9zxCqpMhFHxqfZEQT7rAocRvXb4cWsXGSfeiW+/TCJVzcJPuwo4CSRy 5xfxuCDRolTZ+KpGtO8VEHFBGJ/OWSgRRtACadsNATbj6j1CQsRB/xriAtjzgin0naQE Rr5Ny6LekDvZ3yudvx61ALiZy/83nRx6dUtk3aXww/M+gFODeTR2E4UXVMCu4hscnv5G bFku63sKF4C3ZgydhFZcl1rDeaHkqqRz0i2+uwkAq4/HVPOFEOqHhftd+IlSpgweaIda DAuQ== X-Gm-Message-State: AOJu0YxXrqgVaFazNKQCHtRNYrXe0enpQ5odaEnKIAzCugUn1MkxA/4x alE2wZlaiBBwX+bxMZ/frEHWG2gm56S8pxPIt7jXPQ/T/uSRQrUseFypXg== X-Google-Smtp-Source: AGHT+IFJmSVMk5Gb6Q526rkVnztCxjUqEPX3fmar83FlcGoLvSkNOWtKs6kEj8B/T531ItMQ+s3zS95rgJND X-Received: by 2002:a0d:cfc2:0:b0:5d3:bf73:e431 with SMTP id r185-20020a0dcfc2000000b005d3bf73e431mr2964627ywd.12.1702278627796; Sun, 10 Dec 2023 23:10:27 -0800 (PST) Received: from postal.iol.unh.edu (postal.iol.unh.edu. [132.177.123.84]) by smtp-relay.gmail.com with ESMTPS id n63-20020a0dcb42000000b005cfb2cccf58sm998818ywd.12.2023.12.10.23.10.27 (version=TLS1_2 cipher=ECDHE-ECDSA-AES128-GCM-SHA256 bits=128/128); Sun, 10 Dec 2023 23:10:27 -0800 (PST) X-Relaying-Domain: iol.unh.edu Date: Sun, 10 Dec 2023 23:10:27 -0800 (PST) Message-ID: <6576b5e3.0d0a0220.ab4a9.e579SMTPIN_ADDED_MISSING@mx.google.com> Received: from [172.21.0.2] (unknown [172.18.0.240]) by postal.iol.unh.edu (Postfix) with ESMTP id 6AC776051823; Mon, 11 Dec 2023 02:10:27 -0500 (EST) Subject: |SUCCESS| pw135002 [PATCH] net/ice: support FEC feature From: dpdklab@iol.unh.edu To: Test Report Cc: dpdk-test-reports@iol.unh.edu Content-Type: text/plain X-BeenThere: test-report@dpdk.org X-Mailman-Version: 2.1.29 Precedence: list List-Id: automatic DPDK test reports List-Unsubscribe: , List-Archive: List-Post: List-Help: List-Subscribe: , Errors-To: test-report-bounces@dpdk.org Test-Label: iol-compile-arm64-testing Test-Status: SUCCESS http://dpdk.org/patch/135002 _Testing PASS_ Submitter: Qiming Yang Date: Monday, December 11 2023 04:22:44 DPDK git baseline: Repo:dpdk Branch: master CommitID:f2d5afbb2c05d7647da7ea914887c52115652651 135002 --> testing pass Test environment and result as below: +----------------------------------------+--------------------+ | Environment | dpdk_meson_compile | +========================================+====================+ | Ubuntu 20.04 ARM SVE | PASS | +----------------------------------------+--------------------+ | Debian 11 (Buster) (ARM) | PASS | +----------------------------------------+--------------------+ | Ubuntu 20.04 (ARM) | PASS | +----------------------------------------+--------------------+ | CentOS Stream 9 (ARM) | PASS | +----------------------------------------+--------------------+ | Fedora 38 (ARM) | PASS | +----------------------------------------+--------------------+ | Fedora 37 (ARM) | PASS | +----------------------------------------+--------------------+ | Ubuntu 20.04 aarch32 GCC Cross Compile | PASS | +----------------------------------------+--------------------+ | Ubuntu 20.04 ARM Clang Cross Compile | PASS | +----------------------------------------+--------------------+ | Ubuntu 20.04 ARM GCC Cross Compile | PASS | +----------------------------------------+--------------------+ | Fedora 38 (ARM Clang) | PASS | +----------------------------------------+--------------------+ Ubuntu 20.04 ARM SVE Kernel: 5.4.0-80-generic Compiler: gcc 10.3.0 (Ubuntu 10.3.0-1ubuntu1~20.04) Debian 11 (Buster) (ARM) Kernel: Container Host Kernel Compiler: gcc 10.2.1 Ubuntu 20.04 (ARM) Kernel: Container Host Kernel Compiler: gcc 9.4.0 CentOS Stream 9 (ARM) Kernel: Container Host Kernel Compiler: gcc 11.3.1 Fedora 38 (ARM) Kernel: Depends on container host Compiler: gcc 13.1.1 Fedora 37 (ARM) Kernel: Depends on container host Compiler: gcc 12.3.1 Ubuntu 20.04 aarch32 GCC Cross Compile Kernel: 5.4.0-72-generic Compiler: gcc 9.3.0 Ubuntu 20.04 ARM Clang Cross Compile Kernel: 5.4.0-72-generic Compiler: clang version 10.0.0-4ubuntu1 Ubuntu 20.04 ARM GCC Cross Compile Kernel: 5.4.0-72-generic Compiler: aarch64-linux-gnu-gcc (Ubuntu 9.3.0-17ubuntu1~20.04) 9.3.0 Fedora 38 (ARM Clang) Kernel: Depends on container host Compiler: clang 16.0.3 To view detailed results, visit: https://lab.dpdk.org/results/dashboard/patchsets/28578/ UNH-IOL DPDK Community Lab To manage your email subscriptions, visit: https://lab.dpdk.org/results/dashboard/preferences/subscriptions/