From mboxrd@z Thu Jan  1 00:00:00 1970
Return-Path: <test-report-bounces@dpdk.org>
Received: from mails.dpdk.org (mails.dpdk.org [217.70.189.124])
	by inbox.dpdk.org (Postfix) with ESMTP id 32D004368B
	for <public@inbox.dpdk.org>; Mon, 11 Dec 2023 22:34:33 +0100 (CET)
Received: from mails.dpdk.org (localhost [127.0.0.1])
	by mails.dpdk.org (Postfix) with ESMTP id 2DE7342D95;
	Mon, 11 Dec 2023 22:34:33 +0100 (CET)
Received: from mail-pj1-f99.google.com (mail-pj1-f99.google.com
 [209.85.216.99]) by mails.dpdk.org (Postfix) with ESMTP id B666A42D90
 for <test-report@dpdk.org>; Mon, 11 Dec 2023 22:34:32 +0100 (CET)
Received: by mail-pj1-f99.google.com with SMTP id
 98e67ed59e1d1-2866fe08b32so3575392a91.2
 for <test-report@dpdk.org>; Mon, 11 Dec 2023 13:34:32 -0800 (PST)
DKIM-Signature: v=1; a=rsa-sha256; c=relaxed/relaxed;
 d=iol.unh.edu; s=unh-iol; t=1702330472; x=1702935272; darn=dpdk.org;
 h=cc:to:from:subject:message-id:date:from:to:cc:subject:date
 :message-id:reply-to;
 bh=LeH70+zGNUx7BK5/FdjaQ2kPC8/WgQN1uZTOC2mpPSA=;
 b=PwcsbN4uOkoPlWgHfadO0plOdD3qPURNTOlAwH/ZY39m3vTT2x+BVdF4b+oS90N1CG
 jujHE4OAb0qlt7zG+SSc10nVJTto5q2DxmUqSx7YYMXFXyqi0zB6GuqWg9CjUzgrSnA4
 El1D8kvsp3M2KombWDJ2MTVK8maLtUWX70osQ=
X-Google-DKIM-Signature: v=1; a=rsa-sha256; c=relaxed/relaxed;
 d=1e100.net; s=20230601; t=1702330472; x=1702935272;
 h=cc:to:from:subject:message-id:date:x-gm-message-state:from:to:cc
 :subject:date:message-id:reply-to;
 bh=LeH70+zGNUx7BK5/FdjaQ2kPC8/WgQN1uZTOC2mpPSA=;
 b=tqh/6XrepXVvcYn/Dw+X9V8l95jKBp4R5Ly9SmhHP2Z+9JJyGt5azOyZXoIi+eKDjR
 whMJUXBU/0CTZDR1uLOPeLQVh5MSGuQdb9uYzEPBfCJVwtwvn+pWqp4PY6YcelnvDMOc
 oKTzZFmv/QSGBZ3qpiJ2+9BxIdvawhYKduqojSnnbY5EWnMqCPVdGyAgw1odkHzvg394
 cr6cIxqMOIUzJ+n4RziTIrdPKImBHj/CbqgHZmOV0uN1yfQtsXXq4NViWP80XjYbr3cN
 Av9q3khISV6CfnzvaYsujPqv+hNHQPe2Gl5WhfwoS9cStBlmaU6VoYqXwxstPYuDHtD3
 nteA==
X-Gm-Message-State: AOJu0YzAvyYEOhHdyIjfRDUGiuv8if9Tqf3NwFBlEos7D0GtsiQyEaYk
 n0VPNEyzACm58aBng5Pytaa5mZvogrc0wfBNf9HiBbwk1cH6w+yNC+82Fw==
X-Google-Smtp-Source: AGHT+IEr/k2bMMkmC+0y/B979RrZ2iI5F2bDx1oQNsgd3aIIKvjuIX8VSLl0k9kjPIuswRzRHQH5eXdp6YNA
X-Received: by 2002:a17:90a:7527:b0:286:99a9:f4ce with SMTP id
 q36-20020a17090a752700b0028699a9f4cemr2221939pjk.12.1702330471973; 
 Mon, 11 Dec 2023 13:34:31 -0800 (PST)
Received: from postal.iol.unh.edu (postal.iol.unh.edu. [132.177.123.84])
 by smtp-relay.gmail.com with ESMTPS id
 sj15-20020a17090b2d8f00b00285c2bf2440sm1001539pjb.11.2023.12.11.13.34.31
 (version=TLS1_2 cipher=ECDHE-ECDSA-AES128-GCM-SHA256 bits=128/128);
 Mon, 11 Dec 2023 13:34:31 -0800 (PST)
X-Relaying-Domain: iol.unh.edu
Date: Mon, 11 Dec 2023 13:34:31 -0800 (PST)
Message-ID: <65778067.170a0220.81fb0.b41fSMTPIN_ADDED_MISSING@mx.google.com>
Received: from [172.21.0.7] (unknown [172.18.0.240])
 by postal.iol.unh.edu (Postfix) with ESMTP id 2C1F7605C311;
 Mon, 11 Dec 2023 16:34:31 -0500 (EST)
Subject: |SUCCESS| pw135045 [PATCH] cryptodev: convert to dynamic logtype
From: dpdklab@iol.unh.edu
To: Test Report <test-report@dpdk.org>
Cc: Stephen Hemminger <stephen@networkplumber.org>,
 dpdk-test-reports@iol.unh.edu
Content-Type: text/plain
X-BeenThere: test-report@dpdk.org
X-Mailman-Version: 2.1.29
Precedence: list
List-Id: automatic DPDK test reports <test-report.dpdk.org>
List-Unsubscribe: <https://mails.dpdk.org/options/test-report>,
 <mailto:test-report-request@dpdk.org?subject=unsubscribe>
List-Archive: <http://mails.dpdk.org/archives/test-report/>
List-Post: <mailto:test-report@dpdk.org>
List-Help: <mailto:test-report-request@dpdk.org?subject=help>
List-Subscribe: <https://mails.dpdk.org/listinfo/test-report>,
 <mailto:test-report-request@dpdk.org?subject=subscribe>
Errors-To: test-report-bounces@dpdk.org

Test-Label: iol-unit-arm64-testing
Test-Status: SUCCESS
http://dpdk.org/patch/135045

_Testing PASS_

Submitter: Stephen Hemminger <stephen@networkplumber.org>
Date: Monday, December 11 2023 20:17:32 
DPDK git baseline: Repo:dpdk
  Branch: master
  CommitID:f2d5afbb2c05d7647da7ea914887c52115652651

135045 --> testing pass

Test environment and result as below:

+--------------------------+---------------------------+----------------+------------------------------+
|       Environment        | cryptodev_sw_zuc_autotest | dpdk_unit_test | cryptodev_sw_snow3g_autotest |
+==========================+===========================+================+==============================+
| Debian 11 (arm)          | PASS                      | SKIPPED        | PASS                         |
+--------------------------+---------------------------+----------------+------------------------------+
| CentOS Stream 9 (ARM)    | SKIPPED                   | PASS           | SKIPPED                      |
+--------------------------+---------------------------+----------------+------------------------------+
| Debian 11 (Buster) (ARM) | SKIPPED                   | PASS           | SKIPPED                      |
+--------------------------+---------------------------+----------------+------------------------------+


Debian 11 (arm)
	Kernel: Container Host Kernel
	Compiler: gcc 10.2.1

CentOS Stream 9 (ARM)
	Kernel: Container Host Kernel
	Compiler: gcc 11.3.1

Debian 11 (Buster) (ARM)
	Kernel: Container Host Kernel
	Compiler: gcc 10.2.1

To view detailed results, visit:
https://lab.dpdk.org/results/dashboard/patchsets/28589/

UNH-IOL DPDK Community Lab

To manage your email subscriptions, visit: 
https://lab.dpdk.org/results/dashboard/preferences/subscriptions/