From mboxrd@z Thu Jan  1 00:00:00 1970
Return-Path: <test-report-bounces@dpdk.org>
Received: from mails.dpdk.org (mails.dpdk.org [217.70.189.124])
	by inbox.dpdk.org (Postfix) with ESMTP id 92B4F4368B
	for <public@inbox.dpdk.org>; Mon, 11 Dec 2023 23:35:01 +0100 (CET)
Received: from mails.dpdk.org (localhost [127.0.0.1])
	by mails.dpdk.org (Postfix) with ESMTP id AE70F42D95;
	Mon, 11 Dec 2023 23:34:59 +0100 (CET)
Received: from mail-yw1-f227.google.com (mail-yw1-f227.google.com
 [209.85.128.227])
 by mails.dpdk.org (Postfix) with ESMTP id 288B442D90
 for <test-report@dpdk.org>; Mon, 11 Dec 2023 23:34:59 +0100 (CET)
Received: by mail-yw1-f227.google.com with SMTP id
 00721157ae682-5cbcfdeaff3so50551397b3.0
 for <test-report@dpdk.org>; Mon, 11 Dec 2023 14:34:59 -0800 (PST)
DKIM-Signature: v=1; a=rsa-sha256; c=relaxed/relaxed;
 d=iol.unh.edu; s=unh-iol; t=1702334098; x=1702938898; darn=dpdk.org;
 h=cc:to:from:subject:message-id:date:from:to:cc:subject:date
 :message-id:reply-to;
 bh=4IpkbC6iPlvut8F3ZkTZfotwysa8tmrOpfUMtT7qm7Y=;
 b=WC01C6xpLt5KSFJYl774CQe5lJ3J0V0v76Ew6fcVWbYAC8yphwOhCGhUMUWtK37YJW
 RGmYKiCjcFgpdrdq/uLMUTAACEEB8kd/wDBt2xnKayXAzwOeIzy2gTRWsUPknKPGSZBw
 ReIbF9IoYLZEIL7dUe6+eUqpX6qD/NJ85+e2w=
X-Google-DKIM-Signature: v=1; a=rsa-sha256; c=relaxed/relaxed;
 d=1e100.net; s=20230601; t=1702334098; x=1702938898;
 h=cc:to:from:subject:message-id:date:x-gm-message-state:from:to:cc
 :subject:date:message-id:reply-to;
 bh=4IpkbC6iPlvut8F3ZkTZfotwysa8tmrOpfUMtT7qm7Y=;
 b=UiEe6X9bLgj+sOCXiblkn29MdIkDKyFftYwM5ugfWoRwkLQQ68R5oKv8KIGI2Xj7qX
 zYoRmk9pjNoLNbfuQFlPgFdjE0xC3WbiKFQjTUugk3fQ/l4BIY7YApAMvs6H4l16pMh3
 6Ykwwx3LLYiKbIpkicYJruZVH+57h3B3vLTQlyoibTcjQz64LI8MW2ovjSGKAMbyloY/
 UcBSnRLQisfDJ0OrIQUQMGZioFJrBqkdKcsvdzJXXKP+DDBHugRynWBdNgJlK656Y8n5
 JNUFQXJfEr0FHNVhBYDXJPy8insJs20B2Y2TeUDhhPURP1sh46m8IIS4LKIQdSOGG1uT
 5PZA==
X-Gm-Message-State: AOJu0YxBEbZ4ke2vaw3D3SMg9i5uT0v84mqScxXzG/clZxqS9CxqLx0J
 dWLZ6ZJ//8oc9TFOfHe/f1rkbw6qtqpfU9gCz4oJ/ApTAZTDRPPtLO2USfUT2N8HyvNY7xsyxA=
 =
X-Google-Smtp-Source: AGHT+IHTwZIUaFPb4ybzm/jOI5xyu/8SH+mAkwr9UE6Hg3pnWk3TCwToojvBRMO1gOS2yP9qO6PlIuBFPnQU
X-Received: by 2002:a81:8145:0:b0:5d7:1940:f3e9 with SMTP id
 r66-20020a818145000000b005d71940f3e9mr4921602ywf.81.1702334098408; 
 Mon, 11 Dec 2023 14:34:58 -0800 (PST)
Received: from postal.iol.unh.edu (postal.iol.unh.edu.
 [2606:4100:3880:1234::84]) by smtp-relay.gmail.com with ESMTPS id
 p194-20020a0de6cb000000b005d40b29498dsm1176816ywe.54.2023.12.11.14.34.58
 (version=TLS1_2 cipher=ECDHE-ECDSA-AES128-GCM-SHA256 bits=128/128);
 Mon, 11 Dec 2023 14:34:58 -0800 (PST)
X-Relaying-Domain: iol.unh.edu
Date: Mon, 11 Dec 2023 14:34:58 -0800 (PST)
Message-ID: <65778e92.0d0a0220.ba66a.43fcSMTPIN_ADDED_MISSING@mx.google.com>
Received: from [172.21.0.2] (unknown [172.18.0.240])
 by postal.iol.unh.edu (Postfix) with ESMTP id F3B2B605C311;
 Mon, 11 Dec 2023 17:34:57 -0500 (EST)
Subject: |SUCCESS| pw135045 [PATCH] cryptodev: convert to dynamic logtype
From: dpdklab@iol.unh.edu
To: Test Report <test-report@dpdk.org>
Cc: dpdk-test-reports@iol.unh.edu
Content-Type: text/plain
X-BeenThere: test-report@dpdk.org
X-Mailman-Version: 2.1.29
Precedence: list
List-Id: automatic DPDK test reports <test-report.dpdk.org>
List-Unsubscribe: <https://mails.dpdk.org/options/test-report>,
 <mailto:test-report-request@dpdk.org?subject=unsubscribe>
List-Archive: <http://mails.dpdk.org/archives/test-report/>
List-Post: <mailto:test-report@dpdk.org>
List-Help: <mailto:test-report-request@dpdk.org?subject=help>
List-Subscribe: <https://mails.dpdk.org/listinfo/test-report>,
 <mailto:test-report-request@dpdk.org?subject=subscribe>
Errors-To: test-report-bounces@dpdk.org

Test-Label: iol-compile-amd64-testing
Test-Status: SUCCESS
http://dpdk.org/patch/135045

_Testing PASS_

Submitter: Stephen Hemminger <stephen@networkplumber.org>
Date: Monday, December 11 2023 20:17:32 
DPDK git baseline: Repo:dpdk
  Branch: master
  CommitID:f2d5afbb2c05d7647da7ea914887c52115652651

135045 --> testing pass

Test environment and result as below:

+---------------------+--------------------+----------------------+
|     Environment     | dpdk_meson_compile | dpdk_mingw64_compile |
+=====================+====================+======================+
| Windows Server 2022 | PASS               | SKIPPED              |
+---------------------+--------------------+----------------------+
| FreeBSD 13          | PASS               | SKIPPED              |
+---------------------+--------------------+----------------------+
| Windows Server 2019 | PASS               | PASS                 |
+---------------------+--------------------+----------------------+
| CentOS Stream 8     | PASS               | SKIPPED              |
+---------------------+--------------------+----------------------+
| Debian Buster       | PASS               | SKIPPED              |
+---------------------+--------------------+----------------------+
| Debian Bullseye     | PASS               | SKIPPED              |
+---------------------+--------------------+----------------------+
| CentOS Stream 9     | PASS               | SKIPPED              |
+---------------------+--------------------+----------------------+
| Fedora 37           | PASS               | SKIPPED              |
+---------------------+--------------------+----------------------+
| RHEL8               | PASS               | SKIPPED              |
+---------------------+--------------------+----------------------+
| Fedora 38           | PASS               | SKIPPED              |
+---------------------+--------------------+----------------------+
| openSUSE Leap 15    | PASS               | SKIPPED              |
+---------------------+--------------------+----------------------+
| Ubuntu 22.04        | PASS               | SKIPPED              |
+---------------------+--------------------+----------------------+
| Ubuntu 20.04        | PASS               | SKIPPED              |
+---------------------+--------------------+----------------------+
| Alpine              | PASS               | SKIPPED              |
+---------------------+--------------------+----------------------+


Windows Server 2022
	Kernel: OS Build 20348.2031
	Compiler: MSVC VS-Preview

FreeBSD 13
	Kernel: 13.0
	Compiler: clang 11.0.1

Windows Server 2019
	Kernel: 10.0
	Compiler: clang 14.0 and gcc 8.1.0 (MinGW)

CentOS Stream 8
	Kernel: 4.18.0-240.10.1.el8_3.x86_64
	Compiler: gcc 8.4.1 20200928

Debian Buster
	Kernel: 5.4.0-122-generic
	Compiler: gcc 8.3.0-6

Debian Bullseye
	Kernel: 5.4.0-122-generic
	Compiler: gcc 10.2.1-6

CentOS Stream 9
	Kernel: 4.18.0-240.10.1.el8_3.x86_64
	Compiler: gcc 11.3.1 20220421

Fedora 37
	Kernel: Depends on container host system
	Compiler: gcc 12.3.1

RHEL8
	Kernel: 4.18.0-240.10.1.el8_3.x86_64
	Compiler: gcc 8.3.1 20191121 (Red Hat 8.3.1-5)

Fedora 38
	Kernel: Depends on container host
	Compiler: gcc 13.1.1

openSUSE Leap 15
	Kernel: 4.18.0-240.10.1.el8_3.x86_64
	Compiler: gcc 7.5.0

Ubuntu 22.04
	Kernel: 4.18.0-240.10.1.el8_3.x86_64
	Compiler: gcc 11.3.0

Ubuntu 20.04
	Kernel: 5.4.0-153-generic
	Compiler: gcc 9.4.0-1ubuntu1~20.04.1

Alpine
	Kernel: 5.4.0-73-generic
	Compiler: gcc (Alpine 10.3.1_git20210424) 10.3.1 20210424

To view detailed results, visit:
https://lab.dpdk.org/results/dashboard/patchsets/28589/

UNH-IOL DPDK Community Lab

To manage your email subscriptions, visit: 
https://lab.dpdk.org/results/dashboard/preferences/subscriptions/