From mboxrd@z Thu Jan  1 00:00:00 1970
Return-Path: <test-report-bounces@dpdk.org>
Received: from mails.dpdk.org (mails.dpdk.org [217.70.189.124])
	by inbox.dpdk.org (Postfix) with ESMTP id F11F7436D4
	for <public@inbox.dpdk.org>; Tue, 12 Dec 2023 19:50:05 +0100 (CET)
Received: from mails.dpdk.org (localhost [127.0.0.1])
	by mails.dpdk.org (Postfix) with ESMTP id EC01542E63;
	Tue, 12 Dec 2023 19:50:05 +0100 (CET)
Received: from mail-qv1-f99.google.com (mail-qv1-f99.google.com
 [209.85.219.99]) by mails.dpdk.org (Postfix) with ESMTP id 492A742E4F
 for <test-report@dpdk.org>; Tue, 12 Dec 2023 19:50:04 +0100 (CET)
Received: by mail-qv1-f99.google.com with SMTP id
 6a1803df08f44-67aa9a99915so39129826d6.3
 for <test-report@dpdk.org>; Tue, 12 Dec 2023 10:50:04 -0800 (PST)
DKIM-Signature: v=1; a=rsa-sha256; c=relaxed/relaxed;
 d=iol.unh.edu; s=unh-iol; t=1702407003; x=1703011803; darn=dpdk.org;
 h=cc:to:from:subject:message-id:date:from:to:cc:subject:date
 :message-id:reply-to;
 bh=eeyclN7VdoXKsOrfeL0clst+OEg8MoSWBUdQeaPglys=;
 b=ApNaEZfw+5VKkiWIHWApH4eC5eAjBCtO8MRtABFlJQCtKI8gZgCTuaWMMtt0t545T+
 JwHU9ywyskeZP5Gn1yjv/ZT8ahzYV9l0Q9XyTrV4A624mo9FTu+8/704U8e+mkqHf7Ht
 zbe92/E9InjDEHderB5eFzsiFG/PcNFK++dFI=
X-Google-DKIM-Signature: v=1; a=rsa-sha256; c=relaxed/relaxed;
 d=1e100.net; s=20230601; t=1702407003; x=1703011803;
 h=cc:to:from:subject:message-id:date:x-gm-message-state:from:to:cc
 :subject:date:message-id:reply-to;
 bh=eeyclN7VdoXKsOrfeL0clst+OEg8MoSWBUdQeaPglys=;
 b=myKqqaFyPwSLgF36RemD2cKd/7BJuNTpvHli6IaMcd9JWl/04tKrd0sKDhf0zQyUI2
 /28WpntVvcftayMiMkxrsdazAd27Se8eoiMDrY8nuByig+/i9EJBntRljOS/asnklh6Z
 ocK6wPI9Je6ym8TANRTaEzYICUWSC7hr1W69vQyuwXNZJ0Y0bCIxLCRTjoeoh4s6Y/Ju
 DbPtybLv5FZsJw2BxS+qN8Y1HH9dwi5pDsMJJ0G7knv3myY862GNUs7pcDxY1QCulNWl
 GU9BrfB/TqR7mGPwyG2PUTvJtvICl+klQAM0t2CL22ou+bboBJKvx2NQkGVyINbE/6Ki
 6luA==
X-Gm-Message-State: AOJu0YwUUlDeI5uuPcUCpj9bs0NDr/PDvdws7lMHSTLLpAPUTsMfqYFj
 +nc3YWQ3J2Yx+wINvQrg1mfdHWtBJUhY1iI/pL+dXLXoRW4J8YT35JZvGw==
X-Google-Smtp-Source: AGHT+IEwlbI9Qifk+ZlC5x02n6rP7qulLE/3tz+FN3UQf5QC16S3pP2HqdDaPMtYpyR4dYPYnoSQkezlpA2X
X-Received: by 2002:a05:6214:16c9:b0:67e:aa84:b08b with SMTP id
 d9-20020a05621416c900b0067eaa84b08bmr7685262qvz.8.1702407003678; 
 Tue, 12 Dec 2023 10:50:03 -0800 (PST)
Received: from postal.iol.unh.edu (postal.iol.unh.edu. [132.177.123.84])
 by smtp-relay.gmail.com with ESMTPS id
 j15-20020a056214032f00b0067acc24b2e3sm745511qvu.20.2023.12.12.10.50.03
 (version=TLS1_2 cipher=ECDHE-ECDSA-AES128-GCM-SHA256 bits=128/128);
 Tue, 12 Dec 2023 10:50:03 -0800 (PST)
X-Relaying-Domain: iol.unh.edu
Date: Tue, 12 Dec 2023 10:50:03 -0800 (PST)
Message-ID: <6578ab5b.050a0220.76208.660aSMTPIN_ADDED_MISSING@mx.google.com>
Received: from [172.21.0.2] (unknown [172.18.0.240])
 by postal.iol.unh.edu (Postfix) with ESMTP id 6903B605C311;
 Tue, 12 Dec 2023 13:50:03 -0500 (EST)
Subject: |SUCCESS| pw135071 [PATCH] cryptodev: remove unused extern
From: dpdklab@iol.unh.edu
To: Test Report <test-report@dpdk.org>
Cc: dpdk-test-reports@iol.unh.edu, Akhil Goyal <gakhil@marvell.com>
Content-Type: text/plain
X-BeenThere: test-report@dpdk.org
X-Mailman-Version: 2.1.29
Precedence: list
List-Id: automatic DPDK test reports <test-report.dpdk.org>
List-Unsubscribe: <https://mails.dpdk.org/options/test-report>,
 <mailto:test-report-request@dpdk.org?subject=unsubscribe>
List-Archive: <http://mails.dpdk.org/archives/test-report/>
List-Post: <mailto:test-report@dpdk.org>
List-Help: <mailto:test-report-request@dpdk.org?subject=help>
List-Subscribe: <https://mails.dpdk.org/listinfo/test-report>,
 <mailto:test-report-request@dpdk.org?subject=subscribe>
Errors-To: test-report-bounces@dpdk.org

Test-Label: iol-abi-testing
Test-Status: SUCCESS
http://dpdk.org/patch/135071

_Testing PASS_

Submitter: Stephen Hemminger <stephen@networkplumber.org>
Date: Tuesday, December 12 2023 16:31:04 
DPDK git baseline: Repo:dpdk-next-crypto
  Branch: master
  CommitID:c858f006d1f7161986c88847259a400d8f80d81b

135071 --> testing pass

Test environment and result as below:

+------------------+----------+
|   Environment    | abi_test |
+==================+==========+
| openSUSE Leap 15 | PASS     |
+------------------+----------+
| Fedora 38        | PASS     |
+------------------+----------+
| RHEL8            | PASS     |
+------------------+----------+
| Ubuntu 22.04     | PASS     |
+------------------+----------+
| Debian Bullseye  | PASS     |
+------------------+----------+
| Debian Buster    | PASS     |
+------------------+----------+
| CentOS Stream 8  | PASS     |
+------------------+----------+
| CentOS Stream 9  | PASS     |
+------------------+----------+
| Fedora 37        | PASS     |
+------------------+----------+


openSUSE Leap 15
	Kernel: 4.18.0-240.10.1.el8_3.x86_64
	Compiler: gcc 7.5.0

Fedora 38
	Kernel: Depends on container host
	Compiler: clang 16.0.3

RHEL8
	Kernel: 4.18.0-240.10.1.el8_3.x86_64
	Compiler: gcc 8.3.1 20191121 (Red Hat 8.3.1-5)

Ubuntu 22.04
	Kernel: 4.18.0-240.10.1.el8_3.x86_64
	Compiler: gcc 11.3.0

Debian Bullseye
	Kernel: 5.4.0-122-generic
	Compiler: gcc 10.2.1-6

Debian Buster
	Kernel: 5.4.0-122-generic
	Compiler: gcc 8.3.0-6

CentOS Stream 8
	Kernel: 4.18.0-240.10.1.el8_3.x86_64
	Compiler: gcc 8.4.1 20200928

CentOS Stream 9
	Kernel: 4.18.0-240.10.1.el8_3.x86_64
	Compiler: gcc 11.3.1 20220421

Fedora 37
	Kernel: Depends on container host system
	Compiler: gcc 12.3.1

To view detailed results, visit:
https://lab.dpdk.org/results/dashboard/patchsets/28599/

UNH-IOL DPDK Community Lab

To manage your email subscriptions, visit: 
https://lab.dpdk.org/results/dashboard/preferences/subscriptions/