From mboxrd@z Thu Jan  1 00:00:00 1970
Return-Path: <test-report-bounces@dpdk.org>
Received: from mails.dpdk.org (mails.dpdk.org [217.70.189.124])
	by inbox.dpdk.org (Postfix) with ESMTP id DAC0B436D5
	for <public@inbox.dpdk.org>; Tue, 12 Dec 2023 20:03:37 +0100 (CET)
Received: from mails.dpdk.org (localhost [127.0.0.1])
	by mails.dpdk.org (Postfix) with ESMTP id D32A642E63;
	Tue, 12 Dec 2023 20:03:37 +0100 (CET)
Received: from mail-qv1-f99.google.com (mail-qv1-f99.google.com
 [209.85.219.99]) by mails.dpdk.org (Postfix) with ESMTP id 563C342E4F
 for <test-report@dpdk.org>; Tue, 12 Dec 2023 20:03:36 +0100 (CET)
Received: by mail-qv1-f99.google.com with SMTP id
 6a1803df08f44-67a9febb2bfso42683846d6.1
 for <test-report@dpdk.org>; Tue, 12 Dec 2023 11:03:36 -0800 (PST)
DKIM-Signature: v=1; a=rsa-sha256; c=relaxed/relaxed;
 d=iol.unh.edu; s=unh-iol; t=1702407815; x=1703012615; darn=dpdk.org;
 h=cc:to:from:subject:message-id:date:from:to:cc:subject:date
 :message-id:reply-to;
 bh=eeyclN7VdoXKsOrfeL0clst+OEg8MoSWBUdQeaPglys=;
 b=ZOSX30UZz7AIi7qdgTPT61vPoaBpmrZn3RyNhGUVE+5+mNKJ3WZsL3+r8kVxCYk0va
 qOmLwEh1gQTbOgOzAKueHcNRAFi5eyZ6fsr2GiVLwqWOBmjxIRwLv2suuZ5JULm/LCe5
 C60rQ6YyQ3XbySbRefvzrTEK5QmNk/fW1J4f0=
X-Google-DKIM-Signature: v=1; a=rsa-sha256; c=relaxed/relaxed;
 d=1e100.net; s=20230601; t=1702407815; x=1703012615;
 h=cc:to:from:subject:message-id:date:x-gm-message-state:from:to:cc
 :subject:date:message-id:reply-to;
 bh=eeyclN7VdoXKsOrfeL0clst+OEg8MoSWBUdQeaPglys=;
 b=XQzbdlu2Q/Te4v2dwHu2GY1Lkie6p+oHv4FR3MF4YcjdSTuMMT6u9C2BXK16Domous
 1BDjBt5VYLAq+E95bntlt4SDSU2vz0FMFtPGcPYD50gEXITfLdjgQ2wVn08q0JvqfRPM
 Dd2yh9GZfHDGGZTj+RxKD03oURJTdOM6A0RrOGodcgzeY17W9Q6VUhFWtHdQSYNDJ2Jb
 k+B+YcWZ8dXi7jSqesZtNTxWv93vxyndGTaDhi8babPY4LZYtqogi3Hdgo3iLqQfJ6nb
 QlhjNad3ABtmDDFsQeeTBIQbAw0hs3A1rL9d9RhEbuhplbg1+QUivHkYTE7RwmxCBCln
 X2EA==
X-Gm-Message-State: AOJu0YwLMAfzeCNk+ldLVx0sGMuNE3hj1HVUJqGNPypmpXDmXFdyKrCw
 ub49D7KkRAY+JPCVNbvpvAjP2WHZ7VBCOEj9P0trrL1UCsoSH82qQzAdMaxmfi+b6dEqWdkGRQ=
 =
X-Google-Smtp-Source: AGHT+IFI7zizOviQoUtfK3lgntiP6nLg+JDxglnsoVBG/HoMHh8ds2bGzV9MHCySEK7f7R8cjQhL5wYD0TZr
X-Received: by 2002:a0c:f6c5:0:b0:67e:ec56:4213 with SMTP id
 d5-20020a0cf6c5000000b0067eec564213mr1186107qvo.45.1702407815781; 
 Tue, 12 Dec 2023 11:03:35 -0800 (PST)
Received: from postal.iol.unh.edu (postal.iol.unh.edu.
 [2606:4100:3880:1234::84]) by smtp-relay.gmail.com with ESMTPS id
 n13-20020a0ce94d000000b0067ef0cb57e6sm69156qvo.22.2023.12.12.11.03.35
 (version=TLS1_2 cipher=ECDHE-ECDSA-AES128-GCM-SHA256 bits=128/128);
 Tue, 12 Dec 2023 11:03:35 -0800 (PST)
X-Relaying-Domain: iol.unh.edu
Date: Tue, 12 Dec 2023 11:03:35 -0800 (PST)
Message-ID: <6578ae87.0c0a0220.1679b.1f8bSMTPIN_ADDED_MISSING@mx.google.com>
Received: from [172.21.0.2] (unknown [172.18.0.240])
 by postal.iol.unh.edu (Postfix) with ESMTP id 424A8605C311;
 Tue, 12 Dec 2023 14:03:35 -0500 (EST)
Subject: |SUCCESS| pw135071 [PATCH] cryptodev: remove unused extern
From: dpdklab@iol.unh.edu
To: Test Report <test-report@dpdk.org>
Cc: dpdk-test-reports@iol.unh.edu, Akhil Goyal <gakhil@marvell.com>
Content-Type: text/plain
X-BeenThere: test-report@dpdk.org
X-Mailman-Version: 2.1.29
Precedence: list
List-Id: automatic DPDK test reports <test-report.dpdk.org>
List-Unsubscribe: <https://mails.dpdk.org/options/test-report>,
 <mailto:test-report-request@dpdk.org?subject=unsubscribe>
List-Archive: <http://mails.dpdk.org/archives/test-report/>
List-Post: <mailto:test-report@dpdk.org>
List-Help: <mailto:test-report-request@dpdk.org?subject=help>
List-Subscribe: <https://mails.dpdk.org/listinfo/test-report>,
 <mailto:test-report-request@dpdk.org?subject=subscribe>
Errors-To: test-report-bounces@dpdk.org

Test-Label: iol-abi-testing
Test-Status: SUCCESS
http://dpdk.org/patch/135071

_Testing PASS_

Submitter: Stephen Hemminger <stephen@networkplumber.org>
Date: Tuesday, December 12 2023 16:31:04 
DPDK git baseline: Repo:dpdk-next-crypto
  Branch: master
  CommitID:c858f006d1f7161986c88847259a400d8f80d81b

135071 --> testing pass

Test environment and result as below:

+------------------+----------+
|   Environment    | abi_test |
+==================+==========+
| openSUSE Leap 15 | PASS     |
+------------------+----------+
| Fedora 38        | PASS     |
+------------------+----------+
| RHEL8            | PASS     |
+------------------+----------+
| Ubuntu 22.04     | PASS     |
+------------------+----------+
| Debian Bullseye  | PASS     |
+------------------+----------+
| Debian Buster    | PASS     |
+------------------+----------+
| CentOS Stream 8  | PASS     |
+------------------+----------+
| CentOS Stream 9  | PASS     |
+------------------+----------+
| Fedora 37        | PASS     |
+------------------+----------+


openSUSE Leap 15
	Kernel: 4.18.0-240.10.1.el8_3.x86_64
	Compiler: gcc 7.5.0

Fedora 38
	Kernel: Depends on container host
	Compiler: clang 16.0.3

RHEL8
	Kernel: 4.18.0-240.10.1.el8_3.x86_64
	Compiler: gcc 8.3.1 20191121 (Red Hat 8.3.1-5)

Ubuntu 22.04
	Kernel: 4.18.0-240.10.1.el8_3.x86_64
	Compiler: gcc 11.3.0

Debian Bullseye
	Kernel: 5.4.0-122-generic
	Compiler: gcc 10.2.1-6

Debian Buster
	Kernel: 5.4.0-122-generic
	Compiler: gcc 8.3.0-6

CentOS Stream 8
	Kernel: 4.18.0-240.10.1.el8_3.x86_64
	Compiler: gcc 8.4.1 20200928

CentOS Stream 9
	Kernel: 4.18.0-240.10.1.el8_3.x86_64
	Compiler: gcc 11.3.1 20220421

Fedora 37
	Kernel: Depends on container host system
	Compiler: gcc 12.3.1

To view detailed results, visit:
https://lab.dpdk.org/results/dashboard/patchsets/28599/

UNH-IOL DPDK Community Lab

To manage your email subscriptions, visit: 
https://lab.dpdk.org/results/dashboard/preferences/subscriptions/