From mboxrd@z Thu Jan  1 00:00:00 1970
Return-Path: <test-report-bounces@dpdk.org>
Received: from mails.dpdk.org (mails.dpdk.org [217.70.189.124])
	by inbox.dpdk.org (Postfix) with ESMTP id 3FFA8436D5
	for <public@inbox.dpdk.org>; Tue, 12 Dec 2023 20:10:04 +0100 (CET)
Received: from mails.dpdk.org (localhost [127.0.0.1])
	by mails.dpdk.org (Postfix) with ESMTP id 3AEA542E64;
	Tue, 12 Dec 2023 20:10:04 +0100 (CET)
Received: from mail-il1-f227.google.com (mail-il1-f227.google.com
 [209.85.166.227])
 by mails.dpdk.org (Postfix) with ESMTP id ACF6542E63
 for <test-report@dpdk.org>; Tue, 12 Dec 2023 20:10:03 +0100 (CET)
Received: by mail-il1-f227.google.com with SMTP id
 e9e14a558f8ab-35d72bc5cf2so24310345ab.1
 for <test-report@dpdk.org>; Tue, 12 Dec 2023 11:10:03 -0800 (PST)
DKIM-Signature: v=1; a=rsa-sha256; c=relaxed/relaxed;
 d=iol.unh.edu; s=unh-iol; t=1702408203; x=1703013003; darn=dpdk.org;
 h=cc:to:from:subject:message-id:date:from:to:cc:subject:date
 :message-id:reply-to;
 bh=3kofACr1w1S/NXlNlj+leycu4eH3VZFtARjDp2EvGUc=;
 b=LZ0Zv9vHX9Z7BqG9bdW8TwEeei5nNWAvEwIe5hKLGyvdhEx570Bo6pAhEoBbTgfuBB
 +tdpGyKPyLXClCCQTRT7BMdQ/dfn6x7OdGcRxollHHtTrNwKj28ufUqOflWtVic6ZASm
 9hTWSwlqo+xpxI7EMFpMyFsU01Ac6bLU8e63s=
X-Google-DKIM-Signature: v=1; a=rsa-sha256; c=relaxed/relaxed;
 d=1e100.net; s=20230601; t=1702408203; x=1703013003;
 h=cc:to:from:subject:message-id:date:x-gm-message-state:from:to:cc
 :subject:date:message-id:reply-to;
 bh=3kofACr1w1S/NXlNlj+leycu4eH3VZFtARjDp2EvGUc=;
 b=g+8pVcodCzm4J07lnYX/Tnfvrh/CUmMSOkgTBkoZjLLEYwOre0ZV8hnmLxfmHtw+KS
 tqX+eHPpCe9y/RnsYBgUohA4Hmv9bhTiXQwUcI/RW3gBNSej8jXdv7/bbiuNgSYCQv5Y
 KzcmHYoxfDoq1WR+5ZgFbDfRo4OV8HdBxEB8cFcAOZXX2QwRjG3O50d+vDO+GxVGA1JF
 xCunL0WX9XBs9O5j+l/JTFheTK6c7x3qNUamjLYGx/A6yvXVrpiEt02S3oVuSe+IuIQF
 lCmKp0J0cHqWLC/XTveQS+MDMsJoQhJHs4xQs5u4pKNBUwfjPkmU5PVUsGPnNc/Z2qQo
 sRrg==
X-Gm-Message-State: AOJu0YzPSVD7od6+BYO6BdBBifceLxJw1C9LRfz68LxMkz1qd4kR9DTJ
 RL8Gy4DXrfBu04ywlvhNsXJ1UHOvRneU4Zu09KO4msQtdA0heFrlvOnueA==
X-Google-Smtp-Source: AGHT+IGjKDVFf8xfBEDsH3lahKDYxKXI+jpev1T53wQxsNKUigERrg94EENFRSaqabrBhsQ0XKngxstGHcSw
X-Received: by 2002:a05:6e02:214b:b0:35d:a0c8:5d85 with SMTP id
 d11-20020a056e02214b00b0035da0c85d85mr11288446ilv.5.1702408203061; 
 Tue, 12 Dec 2023 11:10:03 -0800 (PST)
Received: from postal.iol.unh.edu (postal.iol.unh.edu. [132.177.123.84])
 by smtp-relay.gmail.com with ESMTPS id
 d13-20020a056e02214d00b0035d25366fe9sm874257ilv.63.2023.12.12.11.10.02
 (version=TLS1_2 cipher=ECDHE-ECDSA-AES128-GCM-SHA256 bits=128/128);
 Tue, 12 Dec 2023 11:10:03 -0800 (PST)
X-Relaying-Domain: iol.unh.edu
Date: Tue, 12 Dec 2023 11:10:03 -0800 (PST)
Message-ID: <6578b00b.050a0220.1cf6f.aae9SMTPIN_ADDED_MISSING@mx.google.com>
Received: from [172.21.0.2] (unknown [172.18.0.240])
 by postal.iol.unh.edu (Postfix) with ESMTP id 9659B605C311;
 Tue, 12 Dec 2023 14:10:02 -0500 (EST)
Subject: |SUCCESS| pw135071 [PATCH] cryptodev: remove unused extern
From: dpdklab@iol.unh.edu
To: Test Report <test-report@dpdk.org>
Cc: dpdk-test-reports@iol.unh.edu, Akhil Goyal <gakhil@marvell.com>
Content-Type: text/plain
X-BeenThere: test-report@dpdk.org
X-Mailman-Version: 2.1.29
Precedence: list
List-Id: automatic DPDK test reports <test-report.dpdk.org>
List-Unsubscribe: <https://mails.dpdk.org/options/test-report>,
 <mailto:test-report-request@dpdk.org?subject=unsubscribe>
List-Archive: <http://mails.dpdk.org/archives/test-report/>
List-Post: <mailto:test-report@dpdk.org>
List-Help: <mailto:test-report-request@dpdk.org?subject=help>
List-Subscribe: <https://mails.dpdk.org/listinfo/test-report>,
 <mailto:test-report-request@dpdk.org?subject=subscribe>
Errors-To: test-report-bounces@dpdk.org

Test-Label: iol-unit-arm64-testing
Test-Status: SUCCESS
http://dpdk.org/patch/135071

_Testing PASS_

Submitter: Stephen Hemminger <stephen@networkplumber.org>
Date: Tuesday, December 12 2023 16:31:04 
DPDK git baseline: Repo:dpdk-next-crypto
  Branch: master
  CommitID:c858f006d1f7161986c88847259a400d8f80d81b

135071 --> testing pass

Test environment and result as below:

+--------------------------+---------------------------+------------------------------+----------------+--------------+
|       Environment        | cryptodev_sw_zuc_autotest | cryptodev_sw_snow3g_autotest | dpdk_unit_test | lpm_autotest |
+==========================+===========================+==============================+================+==============+
| Debian 11 (arm)          | PASS                      | PASS                         | SKIPPED        | SKIPPED      |
+--------------------------+---------------------------+------------------------------+----------------+--------------+
| CentOS Stream 9 (ARM)    | SKIPPED                   | SKIPPED                      | PASS           | SKIPPED      |
+--------------------------+---------------------------+------------------------------+----------------+--------------+
| Fedora 38 (ARM)          | SKIPPED                   | SKIPPED                      | PASS           | SKIPPED      |
+--------------------------+---------------------------+------------------------------+----------------+--------------+
| Debian 11 (Buster) (ARM) | SKIPPED                   | SKIPPED                      | PASS           | SKIPPED      |
+--------------------------+---------------------------+------------------------------+----------------+--------------+
| Ubuntu 20.04 (ARM)       | SKIPPED                   | SKIPPED                      | PASS           | SKIPPED      |
+--------------------------+---------------------------+------------------------------+----------------+--------------+
| Fedora 38 (ARM Clang)    | SKIPPED                   | SKIPPED                      | PASS           | SKIPPED      |
+--------------------------+---------------------------+------------------------------+----------------+--------------+
| Fedora 37 (ARM)          | SKIPPED                   | SKIPPED                      | PASS           | SKIPPED      |
+--------------------------+---------------------------+------------------------------+----------------+--------------+
| Ubuntu 20.04 ARM SVE     | SKIPPED                   | SKIPPED                      | SKIPPED        | PASS         |
+--------------------------+---------------------------+------------------------------+----------------+--------------+


Debian 11 (arm)
	Kernel: Container Host Kernel
	Compiler: gcc 10.2.1

CentOS Stream 9 (ARM)
	Kernel: Container Host Kernel
	Compiler: gcc 11.3.1

Fedora 38 (ARM)
	Kernel: Depends on container host
	Compiler: gcc 13.1.1

Debian 11 (Buster) (ARM)
	Kernel: Container Host Kernel
	Compiler: gcc 10.2.1

Ubuntu 20.04 (ARM)
	Kernel: Container Host Kernel
	Compiler: gcc 9.4.0

Fedora 38 (ARM Clang)
	Kernel: Depends on container host
	Compiler: clang 16.0.3

Fedora 37 (ARM)
	Kernel: Depends on container host
	Compiler: gcc 12.3.1

Ubuntu 20.04 ARM SVE
	Kernel: 5.4.0-80-generic
	Compiler: gcc 10.3.0 (Ubuntu 10.3.0-1ubuntu1~20.04)

To view detailed results, visit:
https://lab.dpdk.org/results/dashboard/patchsets/28599/

UNH-IOL DPDK Community Lab

To manage your email subscriptions, visit: 
https://lab.dpdk.org/results/dashboard/preferences/subscriptions/