From mboxrd@z Thu Jan  1 00:00:00 1970
Return-Path: <test-report-bounces@dpdk.org>
Received: from mails.dpdk.org (mails.dpdk.org [217.70.189.124])
	by inbox.dpdk.org (Postfix) with ESMTP id 940BB436D5
	for <public@inbox.dpdk.org>; Tue, 12 Dec 2023 20:23:17 +0100 (CET)
Received: from mails.dpdk.org (localhost [127.0.0.1])
	by mails.dpdk.org (Postfix) with ESMTP id 8F53842E64;
	Tue, 12 Dec 2023 20:23:17 +0100 (CET)
Received: from mail-pl1-f227.google.com (mail-pl1-f227.google.com
 [209.85.214.227])
 by mails.dpdk.org (Postfix) with ESMTP id 5874042E63
 for <test-report@dpdk.org>; Tue, 12 Dec 2023 20:23:16 +0100 (CET)
Received: by mail-pl1-f227.google.com with SMTP id
 d9443c01a7336-1d32c5ce32eso14437685ad.0
 for <test-report@dpdk.org>; Tue, 12 Dec 2023 11:23:16 -0800 (PST)
DKIM-Signature: v=1; a=rsa-sha256; c=relaxed/relaxed;
 d=iol.unh.edu; s=unh-iol; t=1702408995; x=1703013795; darn=dpdk.org;
 h=cc:to:from:subject:message-id:date:from:to:cc:subject:date
 :message-id:reply-to;
 bh=fN8JXWHwK+F+MxWBmjk7ozPsgwlLh6nfV/AWrOwam7w=;
 b=BBb/fUgF3jrn062jZ1wuu3Ayglu9Wzyn80EzuiUtptGa0xI1uTYsfQrk8cPuG1ZOhl
 1KJl0pGQoxAAW3W41pL45xC9gxHGhdPw6t4sejRo1VHdhFbo3uPtbp11rMnJJWhQg1KA
 U82F6lIZHEZTsyiOABbRgH7S/Jt5rDcbeO7Tw=
X-Google-DKIM-Signature: v=1; a=rsa-sha256; c=relaxed/relaxed;
 d=1e100.net; s=20230601; t=1702408995; x=1703013795;
 h=cc:to:from:subject:message-id:date:x-gm-message-state:from:to:cc
 :subject:date:message-id:reply-to;
 bh=fN8JXWHwK+F+MxWBmjk7ozPsgwlLh6nfV/AWrOwam7w=;
 b=BMGj90cKpWGHFzhMOtDe/srma3zeqWt6QWfJpB/GE15W0MkdrFO9RJIAXIJSUvzQoK
 HGx4krkxUFi+dqs0Fzty6bk+DqUzciHduWJGDwjJCXmXTUSxa6vVgcQ9AoQsLuEbCir/
 alJXBbb5/eFim7Cx74tEPafE7t2apv+Tl+7SD/ofIHBSKGH0Kg1blZ6Z/zwdj1uRxmxI
 TOqxHKv14CXiqDt54zZlk2Ijh4K827wl6Zk5QFxO223OInhUhdngoghiA+A1bwsWxQ5f
 YhHxnj/uSeiLdZHWgaSAThmebMv+Alw50Bpe1ygF0FvgP2RFAZ5iUddLI6k3wo6/3130
 7/TQ==
X-Gm-Message-State: AOJu0YxTDyxrza0TCOcOM9mPYqdoCSoigSS9pe4sNSGRKi7WHRZPIlq4
 54QZkH9QbCjO9iak/jVQNKMc8qY2JfUEIZ8iTFML859CgkmaDeUfQreJYg==
X-Google-Smtp-Source: AGHT+IHHVAy9M0tXkhWNk2dEu8LCFbguulkaNl+5Svts8jTyr7RRW1aNzxpHCdM70tqPldslWZvFK1LDTUUg
X-Received: by 2002:a17:902:f684:b0:1cf:f353:6e5d with SMTP id
 l4-20020a170902f68400b001cff3536e5dmr8011098plg.19.1702408995657; 
 Tue, 12 Dec 2023 11:23:15 -0800 (PST)
Received: from postal.iol.unh.edu (postal.iol.unh.edu. [132.177.123.84])
 by smtp-relay.gmail.com with ESMTPS id
 jb22-20020a170903259600b001d03b889e55sm81636plb.48.2023.12.12.11.23.15
 (version=TLS1_2 cipher=ECDHE-ECDSA-AES128-GCM-SHA256 bits=128/128);
 Tue, 12 Dec 2023 11:23:15 -0800 (PST)
X-Relaying-Domain: iol.unh.edu
Date: Tue, 12 Dec 2023 11:23:15 -0800 (PST)
Message-ID: <6578b323.170a0220.37dfc.314eSMTPIN_ADDED_MISSING@mx.google.com>
Received: from [172.21.0.2] (unknown [172.18.0.240])
 by postal.iol.unh.edu (Postfix) with ESMTP id D3559605C311;
 Tue, 12 Dec 2023 14:23:14 -0500 (EST)
Subject: |SUCCESS| pw135071 [PATCH] cryptodev: remove unused extern
From: dpdklab@iol.unh.edu
To: Test Report <test-report@dpdk.org>
Cc: dpdk-test-reports@iol.unh.edu, Akhil Goyal <gakhil@marvell.com>
Content-Type: text/plain
X-BeenThere: test-report@dpdk.org
X-Mailman-Version: 2.1.29
Precedence: list
List-Id: automatic DPDK test reports <test-report.dpdk.org>
List-Unsubscribe: <https://mails.dpdk.org/options/test-report>,
 <mailto:test-report-request@dpdk.org?subject=unsubscribe>
List-Archive: <http://mails.dpdk.org/archives/test-report/>
List-Post: <mailto:test-report@dpdk.org>
List-Help: <mailto:test-report-request@dpdk.org?subject=help>
List-Subscribe: <https://mails.dpdk.org/listinfo/test-report>,
 <mailto:test-report-request@dpdk.org?subject=subscribe>
Errors-To: test-report-bounces@dpdk.org

Test-Label: iol-compile-amd64-testing
Test-Status: SUCCESS
http://dpdk.org/patch/135071

_Testing PASS_

Submitter: Stephen Hemminger <stephen@networkplumber.org>
Date: Tuesday, December 12 2023 16:31:04 
DPDK git baseline: Repo:dpdk-next-crypto
  Branch: master
  CommitID:c858f006d1f7161986c88847259a400d8f80d81b

135071 --> testing pass

Test environment and result as below:

+---------------------+--------------------+----------------------+
|     Environment     | dpdk_meson_compile | dpdk_mingw64_compile |
+=====================+====================+======================+
| Windows Server 2022 | PASS               | SKIPPED              |
+---------------------+--------------------+----------------------+
| FreeBSD 13          | PASS               | SKIPPED              |
+---------------------+--------------------+----------------------+
| Windows Server 2019 | PASS               | PASS                 |
+---------------------+--------------------+----------------------+
| Debian Buster       | PASS               | SKIPPED              |
+---------------------+--------------------+----------------------+
| CentOS Stream 8     | PASS               | SKIPPED              |
+---------------------+--------------------+----------------------+
| openSUSE Leap 15    | PASS               | SKIPPED              |
+---------------------+--------------------+----------------------+
| Debian Bullseye     | PASS               | SKIPPED              |
+---------------------+--------------------+----------------------+
| Fedora 37           | PASS               | SKIPPED              |
+---------------------+--------------------+----------------------+
| Fedora 38           | PASS               | SKIPPED              |
+---------------------+--------------------+----------------------+
| RHEL8               | PASS               | SKIPPED              |
+---------------------+--------------------+----------------------+
| Ubuntu 22.04        | PASS               | SKIPPED              |
+---------------------+--------------------+----------------------+


Windows Server 2022
	Kernel: OS Build 20348.2031
	Compiler: MSVC VS-Preview

FreeBSD 13
	Kernel: 13.0
	Compiler: clang 11.0.1

Windows Server 2019
	Kernel: 10.0
	Compiler: clang 14.0 and gcc 8.1.0 (MinGW)

Debian Buster
	Kernel: 5.4.0-122-generic
	Compiler: gcc 8.3.0-6

CentOS Stream 8
	Kernel: 4.18.0-240.10.1.el8_3.x86_64
	Compiler: gcc 8.4.1 20200928

openSUSE Leap 15
	Kernel: 4.18.0-240.10.1.el8_3.x86_64
	Compiler: gcc 7.5.0

Debian Bullseye
	Kernel: 5.4.0-122-generic
	Compiler: gcc 10.2.1-6

Fedora 37
	Kernel: Depends on container host system
	Compiler: gcc 12.3.1

Fedora 38
	Kernel: Depends on container host
	Compiler: clang 16.0.3

RHEL8
	Kernel: 4.18.0-240.10.1.el8_3.x86_64
	Compiler: gcc 8.3.1 20191121 (Red Hat 8.3.1-5)

Ubuntu 22.04
	Kernel: 4.18.0-240.10.1.el8_3.x86_64
	Compiler: gcc 11.3.0

To view detailed results, visit:
https://lab.dpdk.org/results/dashboard/patchsets/28599/

UNH-IOL DPDK Community Lab

To manage your email subscriptions, visit: 
https://lab.dpdk.org/results/dashboard/preferences/subscriptions/