From mboxrd@z Thu Jan  1 00:00:00 1970
Return-Path: <test-report-bounces@dpdk.org>
Received: from mails.dpdk.org (mails.dpdk.org [217.70.189.124])
	by inbox.dpdk.org (Postfix) with ESMTP id BB860436E8
	for <public@inbox.dpdk.org>; Thu, 14 Dec 2023 02:07:43 +0100 (CET)
Received: from mails.dpdk.org (localhost [127.0.0.1])
	by mails.dpdk.org (Postfix) with ESMTP id B7020402BC;
	Thu, 14 Dec 2023 02:07:43 +0100 (CET)
Received: from mail-yw1-f226.google.com (mail-yw1-f226.google.com
 [209.85.128.226])
 by mails.dpdk.org (Postfix) with ESMTP id CF3D140283
 for <test-report@dpdk.org>; Thu, 14 Dec 2023 02:07:42 +0100 (CET)
Received: by mail-yw1-f226.google.com with SMTP id
 00721157ae682-5d8ddcc433fso52735127b3.1
 for <test-report@dpdk.org>; Wed, 13 Dec 2023 17:07:42 -0800 (PST)
DKIM-Signature: v=1; a=rsa-sha256; c=relaxed/relaxed;
 d=iol.unh.edu; s=unh-iol; t=1702516062; x=1703120862; darn=dpdk.org;
 h=cc:to:from:subject:message-id:date:from:to:cc:subject:date
 :message-id:reply-to;
 bh=7xFweDURffUwMUJgKREPQUMpFnNrfWHnu3H+6b4MG1A=;
 b=d9t53ClFeS1bZsIzfMUjXTbkiJYzIqDBjJmqyGHMEXJOZj8BwnFP1v+ILb/Xs2dN5z
 8wpv1AGKrqcohW7nc68Bt5KLaBEEz6F3F6FzWripGMJSAZmxIEO0IaAmpnQWO2khwmL+
 MMW0n2hcMkHXL1qMry96Fkw1+IdpGuIB8vegQ=
X-Google-DKIM-Signature: v=1; a=rsa-sha256; c=relaxed/relaxed;
 d=1e100.net; s=20230601; t=1702516062; x=1703120862;
 h=cc:to:from:subject:message-id:date:x-gm-message-state:from:to:cc
 :subject:date:message-id:reply-to;
 bh=7xFweDURffUwMUJgKREPQUMpFnNrfWHnu3H+6b4MG1A=;
 b=IGO9y5SYDQXxOQSILEJZCNVYv/5hBHAAwm/5at/YuN2qxvKwmBEO3kw+dAJm9X0Yef
 GrdLIQXwSCjRmrwUOdFsIy2YS2/54zLgJnFjXMQi7f/gIeDl7US9eF6Ai+lvP0Zi5IOx
 cSAHgBtPWngKTTLr5QZJ2aI7mDtOEemuxpNORZT/nhILzwzDmDGr3Tc/ZLdAgMFJDUhP
 uUHfS5kYyfXA15HeGCVD2XAWOeTLdZ36Dgzk+xAtNSDB9JRYEZjJCclUWhF6UUcQf9Ug
 eVkh8viCtxDZnG2w3bRscgEfQL0ke1vg8WYVc3+wTj++2CLsIZt29XZ0OD8DWT8gCWBc
 PyzQ==
X-Gm-Message-State: AOJu0YyroL2+RLTnwV5fnaqp1vdS3+S8O7GM3nGwmiOi0V1xKQbIOW74
 omiIlFwhzzrBPt68E2Calb0qhl0hV2bMbjnFDBVMFm54qi6YII8/W9+M3HWiauUyfhdp5hlBPw=
 =
X-Google-Smtp-Source: AGHT+IGYKVVk56c46Wy9ZY28SKHz58KJIKwaOQYjW0K3NVN1dvVTvnq0qCI7w/b6TMWvbXiPwHEy/LW+w4iM
X-Received: by 2002:a0d:cb43:0:b0:5e1:b562:4ea8 with SMTP id
 n64-20020a0dcb43000000b005e1b5624ea8mr2397421ywd.72.1702516062208; 
 Wed, 13 Dec 2023 17:07:42 -0800 (PST)
Received: from postal.iol.unh.edu (postal.iol.unh.edu.
 [2606:4100:3880:1234::84]) by smtp-relay.gmail.com with ESMTPS id
 d62-20020a0df441000000b005d3e2e41281sm1596704ywf.50.2023.12.13.17.07.42
 (version=TLS1_2 cipher=ECDHE-ECDSA-AES128-GCM-SHA256 bits=128/128);
 Wed, 13 Dec 2023 17:07:42 -0800 (PST)
X-Relaying-Domain: iol.unh.edu
Date: Wed, 13 Dec 2023 17:07:42 -0800 (PST)
Message-ID: <657a555e.0d0a0220.3d065.47edSMTPIN_ADDED_MISSING@mx.google.com>
Received: from [172.21.0.2] (unknown [172.18.0.240])
 by postal.iol.unh.edu (Postfix) with ESMTP id E215F605C311;
 Wed, 13 Dec 2023 20:07:41 -0500 (EST)
Subject: |SUCCESS| pw135173 [PATCH] [v2] net/ice: fix link update
From: dpdklab@iol.unh.edu
To: Test Report <test-report@dpdk.org>
Cc: dpdk-test-reports@iol.unh.edu
Content-Type: text/plain
X-BeenThere: test-report@dpdk.org
X-Mailman-Version: 2.1.29
Precedence: list
List-Id: automatic DPDK test reports <test-report.dpdk.org>
List-Unsubscribe: <https://mails.dpdk.org/options/test-report>,
 <mailto:test-report-request@dpdk.org?subject=unsubscribe>
List-Archive: <http://mails.dpdk.org/archives/test-report/>
List-Post: <mailto:test-report@dpdk.org>
List-Help: <mailto:test-report-request@dpdk.org?subject=help>
List-Subscribe: <https://mails.dpdk.org/listinfo/test-report>,
 <mailto:test-report-request@dpdk.org?subject=subscribe>
Errors-To: test-report-bounces@dpdk.org

Test-Label: iol-compile-amd64-testing
Test-Status: SUCCESS
http://dpdk.org/patch/135173

_Testing PASS_

Submitter: Qi Zhang <qi.z.zhang@intel.com>
Date: Thursday, December 14 2023 08:40:54 
DPDK git baseline: Repo:dpdk
  Branch: master
  CommitID:f2d5afbb2c05d7647da7ea914887c52115652651

135173 --> testing pass

Test environment and result as below:

+---------------------+--------------------+----------------------+
|     Environment     | dpdk_meson_compile | dpdk_mingw64_compile |
+=====================+====================+======================+
| Windows Server 2022 | PASS               | SKIPPED              |
+---------------------+--------------------+----------------------+
| Debian Bullseye     | PASS               | SKIPPED              |
+---------------------+--------------------+----------------------+
| FreeBSD 13          | PASS               | SKIPPED              |
+---------------------+--------------------+----------------------+
| Windows Server 2019 | PASS               | PASS                 |
+---------------------+--------------------+----------------------+
| Fedora 38           | PASS               | SKIPPED              |
+---------------------+--------------------+----------------------+
| CentOS Stream 8     | PASS               | SKIPPED              |
+---------------------+--------------------+----------------------+
| Fedora 37           | PASS               | SKIPPED              |
+---------------------+--------------------+----------------------+
| CentOS Stream 9     | PASS               | SKIPPED              |
+---------------------+--------------------+----------------------+


Windows Server 2022
	Kernel: OS Build 20348.2031
	Compiler: MSVC VS-Preview

Debian Bullseye
	Kernel: 5.4.0-122-generic
	Compiler: gcc 10.2.1-6

FreeBSD 13
	Kernel: 13.0
	Compiler: clang 11.0.1

Windows Server 2019
	Kernel: 10.0
	Compiler: clang 14.0 and gcc 8.1.0 (MinGW)

Fedora 38
	Kernel: Depends on container host
	Compiler: gcc 13.1.1

CentOS Stream 8
	Kernel: 4.18.0-240.10.1.el8_3.x86_64
	Compiler: gcc 8.4.1 20200928

Fedora 37
	Kernel: Depends on container host system
	Compiler: gcc 12.3.1

CentOS Stream 9
	Kernel: 4.18.0-240.10.1.el8_3.x86_64
	Compiler: gcc 11.3.1 20220421

To view detailed results, visit:
https://lab.dpdk.org/results/dashboard/patchsets/28612/

UNH-IOL DPDK Community Lab

To manage your email subscriptions, visit: 
https://lab.dpdk.org/results/dashboard/preferences/subscriptions/