From mboxrd@z Thu Jan  1 00:00:00 1970
Return-Path: <test-report-bounces@dpdk.org>
Received: from mails.dpdk.org (mails.dpdk.org [217.70.189.124])
	by inbox.dpdk.org (Postfix) with ESMTP id 80795436F2
	for <public@inbox.dpdk.org>; Thu, 14 Dec 2023 19:05:48 +0100 (CET)
Received: from mails.dpdk.org (localhost [127.0.0.1])
	by mails.dpdk.org (Postfix) with ESMTP id 7A97D4333E;
	Thu, 14 Dec 2023 19:05:48 +0100 (CET)
Received: from mail-qk1-f226.google.com (mail-qk1-f226.google.com
 [209.85.222.226])
 by mails.dpdk.org (Postfix) with ESMTP id CA9864334D
 for <test-report@dpdk.org>; Thu, 14 Dec 2023 19:05:42 +0100 (CET)
Received: by mail-qk1-f226.google.com with SMTP id
 af79cd13be357-77f59fcb204so363406085a.3
 for <test-report@dpdk.org>; Thu, 14 Dec 2023 10:05:42 -0800 (PST)
DKIM-Signature: v=1; a=rsa-sha256; c=relaxed/relaxed;
 d=iol.unh.edu; s=unh-iol; t=1702577142; x=1703181942; darn=dpdk.org;
 h=cc:to:from:subject:message-id:date:from:to:cc:subject:date
 :message-id:reply-to;
 bh=9msZv1VL+GlDwbZUPPX6sQkDQdN3AmTcQfMe/8+MM/o=;
 b=LIXNSJI4Gx5ZC/e9kgPjJGgx4mBQEljRdi2ZcZnp840LwOvJ0G5gebBab2ONAGRUvb
 iXBIHHo6y0rwvtWC7EMM+esmOqZsxX8CIZ48Vy7QIYNqgAlBZ5BWuqVh28SYGx5E0Uvj
 UJhWihLovr+w2R1blRD5iazu+oZyOGzb/KC/8=
X-Google-DKIM-Signature: v=1; a=rsa-sha256; c=relaxed/relaxed;
 d=1e100.net; s=20230601; t=1702577142; x=1703181942;
 h=cc:to:from:subject:message-id:date:x-gm-message-state:from:to:cc
 :subject:date:message-id:reply-to;
 bh=9msZv1VL+GlDwbZUPPX6sQkDQdN3AmTcQfMe/8+MM/o=;
 b=l1JocHCLpvNoEVz58cJmd+Cv/1oDIYXTMp8Vjz2d9KG6H6KGvvgz9nKiM+ljbITSqZ
 bJZ1LgviAeUJjAA8Hjt+O0vT36fOaiJG1l7l7QJfmypi97xLBCRhxGcZrbJEq7PKmuUK
 ZFppYzMc6AP6p4o7npHQLwqT4EqIN4XowAHnJ3U9g6tV2+GNRblqXHzLwiaxmrBrTLdF
 SuN+7pZP8jQ43YvQTwJzWrFoahcpktDUVH4a44IqiSFF6XFNt5vhKhDjTi2UQwj88325
 Q0U/975lyOVae5DYvwtzEPMnx+oMIb63fLDrFcgAZ+4sHwp++Ne6MXwDcX8KSL8wk/+j
 BDXA==
X-Gm-Message-State: AOJu0YxIFKItItDRokx1yXOWupPYbz5FbCQXOHE43td34tuKYAajAU1h
 Qx+BDGZaq2iLRLiVSy+jd3lSJqCfZ/Cf7seId6rrZjECjoClD7C6/I3v2g==
X-Google-Smtp-Source: AGHT+IEXHikfrGhcMU4dj5XJVsMeNRzA5N+aPDcMdK4IGmPZws4+y83IA9L2o/KNxrtrv4fc6NL9ZXgjMDE8
X-Received: by 2002:a05:6214:2405:b0:67f:11cc:d0de with SMTP id
 fv5-20020a056214240500b0067f11ccd0demr1020535qvb.113.1702577142270; 
 Thu, 14 Dec 2023 10:05:42 -0800 (PST)
Received: from postal.iol.unh.edu (postal.iol.unh.edu. [132.177.123.84])
 by smtp-relay.gmail.com with ESMTPS id
 mn11-20020a0562145ecb00b0067ef2deb21esm272178qvb.65.2023.12.14.10.05.42
 (version=TLS1_2 cipher=ECDHE-ECDSA-AES128-GCM-SHA256 bits=128/128);
 Thu, 14 Dec 2023 10:05:42 -0800 (PST)
X-Relaying-Domain: iol.unh.edu
Date: Thu, 14 Dec 2023 10:05:42 -0800 (PST)
Message-ID: <657b43f6.050a0220.8e008.ad02SMTPIN_ADDED_MISSING@mx.google.com>
Received: from [172.21.0.3] (unknown [172.18.0.240])
 by postal.iol.unh.edu (Postfix) with ESMTP id 009B0605C311;
 Thu, 14 Dec 2023 13:05:42 -0500 (EST)
Subject: |SUCCESS| pw135193 [PATCH] [v2] net/iavf: fix no polling mode switch
From: dpdklab@iol.unh.edu
To: Test Report <test-report@dpdk.org>
Cc: dpdk-test-reports@iol.unh.edu
Content-Type: text/plain
X-BeenThere: test-report@dpdk.org
X-Mailman-Version: 2.1.29
Precedence: list
List-Id: automatic DPDK test reports <test-report.dpdk.org>
List-Unsubscribe: <https://mails.dpdk.org/options/test-report>,
 <mailto:test-report-request@dpdk.org?subject=unsubscribe>
List-Archive: <http://mails.dpdk.org/archives/test-report/>
List-Post: <mailto:test-report@dpdk.org>
List-Help: <mailto:test-report-request@dpdk.org?subject=help>
List-Subscribe: <https://mails.dpdk.org/listinfo/test-report>,
 <mailto:test-report-request@dpdk.org?subject=subscribe>
Errors-To: test-report-bounces@dpdk.org

Test-Label: iol-compile-amd64-testing
Test-Status: SUCCESS
http://dpdk.org/patch/135193

_Testing PASS_

Submitter: Mingjin Ye <mingjinx.ye@intel.com>
Date: Thursday, December 14 2023 10:33:02 
DPDK git baseline: Repo:dpdk
  Branch: master
  CommitID:e5dc404d33ac1c6cea5c62a88489746c5cb5e35e

135193 --> testing pass

Test environment and result as below:

+---------------------+--------------------+----------------------+
|     Environment     | dpdk_meson_compile | dpdk_mingw64_compile |
+=====================+====================+======================+
| Windows Server 2022 | PASS               | SKIPPED              |
+---------------------+--------------------+----------------------+
| FreeBSD 13          | PASS               | SKIPPED              |
+---------------------+--------------------+----------------------+
| Windows Server 2019 | PASS               | PASS                 |
+---------------------+--------------------+----------------------+


Windows Server 2022
	Kernel: OS Build 20348.2031
	Compiler: MSVC VS-Preview

FreeBSD 13
	Kernel: 13.0
	Compiler: clang 11.0.1

Windows Server 2019
	Kernel: 10.0
	Compiler: clang 14.0 and gcc 8.1.0 (MinGW)

To view detailed results, visit:
https://lab.dpdk.org/results/dashboard/patchsets/28622/

UNH-IOL DPDK Community Lab

To manage your email subscriptions, visit: 
https://lab.dpdk.org/results/dashboard/preferences/subscriptions/