From mboxrd@z Thu Jan  1 00:00:00 1970
Return-Path: <test-report-bounces@dpdk.org>
Received: from mails.dpdk.org (mails.dpdk.org [217.70.189.124])
	by inbox.dpdk.org (Postfix) with ESMTP id 1C139436F3
	for <public@inbox.dpdk.org>; Thu, 14 Dec 2023 20:11:31 +0100 (CET)
Received: from mails.dpdk.org (localhost [127.0.0.1])
	by mails.dpdk.org (Postfix) with ESMTP id 17B5C4333E;
	Thu, 14 Dec 2023 20:11:31 +0100 (CET)
Received: from mail-qv1-f100.google.com (mail-qv1-f100.google.com
 [209.85.219.100])
 by mails.dpdk.org (Postfix) with ESMTP id D978D4333C
 for <test-report@dpdk.org>; Thu, 14 Dec 2023 20:11:29 +0100 (CET)
Received: by mail-qv1-f100.google.com with SMTP id
 6a1803df08f44-67f0d22e4faso4809946d6.3
 for <test-report@dpdk.org>; Thu, 14 Dec 2023 11:11:29 -0800 (PST)
DKIM-Signature: v=1; a=rsa-sha256; c=relaxed/relaxed;
 d=iol.unh.edu; s=unh-iol; t=1702581089; x=1703185889; darn=dpdk.org;
 h=cc:to:from:subject:message-id:date:from:to:cc:subject:date
 :message-id:reply-to;
 bh=YEJ0R1+yUPmn0ePZIwtkouN1SC4A1Kf/vWleGQP2cog=;
 b=eXPl43YU6Fh7QwkOqaT+mVkrVn6mLAhV0R9REJxK08/pBtkfaLwKCE4uUaVaTC79XH
 x8cqICp8fritNKlanN/pCO+Z+WkFVscl6vvpduwlS/WrUQQybWNPUIEdUAgNSti359l9
 dBW5D4NquMviKWsZsxFHsV480kRdap9u+22dA=
X-Google-DKIM-Signature: v=1; a=rsa-sha256; c=relaxed/relaxed;
 d=1e100.net; s=20230601; t=1702581089; x=1703185889;
 h=cc:to:from:subject:message-id:date:x-gm-message-state:from:to:cc
 :subject:date:message-id:reply-to;
 bh=YEJ0R1+yUPmn0ePZIwtkouN1SC4A1Kf/vWleGQP2cog=;
 b=j2+eVMsrm7D/+xESgKFfSxN9F0iMOSaOii754whSXfsig3Vyg7l0n2N7WsgzJvLJ9a
 yS378SGHvvFubbO4k1eoq62cxpJ7Qy89IsSoN/xCeb1DC0P06Hy0SsHfW3p6+OSeIhc3
 l6ALbigF1MK+pXmrYD9xsu4XEVk37I5lauzIrTEcE0Q9iPZ482WyYYkd6jzjFli7Pbe0
 CterB96V8SSobXXCB4dxF7NL2l96pAbfA9ahT1yXPffwEWqnViuKSdytw6UvjMkRvWzj
 bZFJqLvDAHvLqY+KAjLf5fGoMLwHbpzChoO3rTipdk6QDg/C4YHtM7yrl5TDY+Zy4qsV
 EXWA==
X-Gm-Message-State: AOJu0Yy2utWzZRyjjql1cvg5qhE/OfFRBW0+MBnLL2AfhJHLye945BRk
 Mk8acnbTw4my41hI8zLx0FGBEpzDR1XOybEPIx3nM+ILYd/ncr7KnX1SDtQDCF3ZMGVr7iYDRA=
 =
X-Google-Smtp-Source: AGHT+IECtl9QlF48ihHiVAgRKAaYcTw1VQu8fjW7ODYikd03rw1SJBrw2pcyvPewvR4iQHqYswspF+0dMzeX
X-Received: by 2002:a05:6214:cc6:b0:67f:4c0:4f1a with SMTP id
 6-20020a0562140cc600b0067f04c04f1amr3717918qvx.1.1702581089331; 
 Thu, 14 Dec 2023 11:11:29 -0800 (PST)
Received: from postal.iol.unh.edu (postal.iol.unh.edu.
 [2606:4100:3880:1234::84]) by smtp-relay.gmail.com with ESMTPS id
 m20-20020a0cdb94000000b0067f04a4e7c5sm129147qvk.6.2023.12.14.11.11.29
 (version=TLS1_2 cipher=ECDHE-ECDSA-AES128-GCM-SHA256 bits=128/128);
 Thu, 14 Dec 2023 11:11:29 -0800 (PST)
X-Relaying-Domain: iol.unh.edu
Date: Thu, 14 Dec 2023 11:11:29 -0800 (PST)
Message-ID: <657b5361.0c0a0220.3a8da.49b5SMTPIN_ADDED_MISSING@mx.google.com>
Received: from [172.21.0.4] (unknown [172.18.0.240])
 by postal.iol.unh.edu (Postfix) with ESMTP id 17E59605C311;
 Thu, 14 Dec 2023 14:11:29 -0500 (EST)
Subject: |SUCCESS| pw135193 [PATCH] [v2] net/iavf: fix no polling mode switch
From: dpdklab@iol.unh.edu
To: Test Report <test-report@dpdk.org>
Cc: dpdk-test-reports@iol.unh.edu
Content-Type: text/plain
X-BeenThere: test-report@dpdk.org
X-Mailman-Version: 2.1.29
Precedence: list
List-Id: automatic DPDK test reports <test-report.dpdk.org>
List-Unsubscribe: <https://mails.dpdk.org/options/test-report>,
 <mailto:test-report-request@dpdk.org?subject=unsubscribe>
List-Archive: <http://mails.dpdk.org/archives/test-report/>
List-Post: <mailto:test-report@dpdk.org>
List-Help: <mailto:test-report-request@dpdk.org?subject=help>
List-Subscribe: <https://mails.dpdk.org/listinfo/test-report>,
 <mailto:test-report-request@dpdk.org?subject=subscribe>
Errors-To: test-report-bounces@dpdk.org

Test-Label: iol-unit-arm64-testing
Test-Status: SUCCESS
http://dpdk.org/patch/135193

_Testing PASS_

Submitter: Mingjin Ye <mingjinx.ye@intel.com>
Date: Thursday, December 14 2023 10:33:02 
DPDK git baseline: Repo:dpdk
  Branch: master
  CommitID:e5dc404d33ac1c6cea5c62a88489746c5cb5e35e

135193 --> testing pass

Test environment and result as below:

+--------------------------+------------------------------+---------------------------+----------------+
|       Environment        | cryptodev_sw_snow3g_autotest | cryptodev_sw_zuc_autotest | dpdk_unit_test |
+==========================+==============================+===========================+================+
| Debian 11 (arm)          | PASS                         | PASS                      | SKIPPED        |
+--------------------------+------------------------------+---------------------------+----------------+
| CentOS Stream 9 (ARM)    | SKIPPED                      | SKIPPED                   | PASS           |
+--------------------------+------------------------------+---------------------------+----------------+
| Fedora 37 (ARM)          | SKIPPED                      | SKIPPED                   | PASS           |
+--------------------------+------------------------------+---------------------------+----------------+
| Fedora 38 (ARM)          | SKIPPED                      | SKIPPED                   | PASS           |
+--------------------------+------------------------------+---------------------------+----------------+
| Debian 11 (Buster) (ARM) | SKIPPED                      | SKIPPED                   | PASS           |
+--------------------------+------------------------------+---------------------------+----------------+
| Ubuntu 20.04 (ARM)       | SKIPPED                      | SKIPPED                   | PASS           |
+--------------------------+------------------------------+---------------------------+----------------+
| Fedora 38 (ARM Clang)    | SKIPPED                      | SKIPPED                   | PASS           |
+--------------------------+------------------------------+---------------------------+----------------+


Debian 11 (arm)
	Kernel: Container Host Kernel
	Compiler: gcc 10.2.1

CentOS Stream 9 (ARM)
	Kernel: Container Host Kernel
	Compiler: gcc 11.3.1

Fedora 37 (ARM)
	Kernel: Depends on container host
	Compiler: gcc 12.3.1

Fedora 38 (ARM)
	Kernel: Depends on container host
	Compiler: gcc 13.1.1

Debian 11 (Buster) (ARM)
	Kernel: Container Host Kernel
	Compiler: gcc 10.2.1

Ubuntu 20.04 (ARM)
	Kernel: Container Host Kernel
	Compiler: gcc 9.4.0

Fedora 38 (ARM Clang)
	Kernel: Depends on container host
	Compiler: clang 16.0.3

To view detailed results, visit:
https://lab.dpdk.org/results/dashboard/patchsets/28622/

UNH-IOL DPDK Community Lab

To manage your email subscriptions, visit: 
https://lab.dpdk.org/results/dashboard/preferences/subscriptions/