From mboxrd@z Thu Jan 1 00:00:00 1970 Return-Path: Received: from mails.dpdk.org (mails.dpdk.org [217.70.189.124]) by inbox.dpdk.org (Postfix) with ESMTP id B070143706 for ; Sat, 16 Dec 2023 06:33:33 +0100 (CET) Received: from mails.dpdk.org (localhost [127.0.0.1]) by mails.dpdk.org (Postfix) with ESMTP id AD205402AA; Sat, 16 Dec 2023 06:33:33 +0100 (CET) Received: from mail-pl1-f226.google.com (mail-pl1-f226.google.com [209.85.214.226]) by mails.dpdk.org (Postfix) with ESMTP id F3121402A8 for ; Sat, 16 Dec 2023 06:33:31 +0100 (CET) Received: by mail-pl1-f226.google.com with SMTP id d9443c01a7336-1d39afa1eecso1662855ad.2 for ; Fri, 15 Dec 2023 21:33:31 -0800 (PST) DKIM-Signature: v=1; a=rsa-sha256; c=relaxed/relaxed; d=iol.unh.edu; s=unh-iol; t=1702704811; x=1703309611; darn=dpdk.org; h=cc:to:from:subject:message-id:date:from:to:cc:subject:date :message-id:reply-to; bh=IUjaA75k3MpawS+VRwqKAAb3NmXyj0THTWkewRVDvpI=; b=PPWmVj+sDiscre5OAhtO97excBkNDhRRVGRE6tix+0coCIlm7frqwiOBIslNlW6OxD zq1eKTMUXLxVl8Jzj4YUmMHZWjbpfhdEo6vv3N+KGsgR0Jhz9jZ3sHHfSKlKqVf9SVav vZvQ8gfHM/0x2hj1zRbx5v1msLys7/I5YCF18= X-Google-DKIM-Signature: v=1; a=rsa-sha256; c=relaxed/relaxed; d=1e100.net; s=20230601; t=1702704811; x=1703309611; h=cc:to:from:subject:message-id:date:x-gm-message-state:from:to:cc :subject:date:message-id:reply-to; bh=IUjaA75k3MpawS+VRwqKAAb3NmXyj0THTWkewRVDvpI=; b=Bj/iasdxINBflVc36VOuaAKEkHBZOLiCUu6HZmKFh1d1D34cbQUVKyGevrOVS7jYvM QxSEXZumeLoeHY6+as6fSWC74O5WR7ePKTbrNkXX/rSQLgNHGKEKrV+MAM53aL2Icswl jvuil5E1gYVVrGHYGXq+Rbm+U0LQr31W2eHS2e6a4MfqLluu+IHMnKVgLnl2c1orpcC/ mCmMhRW+5tDyXFyvq/7BW6lRjDZ4XuN9d9oxsT2K2aPUVHLntZw1/0rfthcpwbCU7CnX 3FPdU85+M05TgaCc0S3Sw6EqvOm8cXCeIDi+UQDYLZuqd9RjxuOppd+FiMjn4TNyBH8G 6/KA== X-Gm-Message-State: AOJu0YxP2xQtQ7z7qgib1Xm8OaFDh5ef88xDV8ToWM2BgjD7iuFB/YYx XQEbutVjRvRJQvhK2sBhQA/M+UwdiVTb+DDjsuPpdP4rVOL25e3YpESmxAdPGTJ6Cw== X-Google-Smtp-Source: AGHT+IEh1LvIWFttpJCXqla3NC336jdKPHas8ySWD4zT4AynXoUbxhrUrxI+T7z/otjYJmKdJnW0z8be9bIh X-Received: by 2002:a17:902:d2c7:b0:1d0:6ffe:9fc with SMTP id n7-20020a170902d2c700b001d06ffe09fcmr15477879plc.90.1702704811141; Fri, 15 Dec 2023 21:33:31 -0800 (PST) Received: from postal.iol.unh.edu (postal.iol.unh.edu. [2606:4100:3880:1234::84]) by smtp-relay.gmail.com with ESMTPS id k10-20020a170902694a00b001cfcf432de1sm986627plt.14.2023.12.15.21.33.31 (version=TLS1_2 cipher=ECDHE-ECDSA-AES128-GCM-SHA256 bits=128/128); Fri, 15 Dec 2023 21:33:31 -0800 (PST) X-Relaying-Domain: iol.unh.edu Date: Fri, 15 Dec 2023 21:33:31 -0800 (PST) Message-ID: <657d36ab.170a0220.c9f34.fe4eSMTPIN_ADDED_MISSING@mx.google.com> Received: from [172.21.0.2] (unknown [172.18.0.240]) by postal.iol.unh.edu (Postfix) with ESMTP id 9A94A6051831; Sat, 16 Dec 2023 00:33:30 -0500 (EST) Subject: |SUCCESS| [GIT MASTER] 7849366693a2a2cbc5279a6bfd39cbb457fe7c96 From: dpdklab@iol.unh.edu To: Test Report Cc: dpdk-test-reports@iol.unh.edu, Xueming Li , Christian Ehrhardt , Kevin Traynor , Luca Boccassi Content-Type: text/plain X-BeenThere: test-report@dpdk.org X-Mailman-Version: 2.1.29 Precedence: list List-Id: automatic DPDK test reports List-Unsubscribe: , List-Archive: List-Post: List-Help: List-Subscribe: , Errors-To: test-report-bounces@dpdk.org _Testing PASS_ Branch: tags/v22.11 7849366693a2a2cbc5279a6bfd39cbb457fe7c96 --> testing pass Test environment and result as below: +--------------------------+--------------------+ | Environment | dpdk_meson_compile | +==========================+====================+ | Ubuntu 20.04 ARM SVE | PASS | +--------------------------+--------------------+ | Fedora 38 (ARM) | PASS | +--------------------------+--------------------+ | Fedora 37 (ARM) | PASS | +--------------------------+--------------------+ | Debian 11 (Buster) (ARM) | PASS | +--------------------------+--------------------+ | Ubuntu 20.04 (ARM) | PASS | +--------------------------+--------------------+ | CentOS Stream 9 (ARM) | PASS | +--------------------------+--------------------+ Ubuntu 20.04 ARM SVE Kernel: 5.4.0-80-generic Compiler: gcc 10.3.0 (Ubuntu 10.3.0-1ubuntu1~20.04) Fedora 38 (ARM) Kernel: Depends on container host Compiler: gcc 13.1.1 Fedora 37 (ARM) Kernel: Depends on container host Compiler: gcc 12.3.1 Debian 11 (Buster) (ARM) Kernel: Container Host Kernel Compiler: gcc 10.2.1 Ubuntu 20.04 (ARM) Kernel: Container Host Kernel Compiler: gcc 9.4.0 CentOS Stream 9 (ARM) Kernel: Container Host Kernel Compiler: gcc 11.3.1 To view detailed results, visit: https://lab.dpdk.org/results/dashboard/tarballs/27370/ UNH-IOL DPDK Community Lab To manage your email subscriptions, visit: https://lab.dpdk.org/results/dashboard/preferences/subscriptions/