From mboxrd@z Thu Jan 1 00:00:00 1970 Return-Path: Received: from mails.dpdk.org (mails.dpdk.org [217.70.189.124]) by inbox.dpdk.org (Postfix) with ESMTP id EFC4043711 for ; Sun, 17 Dec 2023 07:02:17 +0100 (CET) Received: from mails.dpdk.org (localhost [127.0.0.1]) by mails.dpdk.org (Postfix) with ESMTP id EAFE140691; Sun, 17 Dec 2023 07:02:17 +0100 (CET) Received: from mail-io1-f100.google.com (mail-io1-f100.google.com [209.85.166.100]) by mails.dpdk.org (Postfix) with ESMTP id 566774026C for ; Sun, 17 Dec 2023 07:02:08 +0100 (CET) Received: by mail-io1-f100.google.com with SMTP id ca18e2360f4ac-7b6fc484b77so48522439f.0 for ; Sat, 16 Dec 2023 22:02:08 -0800 (PST) DKIM-Signature: v=1; a=rsa-sha256; c=relaxed/relaxed; d=iol.unh.edu; s=unh-iol; t=1702792927; x=1703397727; darn=dpdk.org; h=cc:to:from:subject:message-id:date:from:to:cc:subject:date :message-id:reply-to; bh=Sgfol9PBLFkNQ59cyPPbue/5GrTYNaxr414djyx093M=; b=FQf2tSvfX5MVsZVe8DHUPDX1X/QiAR/BPa8Ldp/7/1nGGYZvYofhC+vAHHNTR/BWj6 F2IvKcX+nxzUOUL+otCr6c6GoSBMvHypriOIQuW5NRDLXjJ6ar61QX9MaLawI0kKWHpW BTo+B562vy63n/Qd66GnoG7e2U3uSIpPFiYQY= X-Google-DKIM-Signature: v=1; a=rsa-sha256; c=relaxed/relaxed; d=1e100.net; s=20230601; t=1702792927; x=1703397727; h=cc:to:from:subject:message-id:date:x-gm-message-state:from:to:cc :subject:date:message-id:reply-to; bh=Sgfol9PBLFkNQ59cyPPbue/5GrTYNaxr414djyx093M=; b=agCDSEeL6L6Iokw0HTQki1eWAqdp/E4n59vRSvty4+ykPcJ+0PfOjWqDiGOMY7aS+h SYiTUoklzsV1oT7ejEdhi6BMe33DzHSx2wja68ApT2N/tzVhKCt2Yqt/H4dHYh/9IlKm /48mihjLQ8W/CKRskHsnCCyKP1ufIs8aSZT9I0Mcts6PFfYIMaa4nQSF5c5Z6yp8zuCQ /3mU9ow4V2oCYtlG39y5ZIIi9cTBFaiA+rc4LjYC4QluiPYDVrjZhDKwmtxjWERcSeua Lpw2BPkqBemckf9cLcrgZjRXhF0uSTPnW/zJ1YrWQfSsPDTuaaNseDnm8hMvpQS/nUmx CrcQ== X-Gm-Message-State: AOJu0Yyl827rs1XS5Suek5Br+uLiq8Uuqi6pfQPoIH4IpPaOCciv9XB3 UZ2vPvkQC4WC7uj5bEqI26xupVSXrz88zdW8tUkmudMJXdU/XrvkFFuW7g0RhIvLsA== X-Google-Smtp-Source: AGHT+IF0upxUW6xBzsKUeO5NtitpyyMYFlNwCt/rlez/xE+oA0Eqg23qDo3g56SSwuKzFIKfIsvAGloy61UP X-Received: by 2002:a6b:fd0a:0:b0:7a7:8595:76b7 with SMTP id c10-20020a6bfd0a000000b007a7859576b7mr11146200ioi.3.1702792927769; Sat, 16 Dec 2023 22:02:07 -0800 (PST) Received: from postal.iol.unh.edu (postal.iol.unh.edu. [2606:4100:3880:1234::84]) by smtp-relay.gmail.com with ESMTPS id fb13-20020a0566023f8d00b007b368fd3f75sm1183724iob.26.2023.12.16.22.02.07 (version=TLS1_2 cipher=ECDHE-ECDSA-AES128-GCM-SHA256 bits=128/128); Sat, 16 Dec 2023 22:02:07 -0800 (PST) X-Relaying-Domain: iol.unh.edu Date: Sat, 16 Dec 2023 22:02:07 -0800 (PST) Message-ID: <657e8edf.050a0220.b14aa.518fSMTPIN_ADDED_MISSING@mx.google.com> Received: from [172.21.0.5] (unknown [172.18.0.240]) by postal.iol.unh.edu (Postfix) with ESMTP id 34976605C311; Sun, 17 Dec 2023 01:02:07 -0500 (EST) Subject: |SUCCESS| [GIT MASTER] 7849366693a2a2cbc5279a6bfd39cbb457fe7c96 From: dpdklab@iol.unh.edu To: Test Report Cc: dpdk-test-reports@iol.unh.edu, Xueming Li , Christian Ehrhardt , Kevin Traynor , Luca Boccassi Content-Type: text/plain X-BeenThere: test-report@dpdk.org X-Mailman-Version: 2.1.29 Precedence: list List-Id: automatic DPDK test reports List-Unsubscribe: , List-Archive: List-Post: List-Help: List-Subscribe: , Errors-To: test-report-bounces@dpdk.org _Testing PASS_ Branch: tags/v22.11 7849366693a2a2cbc5279a6bfd39cbb457fe7c96 --> testing pass Test environment and result as below: +------------------+----------+ | Environment | abi_test | +==================+==========+ | Debian Buster | PASS | +------------------+----------+ | RHEL 7 | PASS | +------------------+----------+ | CentOS Stream 8 | PASS | +------------------+----------+ | Fedora 38 | PASS | +------------------+----------+ | openSUSE Leap 15 | PASS | +------------------+----------+ | Debian Bullseye | PASS | +------------------+----------+ | Ubuntu 22.04 | PASS | +------------------+----------+ | RHEL8 | PASS | +------------------+----------+ | CentOS Stream 9 | PASS | +------------------+----------+ | Fedora 37 | PASS | +------------------+----------+ Debian Buster Kernel: 5.4.0-122-generic Compiler: gcc 8.3.0-6 RHEL 7 Kernel: 4.18.0-240.10.1.el8_3.x86_64 Compiler: gcc 4.8.5 20150623 (Red Hat 4.8.5-44) CentOS Stream 8 Kernel: 4.18.0-240.10.1.el8_3.x86_64 Compiler: gcc 8.4.1 20200928 Fedora 38 Kernel: Depends on container host Compiler: clang 16.0.3 openSUSE Leap 15 Kernel: 4.18.0-240.10.1.el8_3.x86_64 Compiler: gcc 7.5.0 Debian Bullseye Kernel: 5.4.0-122-generic Compiler: gcc 10.2.1-6 Ubuntu 22.04 Kernel: 4.18.0-240.10.1.el8_3.x86_64 Compiler: gcc 11.3.0 RHEL8 Kernel: 4.18.0-240.10.1.el8_3.x86_64 Compiler: gcc 8.3.1 20191121 (Red Hat 8.3.1-5) CentOS Stream 9 Kernel: 4.18.0-240.10.1.el8_3.x86_64 Compiler: gcc 11.3.1 20220421 Fedora 37 Kernel: Depends on container host system Compiler: gcc 12.3.1 To view detailed results, visit: https://lab.dpdk.org/results/dashboard/tarballs/27372/ UNH-IOL DPDK Community Lab To manage your email subscriptions, visit: https://lab.dpdk.org/results/dashboard/preferences/subscriptions/